BEGIN:VCALENDAR
VERSION:2.0
PRODID:-//American Job Center in Wheeling - ECPv6.0.13.1//NONSGML v1.0//EN
CALSCALE:GREGORIAN
METHOD:PUBLISH
X-WR-CALNAME:American Job Center in Wheeling
X-ORIGINAL-URL:https://www.ajcwheeling.com
X-WR-CALDESC:Events for American Job Center in Wheeling
REFRESH-INTERVAL;VALUE=DURATION:PT1H
X-Robots-Tag:noindex
X-PUBLISHED-TTL:PT1H
BEGIN:VTIMEZONE
TZID:America/Chicago
BEGIN:DAYLIGHT
TZOFFSETFROM:-0600
TZOFFSETTO:-0500
TZNAME:CDT
DTSTART:20230312T080000
END:DAYLIGHT
BEGIN:STANDARD
TZOFFSETFROM:-0500
TZOFFSETTO:-0600
TZNAME:CST
DTSTART:20231105T070000
END:STANDARD
END:VTIMEZONE
BEGIN:VEVENT
DTSTART;TZID=America/Chicago:20230802T093000
DTEND;TZID=America/Chicago:20230802T110000
DTSTAMP:20260425T214652
CREATED:20230714T205228Z
LAST-MODIFIED:20230714T205228Z
UID:10005028-1690968600-1690974000@www.ajcwheeling.com
SUMMARY:Excel Basics-Part 1 (VIRTUAL)
DESCRIPTION:Excel Basics (Part 1): How spreadsheets work\, basic formulas\, functions\, and formatting\n\n\nThis webinar is part 1 of a 3-part webinar series designed to introduce key concepts crucial to building a working knowledge of MS Excel. In this webinar we’ll talk about the Excel environment\, explore basic formulas and functions\, and discuss spreadsheet formatting options. \nPreregistration is required to attend.\n \n\nRegistration ends by 5pm the day prior to the Webinar. \nOnce you register on Eventbrite\, you will receive an email from the instructor through GoToWebinar with the link to join this class.\n\nFor an optimal webinar experience when registering and attending these virtual workshop\, the following is recommended: \n\nUSE the following email accounts-Gmail (google.com) or Outlook (outlook.com)\nRegister and attend the workshop with either browser-Google Chrome or Microsoft Edge\nIf you don’t receive the emails in your inbox\, please check your JUNK/SPAM Folder\nSessions are CST\nSign in 10 minutes prior to the webinar\n\nYou’ll receive the following emails. Last two have Join Webinar/LINK to attend \n\nEventbrite: Email Confirmation from Eventbrite which is ONLY your E-Ticket Summary\nGoToWebinar: Email Registration Confirmation of Computer Webinar from instructor to Click JOIN WEBINAR (LINK)\nGoToWebinar: Email Reminder ONE DAY PRIOR to Computer Webinar from instructor to Click JOIN WEBINAR (LINK)\n\nNote: There’s NO access code\, you’ll receive JOIN WEBINAR/LINK in your 2nd& 3rd emails.  \nInformation/Cancel workshop-send email to webinar.organizer6@gmail.com \nYou can also send a note via Eventbrite website in the ticket order email section. \nThe North Suburban Cook County American Job Center is committed to providing all customers with quality\, professional services as well as a safe and comfortable learning environment. The use of our resources implies acceptance of our Customer Code of Conduct\, which is based on the principle of respect for all customers and staff. READ: https://www.ajcwheeling.com/wp-content/uploads/2020/08/Customer-Code-of-Conduct-handout.pdf \nQUESTIONS? EMAIL: contact@bcsillinois.org
URL:https://www.ajcwheeling.com/event/excel-basics-part-1-virtual-4/
ATTACH;FMTTYPE=image/jpeg:https://www.ajcwheeling.com/wp-content/uploads/2023/07/57646602d2c0a2fb83a5d5af341ee2f5.jpg
END:VEVENT
BEGIN:VEVENT
DTSTART;TZID=America/Chicago:20230802T100000
DTEND;TZID=America/Chicago:20230802T140000
DTSTAMP:20260425T214652
CREATED:20230808T000910Z
LAST-MODIFIED:20230808T000910Z
UID:10005061-1690970400-1690984800@www.ajcwheeling.com
SUMMARY:TURNER PASCHEN AVIATION JOB FAIR
DESCRIPTION:Meet our prime contractors and their hiring managers\nfor current construction job opportunities at O’Hare\nInternational Airport. \nEvent Information: Wednesday\, August 2nd from 10am to 12pm \nLocation: 2622 West Jackson Boulevard\, Chicago\, IL 60612 \nPreregistration is not required. Please contact Lorinda Williams at\nlwilliams@tpapord.com with any questions.
URL:https://www.ajcwheeling.com/event/turner-paschen-aviation-job-fair/
LOCATION:Turner Paschen\, 2622 West Jackson Boulevard\, Chicago\, IL\, 60612\, United States
CATEGORIES:Job Fair
ATTACH;FMTTYPE=image/jpeg:https://www.ajcwheeling.com/wp-content/uploads/2023/08/2023.08.02-Aviation-Job-Fair.jpg
END:VEVENT
BEGIN:VEVENT
DTSTART;TZID=America/Chicago:20230802T130000
DTEND;TZID=America/Chicago:20230802T143000
DTSTAMP:20260425T214652
CREATED:20230714T203834Z
LAST-MODIFIED:20230802T192944Z
UID:10005027-1690981200-1690986600@www.ajcwheeling.com
SUMMARY:Word Basics - (Virtual class)
DESCRIPTION:MS Word Basics: Basic editing and formatting: fonts\, bulleted lists\, indentation\, line spacing\, tabs\, and printing\n\n\nRegistration ends by 5pm the day prior to the Webinar. Once you register on Eventbrite\, you will receive an email from the instructor through GoToWebinar with the link to join this class. \nPreregistration is required to attend. \n \nThis 90-minute webinar is designed to introduce key concepts crucial to building a working knowledge of MS Word. In this webinar we’ll talk about the Word environment\, explore the essential editing/formatting tools necessary to create basic documents\, and discuss the various options for saving and printing in Word. \nThe North Suburban Cook County American Job Center is committed to providing all customers with quality\, professional services as well as a safe and comfortable learning environment. The use of our resources implies acceptance of our Customer Code of Conduct\, which is based on the principle of respect for all customers and staff. READ: https://www.ajcwheeling.com/wp-content/uploads/2020/08/Customer-Code-of-Conduct-handout.pdf
URL:https://www.ajcwheeling.com/event/__trashed-290/
ATTACH;FMTTYPE=image/jpeg:https://www.ajcwheeling.com/wp-content/uploads/2023/07/7f44a20303309eaf917127e8169f6953.jpg
END:VEVENT
END:VCALENDAR