BEGIN:VCALENDAR
VERSION:2.0
PRODID:-//American Job Center in Wheeling - ECPv6.0.13.1//NONSGML v1.0//EN
CALSCALE:GREGORIAN
METHOD:PUBLISH
X-WR-CALNAME:American Job Center in Wheeling
X-ORIGINAL-URL:https://www.ajcwheeling.com
X-WR-CALDESC:Events for American Job Center in Wheeling
REFRESH-INTERVAL;VALUE=DURATION:PT1H
X-Robots-Tag:noindex
X-PUBLISHED-TTL:PT1H
BEGIN:VTIMEZONE
TZID:America/Chicago
BEGIN:DAYLIGHT
TZOFFSETFROM:-0600
TZOFFSETTO:-0500
TZNAME:CDT
DTSTART:20230312T080000
END:DAYLIGHT
BEGIN:STANDARD
TZOFFSETFROM:-0500
TZOFFSETTO:-0600
TZNAME:CST
DTSTART:20231105T070000
END:STANDARD
END:VTIMEZONE
BEGIN:VEVENT
DTSTART;TZID=America/Chicago:20230810T093000
DTEND;TZID=America/Chicago:20230810T110000
DTSTAMP:20260425T214644
CREATED:20230714T210354Z
LAST-MODIFIED:20230714T210354Z
UID:10005034-1691659800-1691665200@www.ajcwheeling.com
SUMMARY:EXCEL Focus on Functions - VLOOKUP (VIRTUAL)
DESCRIPTION:This is 90-minute webinar is part series. VLOOKUP is a must-have Excel function that’s used to manipulate data\n\n\nVLOOKUP is a must-have Excel function that’s used to manipulate data. In this 90-minute webinar we’ll explore VLOOKUP and the additional options that make it such a useful tool – and then delve deeper into the Lookup and Reference Function options. Lookup and Reference: explore VLOOKUP\, HLOOKUP and alternatives like INDEX and MATCH. \nRegistration ends by 5pm the day prior to the Webinar. Once you register on Eventbrite\, you will receive an email from the instructor through GoToWebinar with the link to join this class. \nPreregistration is required to attend. \n \nFor an optimal webinar experience when registering and attending these virtual workshop\, the following is recommended: \n\nUSE the following email accounts-Gmail (google.com) or Outlook (outlook.com)\nRegister and attend the workshop with either browser-Google Chrome or Microsoft Edge\nIf you don’t receive the emails in your inbox\, please check your JUNK/SPAM Folder\nSessions are CST\nSign in 10 minutes prior to the webinar\n\nYou’ll receive the following emails. Last two have Join Webinar/LINK to attend \n\nEventbrite: Email Confirmation from Eventbrite which is ONLY your E-Ticket Summary\nGoToWebinar: Email Registration Confirmation of Computer Webinar from instructor to Click JOIN WEBINAR (LINK)\nGoToWebinar: Email Reminder ONE DAY PRIOR to Computer Webinar from instructor to Click JOIN WEBINAR (LINK)\n\nNote: There’s NO access code\, you’ll receive JOIN WEBINAR/LINK in your 2nd& 3rd emails. \nInformation/Cancel workshop-send email to webinar.organizer6@gmail.com \nYou can also send a note via Eventbrite website in the ticket order email section. \nThe North Suburban Cook County American Job Center is committed to providing all customers with quality\, professional services as well as a safe and comfortable learning environment. The use of our resources implies acceptance of our Customer Code of Conduct\, which is based on the principle of respect for all customers and staff. READ: https://www.ajcwheeling.com/wp-content/uploads/2020/08/Customer-Code-of-Conduct-handout.pdf \nQUESTIONS? EMAIL: contact@bcsillinois.org \nSubject to change without notice.
URL:https://www.ajcwheeling.com/event/excel-focus-on-functions-vlookup-virtual-7/
ATTACH;FMTTYPE=image/jpeg:https://www.ajcwheeling.com/wp-content/uploads/2023/07/b51c5adec7849ab28b7d550c450baa86.jpg
END:VEVENT
BEGIN:VEVENT
DTSTART;TZID=America/Chicago:20230810T130000
DTEND;TZID=America/Chicago:20230810T143000
DTSTAMP:20260425T214644
CREATED:20230714T210521Z
LAST-MODIFIED:20230714T210521Z
UID:10005035-1691672400-1691677800@www.ajcwheeling.com
SUMMARY:PowerPoint Beyond the Basics - VIRTUAL
DESCRIPTION:PowerPoint Beyond the Basics: Intermediate level overview including animation\, Slide Masters\, sound\, and looped presentations\n\n\nThis VIRTUAL WEBINAR is designed to introduce key concepts crucial to building a working knowledge of Microsoft PowerPoint. In this class we’ll talk about intermediate level concepts including animation\, Slide Masters\, sound\, and looped presentations. \nPRE-REGISTRATION IS REQUIRED FOR ATTENDING THIS WORKSHOP! \n \nRegistration ends by 5pm the day prior to the Webinar. Once you register on Eventbrite\, you will receive an email from the instructor through GoToWebinar with the link to join this class. \nFor an optimal webinar experience when registering and attending these virtual workshop\, the following is recommended: \n\nUSE the following email accounts-Gmail (google.com) or Outlook (outlook.com)\nRegister and attend the workshop with either browser-Google Chrome or Microsoft Edge\nIf you don’t receive the emails in your inbox\, please check your JUNK/SPAM Folder\nSessions are CST\nSign in 10 minutes prior to the webinar\n\nYou’ll receive the following emails. Last two have Join Webinar/LINK to attend \n\nEventbrite: Email Confirmation from Eventbrite which is ONLY your E-Ticket Summary\nGoToWebinar: Email Registration Confirmation of Computer Webinar from instructor to Click JOIN WEBINAR (LINK)\nGoToWebinar: Email Reminder ONE DAY PRIOR to Computer Webinar from instructor to Click JOIN WEBINAR (LINK)\n\nNote: There’s NO access code\, you’ll receive JOIN WEBINAR/LINK in your 2nd& 3rd emails. \nInformation/Cancel workshop-send email to webinar.organizer6@gmail.com \nYou can also send a note via Eventbrite website in the ticket order email section. \nThe North Suburban Cook County American Job Center is committed to providing all customers with quality\, professional services as well as a safe and comfortable learning environment. The use of our resources implies acceptance of our Customer Code of Conduct\, which is based on the principle of respect for all customers and staff. READ: https://www.ajcwheeling.com/wp-content/uploads/2020/08/Customer-Code-of-Conduct-handout.pdf \nQUESTIONS? EMAIL: contact@bcsillinois.org \nSubject to change without notice.
URL:https://www.ajcwheeling.com/event/powerpoint-beyond-the-basics-virtual-3/
ATTACH;FMTTYPE=image/jpeg:https://www.ajcwheeling.com/wp-content/uploads/2023/07/f02ec2d7a5b22ce9f9f546440774f392.jpg
END:VEVENT
BEGIN:VEVENT
DTSTART;TZID=America/Chicago:20230810T130000
DTEND;TZID=America/Chicago:20230810T153000
DTSTAMP:20260425T214644
CREATED:20230807T182330Z
LAST-MODIFIED:20230807T182330Z
UID:10005058-1691672400-1691681400@www.ajcwheeling.com
SUMMARY:IDES JOB FAIR
DESCRIPTION:  \nSTATE- MUNICIPAL – FEDERAL POSITIONS! \nIDES / Arlington Heights Memorial Library\nJoin us for a Job Fair at the Arlington Heights Memorial Library\, where Job Seekers have the opportunity to meet over 30 employers who have immediate employment openings and are ready to hire.  Bring copies of your resume and be prepared to interview with some employers on the spot! \n \nDownload flyer click below \n2023.08.10 -State Municipal Federal AH Job Fair rev. 8.3.2023
URL:https://www.ajcwheeling.com/event/join-us-for-a-job-fair-at-the-arlington-heights-memorial-library-on-aug-10-where-job-seekers-have-the-opportunity-to-meet-over-30-employers/
LOCATION:Arlington Heights Library\, 500 N. Dunton Avenue\, Arlington Heights\, IL\, 60004\, United States
CATEGORIES:Job Fair
ATTACH;FMTTYPE=image/jpeg:https://www.ajcwheeling.com/wp-content/uploads/2023/08/2023.08.10-State-Municipal-Federal-AH-Job-Fair-rev.-8.3.23.jpg
END:VEVENT
END:VCALENDAR