BEGIN:VCALENDAR
VERSION:2.0
PRODID:-//American Job Center in Wheeling - ECPv6.0.13.1//NONSGML v1.0//EN
CALSCALE:GREGORIAN
METHOD:PUBLISH
X-WR-CALNAME:American Job Center in Wheeling
X-ORIGINAL-URL:https://www.ajcwheeling.com
X-WR-CALDESC:Events for American Job Center in Wheeling
REFRESH-INTERVAL;VALUE=DURATION:PT1H
X-Robots-Tag:noindex
X-PUBLISHED-TTL:PT1H
BEGIN:VTIMEZONE
TZID:America/Chicago
BEGIN:DAYLIGHT
TZOFFSETFROM:-0600
TZOFFSETTO:-0500
TZNAME:CDT
DTSTART:20230312T080000
END:DAYLIGHT
BEGIN:STANDARD
TZOFFSETFROM:-0500
TZOFFSETTO:-0600
TZNAME:CST
DTSTART:20231105T070000
END:STANDARD
END:VTIMEZONE
BEGIN:VEVENT
DTSTART;TZID=America/Chicago:20230821T100000
DTEND;TZID=America/Chicago:20230821T120000
DTSTAMP:20260425T214652
CREATED:20230808T021819Z
LAST-MODIFIED:20230811T222630Z
UID:10005065-1692612000-1692619200@www.ajcwheeling.com
SUMMARY:Safe Passage Hiring Event
DESCRIPTION:To download flyer with all details click below: \n2023.08.21 – Hiring Event
URL:https://www.ajcwheeling.com/event/safe-passage-hiring-event/
LOCATION:Washington Heights Workforce Center\, 10325 S. Halsted St.\, Chicago\, IL\, 60628\, United States
CATEGORIES:Hiring Event
ATTACH;FMTTYPE=image/jpeg:https://www.ajcwheeling.com/wp-content/uploads/2023/08/2023.08.21-Hiring-Event-Safe-Passage.jpg
END:VEVENT
END:VCALENDAR