BEGIN:VCALENDAR
VERSION:2.0
PRODID:-//American Job Center in Wheeling - ECPv6.0.13.1//NONSGML v1.0//EN
CALSCALE:GREGORIAN
METHOD:PUBLISH
X-WR-CALNAME:American Job Center in Wheeling
X-ORIGINAL-URL:https://www.ajcwheeling.com
X-WR-CALDESC:Events for American Job Center in Wheeling
REFRESH-INTERVAL;VALUE=DURATION:PT1H
X-Robots-Tag:noindex
X-PUBLISHED-TTL:PT1H
BEGIN:VTIMEZONE
TZID:America/Chicago
BEGIN:DAYLIGHT
TZOFFSETFROM:-0600
TZOFFSETTO:-0500
TZNAME:CDT
DTSTART:20230312T080000
END:DAYLIGHT
BEGIN:STANDARD
TZOFFSETFROM:-0500
TZOFFSETTO:-0600
TZNAME:CST
DTSTART:20231105T070000
END:STANDARD
END:VTIMEZONE
BEGIN:VEVENT
DTSTART;TZID=America/Chicago:20230823T093000
DTEND;TZID=America/Chicago:20230824T120000
DTSTAMP:20260425T230035
CREATED:20230714T211528Z
LAST-MODIFIED:20230714T211528Z
UID:10005040-1692783000-1692878400@www.ajcwheeling.com
SUMMARY:Excel Beyond the Basics - In Person 2-day class
DESCRIPTION:Excel Beyond the Basics: Intermediate level overview including Function syntax and troubleshooting\, VLOOKUP\, IF\, Pivot Tables and Charts\n\n\nThis in-person class is taught in 2 sessions over 2 days (See Below) and is designed to introduce key concepts crucial to building a working knowledge of Microsoft Excel. In this class we’ll discuss intermediate topics including Function syntax and troubleshooting\, VLOOKUP\, IF\, Pivot Tables and Charts. \nPRE-REGISTRATION IS REQUIRED FOR ATTENDING THIS WORKSHOP! \n \nClass session is in 2 parts: 8/23/2023 and 8/24/2023 from 9:30 AM to 12:00 PM. \nWorkshop Location: North Suburban Cook County American Job Center – 1400 S Wolf Road\, Building 200\, Suite 200\, Wheeling\, IL 60090 \nPLEASE NOTE:  \n\nYou must register as there is only space for 15 people per workshop.\nCheck in 10 minutes prior to workshop. No admittance after session starts. Be sure to allow enough time for traffic\, construction & weather.\nYou cannot attend Day 2 only; you must attend both days .\nWorkshops are for individuals age 18+.\nEach person has their own computer for learning.\nIf you need to cancel\, please let us know so someone else can use your seat. \n\nThe North Suburban Cook County American Job Center is committed to providing all customers with quality\, professional services as well as a safe and comfortable learning environment. The use of our resources implies acceptance of our Customer Code of Conduct\, which is based on the principle of respect for all customers and staff. READ: https://www.ajcwheeling.com/wp-content/uploads/2020/08/Customer-Code-of-Conduct-handout.pdf \nQUESTIONS? EMAIL: contact@bcsillinois.org
URL:https://www.ajcwheeling.com/event/excel-beyond-the-basics-in-person-2-day-class-3/
LOCATION:American Job Center in Wheeling\, 1400 South Wolf Road\, Building 200\, Suite 200\, Wheeling\, IL\, 60090\, United States
ATTACH;FMTTYPE=image/jpeg:https://www.ajcwheeling.com/wp-content/uploads/2023/03/e079d8dddff007af1feba35d29ee9649.jpg
END:VEVENT
BEGIN:VEVENT
DTSTART;TZID=America/Chicago:20230823T100000
DTEND;TZID=America/Chicago:20230823T140000
DTSTAMP:20260425T230035
CREATED:20230814T134011Z
LAST-MODIFIED:20230814T134044Z
UID:10005095-1692784800-1692799200@www.ajcwheeling.com
SUMMARY:Job Fair
DESCRIPTION:
URL:https://www.ajcwheeling.com/event/job-fair-3/
LOCATION:Harry S Truman College\, 1145 W Wilson Av\, Chicago\, IL\, 60640\, United States
CATEGORIES:Job Fair
ATTACH;FMTTYPE=image/jpeg:https://www.ajcwheeling.com/wp-content/uploads/2023/08/2023.08.23-IDES-EQUUS-JOB-FAIR.jpg
END:VEVENT
BEGIN:VEVENT
DTSTART;TZID=America/Chicago:20230823T130000
DTEND;TZID=America/Chicago:20230823T153000
DTSTAMP:20260425T230035
CREATED:20230714T211650Z
LAST-MODIFIED:20230714T211650Z
UID:10005041-1692795600-1692804600@www.ajcwheeling.com
SUMMARY:Word Beyond the Basics - In Person
DESCRIPTION:Word Beyond the Basics: Intermediate level overview including Styles\, Styles Sets\, and Tables.\n\n\nThis in-person class is designed to introduce key concepts crucial to building a working knowledge of Microsoft Word. In this class we’ll talk about intermediate level concepts including Styles\, Styles sets\, Tables\, and Mail Merge and more. \nPRE-REGISTRATION IS REQUIRED FOR ATTENDING THIS WORKSHOP! \n \nClass Location – North Suburban Cook County American Job Center – 1400 S Wolf Road\, Building 200\, Suite 200\, Wheeling\, IL 60090 \nPLEASE NOTE:  \n\nYou must register as there is only space for 15 people per workshop\nCheck in 10 minutes prior to workshop. No admittance after session starts. Be sure to allow enough time for traffic\, construction & weather\nWorkshops are for individuals age 18+\nEach person has their own computer for learning\nIf you need to cancel\, please let us know so someone else can use your seat. \n\nThe North Suburban Cook County American Job Center is committed to providing all customers with quality\, professional services as well as a safe and comfortable learning environment. The use of our resources implies acceptance of our Customer Code of Conduct\, which is based on the principle of respect for all customers and staff. READ: \nhttps://www.ajcwheeling.com/wp-content/uploads/2020/08/Customer-Code-of-Conduct-handout.pdf \nQUESTIONS? EMAIL:  contact@bcsillinois.org
URL:https://www.ajcwheeling.com/event/word-beyond-the-basics-in-person-5/
LOCATION:American Job Center in Wheeling\, 1400 South Wolf Road\, Building 200\, Suite 200\, Wheeling\, IL\, 60090\, United States
ATTACH;FMTTYPE=image/jpeg:https://www.ajcwheeling.com/wp-content/uploads/2023/07/da3e21e26da3ae4933985f964ef1e887.jpg
END:VEVENT
END:VCALENDAR