BEGIN:VCALENDAR
VERSION:2.0
PRODID:-//American Job Center in Wheeling - ECPv6.0.13.1//NONSGML v1.0//EN
CALSCALE:GREGORIAN
METHOD:PUBLISH
X-ORIGINAL-URL:https://www.ajcwheeling.com
X-WR-CALDESC:Events for American Job Center in Wheeling
REFRESH-INTERVAL;VALUE=DURATION:PT1H
X-Robots-Tag:noindex
X-PUBLISHED-TTL:PT1H
BEGIN:VTIMEZONE
TZID:America/Chicago
BEGIN:DAYLIGHT
TZOFFSETFROM:-0600
TZOFFSETTO:-0500
TZNAME:CDT
DTSTART:20230312T080000
END:DAYLIGHT
BEGIN:STANDARD
TZOFFSETFROM:-0500
TZOFFSETTO:-0600
TZNAME:CST
DTSTART:20231105T070000
END:STANDARD
END:VTIMEZONE
BEGIN:VEVENT
DTSTART;TZID=America/Chicago:20230825T090000
DTEND;TZID=America/Chicago:20230825T130000
DTSTAMP:20260425T202615
CREATED:20230821T151351Z
LAST-MODIFIED:20230823T163126Z
UID:10005097-1692954000-1692968400@www.ajcwheeling.com
SUMMARY:CTA Hiring Event
DESCRIPTION:Join the Chicago Transit Authority for a Bus Mechanic and Bus Operator Job Fair on Friday\, August 25\, 2023\, at Malcolm X College\, 1900 W Jackson Blvd\, Chicago\, IL. You’ll earn about the Bus Mechanic and Bus Operator positions from recruiters\, current employees\, and members of ATU Local 241. \nWalk-ins welcome or Register \n \nStarting Hourly Rates: \n\nBus Mechanic $41.90\nBus Operator $29.65\n\nSpaces are limited for information sessions so register now! \nAll sessions will contain the same content so you only need to register for one time. CDL holders will receive priority consideration for these positions; however\, a CDL is not required to apply for either role. \nFree parking is available with validation. Also accessible by public transit. \n 
URL:https://www.ajcwheeling.com/event/cta-hiring-event/
LOCATION:Malcom X College\, 1900 W Jackson Blvd\, Chicago\, IL\, 60612\, United States
CATEGORIES:Hiring Event
ATTACH;FMTTYPE=image/png:https://www.ajcwheeling.com/wp-content/uploads/2023/08/Chicago_Transit_Authority_Logo.svg_.png
END:VEVENT
BEGIN:VEVENT
DTSTART;TZID=America/Chicago:20230825T100000
DTEND;TZID=America/Chicago:20230825T140000
DTSTAMP:20260425T202615
CREATED:20230823T205604Z
LAST-MODIFIED:20230824T142349Z
UID:10005103-1692957600-1692972000@www.ajcwheeling.com
SUMMARY:Resource & Employment Fair
DESCRIPTION:For details in English and Español  to DOWNLOAD FLYER \n2023.08.25 – Final_SUHI_s_Resource_and_Employment_Event_Flyer_8.25.23 \n 
URL:https://www.ajcwheeling.com/event/resource-employment-fair/
LOCATION:SINAI COMMUNITY INSTITUTE\, 2356 W Ogden Avenue\, Chicago\, IL\, 60608\, United States
CATEGORIES:Job Fair,Resource Fair
ATTACH;FMTTYPE=image/jpeg:https://www.ajcwheeling.com/wp-content/uploads/2023/08/2023.08.25-Sinai-Community-Employment-Fair.jpg
END:VEVENT
END:VCALENDAR