BEGIN:VCALENDAR
VERSION:2.0
PRODID:-//American Job Center in Wheeling - ECPv6.0.13.1//NONSGML v1.0//EN
CALSCALE:GREGORIAN
METHOD:PUBLISH
X-ORIGINAL-URL:https://www.ajcwheeling.com
X-WR-CALDESC:Events for American Job Center in Wheeling
REFRESH-INTERVAL;VALUE=DURATION:PT1H
X-Robots-Tag:noindex
X-PUBLISHED-TTL:PT1H
BEGIN:VTIMEZONE
TZID:America/Chicago
BEGIN:DAYLIGHT
TZOFFSETFROM:-0600
TZOFFSETTO:-0500
TZNAME:CDT
DTSTART:20230312T080000
END:DAYLIGHT
BEGIN:STANDARD
TZOFFSETFROM:-0500
TZOFFSETTO:-0600
TZNAME:CST
DTSTART:20231105T070000
END:STANDARD
END:VTIMEZONE
BEGIN:VEVENT
DTSTART;TZID=America/Chicago:20230830T093000
DTEND;TZID=America/Chicago:20230830T110000
DTSTAMP:20260425T175006
CREATED:20230714T211946Z
LAST-MODIFIED:20230714T211946Z
UID:10005043-1693387800-1693393200@www.ajcwheeling.com
SUMMARY:Excel Advanced Concepts Get Started with Tables (VIRTUAL)
DESCRIPTION:Excel Advanced Concepts – Get Started with Excel Tables\n\n\nYou’ve heard of Excel tables but never had a chance to use them? Learn how to structure Excel tables\, understand the differences between normal ranges and tables\, and the advantages of using tables to create more complex pivot tables. \nPre-registration is required to attend. \nRegistration ends by 5pm the day prior to the Webinar. Once you register on Eventbrite\, you will receive an email from the instructor through GoToWebinar with the link to join this class. \n \nFor an optimal webinar experience when registering and attending these virtual workshop\, the following is recommended: \n\nUSE the following email accounts-Gmail (google.com) or Outlook (outlook.com)\nRegister and attend the workshop with either browser-Google Chrome or Microsoft Edge\nIf you don’t receive the emails in your inbox\, please check your JUNK/SPAM Folder\nSessions are CST\nSign in 10 minutes prior to the webinar\n\nYou’ll receive the following emails. Last two have Join Webinar/LINK to attend \n\nEventbrite: Email Confirmation from Eventbrite which is ONLY your E-Ticket Summary\nGoToWebinar: Email Registration Confirmation of Computer Webinar from instructor to Click JOIN WEBINAR (LINK)\nGoToWebinar: Email Reminder ONE DAY PRIOR to Computer Webinar from instructor to Click JOIN WEBINAR (LINK)\n\nNote: There’s NO access code\, you’ll receive JOIN WEBINAR/LINK in your 2nd& 3rd emails. \nInformation/Cancel workshop-send email to webinar.organizer6@gmail.com \nYou can also send a note via Eventbrite website in the ticket order email section. \nThe North Suburban Cook County American Job Center is committed to providing all customers with quality\, professional services as well as a safe and comfortable learning environment. The use of our resources implies acceptance of our Customer Code of Conduct\, which is based on the principle of respect for all customers and staff. READ: https://www.ajcwheeling.com/wp-content/uploads/2020/08/Customer-Code-of-Conduct-handout.pdf \nQUESTIONS? EMAIL: contact@bcsillinois.org
URL:https://www.ajcwheeling.com/event/excel-advanced-concepts-get-started-with-tables-virtual-5/
ATTACH;FMTTYPE=image/jpeg:https://www.ajcwheeling.com/wp-content/uploads/2023/07/375f7e17f134f21da64920f20791377b.jpg
END:VEVENT
BEGIN:VEVENT
DTSTART;TZID=America/Chicago:20230830T130000
DTEND;TZID=America/Chicago:20230830T143000
DTSTAMP:20260425T175006
CREATED:20230714T212424Z
LAST-MODIFIED:20230714T213219Z
UID:10005045-1693400400-1693405800@www.ajcwheeling.com
SUMMARY:Excel Advanced Concepts - Additional Data Analysis tools (VIRTUAL)
DESCRIPTION:Excel Advanced Concepts – Additional tools: Data validation\, Subtotal\, and Conditional Formatting\n\n\nThis 90-minute webinar focuses on some of the additional tools available in Excel that are very useful but often overlooked. We’ll talk about data validation\, the Subtotal feature (an alternative to pivot tables)\, Outline and the What-If tools. \nPre-registration is required to attend. \n \nRegistration ends by 5pm the day prior to the Webinar. Once you register on Eventbrite\, you will receive an email from the instructor through GoToWebinar with the link to join this class. \nFor an optimal webinar experience when registering and attending these virtual workshop\, the following is recommended: \n\nUSE the following email accounts-Gmail (google.com) or Outlook (outlook.com)\nRegister and attend the workshop with either browser-Google Chrome or Microsoft Edge\nIf you don’t receive the emails in your inbox\, please check your JUNK/SPAM Folder\nSessions are CST\nSign in 10 minutes prior to the webinar\n\nYou’ll receive the following emails. Last two have Join Webinar/LINK to attend \n\nEventbrite: Email Confirmation from Eventbrite which is ONLY your E-Ticket Summary\nGoToWebinar: Email Registration Confirmation of Computer Webinar from instructor to Click JOIN WEBINAR (LINK)\nGoToWebinar: Email Reminder ONE DAY PRIOR to Computer Webinar from instructor to Click JOIN WEBINAR (LINK)\n\nNote: There’s NO access code\, you’ll receive JOIN WEBINAR/LINK in your 2nd& 3rd emails. \nInformation/Cancel workshop-send email to webinar.organizer6@gmail.com \nYou can also send a note via Eventbrite website in the ticket order email section. \nThe North Suburban Cook County American Job Center is committed to providing all customers with quality\, professional services as well as a safe and comfortable learning environment. The use of our resources implies acceptance of our Customer Code of Conduct\, which is based on the principle of respect for all customers and staff. READ: https://www.ajcwheeling.com/wp-content/uploads/2020/08/Customer-Code-of-Conduct-handout.pdf \nQUESTIONS? EMAIL: contact@bcsillinois.org
URL:https://www.ajcwheeling.com/event/excel-advanced-concepts-additional-data-analysis-tools-virtual-5/
ATTACH;FMTTYPE=image/jpeg:https://www.ajcwheeling.com/wp-content/uploads/2023/07/f0bf2c29d3b2d6c47b605a7d9ea3ddb9.jpg
END:VEVENT
BEGIN:VEVENT
DTSTART;TZID=America/Chicago:20230830T130000
DTEND;TZID=America/Chicago:20230830T150000
DTSTAMP:20260425T175006
CREATED:20230803T213307Z
LAST-MODIFIED:20230830T213029Z
UID:10005054-1693400400-1693407600@www.ajcwheeling.com
SUMMARY:S & C Electric Company         In-person Hiring Event
DESCRIPTION:Attend this event for an On-the-Spot Interview with Conditional Offers of Employment available.\nFind out what’s best for you\n\n\nS&C Electric Company\nIn-Person Hiring Event\nWednesday Aug. 30 at 1pm\nS&C traces its roots back more than 100 years to the invention of the first practical high-voltage fuse\, which was crucial to the development of the electric power industry. Today\, S&C maintains its focus on solutions for electric power switching and protection.\nJoin our team for an On-the-Spot Interview – – there’s something for everyone on our team. Find out what’s best for you and your schedule.\n\nRegistration is strongly recommended. Walk-ins welcome!\n \n\nWalk-ins welcome!\nNorth Suburban Cook County American Job Center 1400 S. Wolf Rd.\, Building 200; Suite 200\nWheeling\, IL 60090\n\nHiring for: Chicago & (new) Palatine locations\n\nAssemblers/Machinists\nCNC Machinists\nCNC Programmers\nDesign/Project Engineers\nMaterial Handlers\nQuality Assurance/Control\nSafety and Environmental Specialists\nStockroom Staff\nand More\n\nMeet in person with the employers’ representatives to find out about career paths\, benefits\, the interview process and more. \nCan’t wait? Click below to apply today :\nS&C Electric Company\nhttps://www.sandc.com/en/careers/\n\nQuestions? contact@bcsillinois.org\n\nOther job fairs\, events\, workshops and classes here: https://www.ajcwheeling.com/events/\nBCS is committed to providing all customers with quality\, professional services as well as a safe and comfortable learning environment. The use of our resources (in person or virtual) implies acceptance of our Customer Code of Conduct (see attached Code of Conduct)\, which is based on the principle of respect for all customers and staff. https://www.ajcwheeling.com/wp-content/uploads/2020/08/Customer-Code-of-Conduct-handout.pdf\nIMPORTANT: For additional virtual job fairs\, free workshops and free computer classes\, visit northcookjobcenter.com/events/\nOur agency is an equal opportunity employer/program. Auxiliary aids and services are available upon request to individuals with disabilities. Funding for this program is made possible through a grant provided by the Chicago Cook Workforce Partnership. This workforce product was funded by a grant awarded by the U.S. Department of Labor’s Employment and Training Administration. For more information please visit ChiCookWorks.org/DOL-Funding.\nSubject to change without notice.
URL:https://www.ajcwheeling.com/event/s-c-electric-company-in-person-hiring-event/
LOCATION:American Job Center in Wheeling\, 1400 South Wolf Road\, Building 200\, Suite 200\, Wheeling\, IL\, 60090\, United States
CATEGORIES:Hiring Event
ATTACH;FMTTYPE=image/jpeg:https://www.ajcwheeling.com/wp-content/uploads/2023/08/37aefb274fe36d695888df89b7ff17f0.jpg
END:VEVENT
END:VCALENDAR