BEGIN:VCALENDAR
VERSION:2.0
PRODID:-//American Job Center in Wheeling - ECPv6.0.13.1//NONSGML v1.0//EN
CALSCALE:GREGORIAN
METHOD:PUBLISH
X-ORIGINAL-URL:https://www.ajcwheeling.com
X-WR-CALDESC:Events for American Job Center in Wheeling
REFRESH-INTERVAL;VALUE=DURATION:PT1H
X-Robots-Tag:noindex
X-PUBLISHED-TTL:PT1H
BEGIN:VTIMEZONE
TZID:America/Chicago
BEGIN:DAYLIGHT
TZOFFSETFROM:-0600
TZOFFSETTO:-0500
TZNAME:CDT
DTSTART:20230312T080000
END:DAYLIGHT
BEGIN:STANDARD
TZOFFSETFROM:-0500
TZOFFSETTO:-0600
TZNAME:CST
DTSTART:20231105T070000
END:STANDARD
END:VTIMEZONE
BEGIN:VEVENT
DTSTART;TZID=America/Chicago:20230920T093000
DTEND;TZID=America/Chicago:20230920T110000
DTSTAMP:20260425T152747
CREATED:20230810T183257Z
LAST-MODIFIED:20230810T183257Z
UID:10005069-1695202200-1695207600@www.ajcwheeling.com
SUMMARY:Excel Advanced Concepts Pivot Tables (VIRTUAL)
DESCRIPTION:Excel Advanced Concepts – Pivot Tables: Summarize and manipulate data with pivot tables and pivot charts\n\n\nIn this 90-minute webinar we’ll talk about what a pivot table does and how to create pivot tables and pivot charts. We’ll also look at some of the additional PivotTable options like Slicers\, Timelines\, calculated fields and custom grouping. \nPre-registration is required to attend. \n \nRegistration ends by 5pm the day prior to the Webinar. Once you register on Eventbrite\, you will receive an email from the instructor through GoToWebinar with the link to join this class. \nFor an optimal webinar experience when registering and attending these virtual workshop\, the following is recommended: \n\nUSE the following email accounts-Gmail (google.com) or Outlook (outlook.com)\nRegister and attend the workshop with either browser-Google Chrome or Microsoft Edge\nIf you don’t receive the emails in your inbox\, please check your JUNK/SPAM Folder\nSessions are CST\nSign in 10 minutes prior to the webinar\n\nYou’ll receive the following emails. Last two have Join Webinar/LINK to attend \n\nEventbrite: Email Confirmation from Eventbrite which is ONLY your E-Ticket Summary\nGoToWebinar: Email Registration Confirmation of Computer Webinar from instructor to Click JOIN WEBINAR (LINK)\nGoToWebinar: Email Reminder ONE DAY PRIOR to Computer Webinar from instructor to Click JOIN WEBINAR (LINK)\n\nNote: There’s NO access code\, you’ll receive JOIN WEBINAR/LINK in your 2nd& 3rd emails. \nInformation/Cancel workshop-send email to webinar.organizer6@gmail.com \nYou can also send a note via Eventbrite website in the ticket order email section. \nThe North Suburban Cook County American Job Center is committed to providing all customers with quality\, professional services as well as a safe and comfortable learning environment. The use of our resources implies acceptance of our Customer Code of Conduct\, which is based on the principle of respect for all customers and staff. READ: https://www.ajcwheeling.com/wp-content/uploads/2020/08/Customer-Code-of-Conduct-handout.pdf \nQUESTIONS? EMAIL: contact@bcsillinois.org
URL:https://www.ajcwheeling.com/event/excel-advanced-concepts-pivot-tables-virtual-7/
ATTACH;FMTTYPE=image/jpeg:https://www.ajcwheeling.com/wp-content/uploads/2023/08/20e7c9e41d73ad9d0194295c46634f05.jpg
END:VEVENT
BEGIN:VEVENT
DTSTART;TZID=America/Chicago:20230920T100000
DTEND;TZID=America/Chicago:20230920T130000
DTSTAMP:20260425T152747
CREATED:20230920T013056Z
LAST-MODIFIED:20230920T014552Z
UID:10005124-1695204000-1695214800@www.ajcwheeling.com
SUMMARY:USPS Job Fairs-multiple locations READ EACH
DESCRIPTION:CHICAGO — The United States Postal Service is holding seven job fairs throughout the Chicago area this week. Applicants must be 18 years of age and be able to pass drug screening and a criminal background investigation\, according to a press release. \nApplications are accepted online only. \n \nhttps://about.usps.com/careers/how-to-apply/searching-for-jobs.htm  \nThe schedule of the job fairs is as follows. \nPLEASE READ ADDRESS FOR EACH LOCATION.\nNOT AT AMERICAN JOB CENTER\n\nWednesday\, Sept 20 – Hanover Park – 2670 W. Lake St. – 10:00 a.m. to 1:00 p.m.\nThursday\, Sept 21 – Carol Stream – 500 Fullerton Ave. – 10:00 a.m. to 2:00 p.m.\nThursday\, Sept 21 – St. Sabina Employee Resource Ctr. – 7825 S. Racine Ave. – 10:00 a.m. to 2:00 p.m.\nThursday\, Sept 21 – Wheeling PO – 250 W. Dundee Rd.- 11:00 a.m. to 2:00 p.m.\n\nOpportunities will be holiday\, part-time and full-time. \n 
URL:https://www.ajcwheeling.com/event/usps-job-fairs-multiple-locations-read-each/2023-09-20/
CATEGORIES:Job Fair
ATTACH;FMTTYPE=image/jpeg:https://www.ajcwheeling.com/wp-content/uploads/2023/09/USPS-LOGO.jpg
END:VEVENT
BEGIN:VEVENT
DTSTART;TZID=America/Chicago:20230920T110000
DTEND;TZID=America/Chicago:20230920T140000
DTSTAMP:20260425T152747
CREATED:20230911T201811Z
LAST-MODIFIED:20230911T201811Z
UID:10005119-1695207600-1695218400@www.ajcwheeling.com
SUMMARY:NLEN Hospitality Hiring Fair
DESCRIPTION:Wednesday\, September 20\, 11 AM – 2 PM CDT\nNorth Lawndale Employment Network\n1111 S. Homan Ave.\, Chicago\, IL 60624  \nNorth Lawndale Employment Network (NLEN) will host their Hospitality Hiring Fair where prospective candidates can meet with local hospitality employers and get hired on the spot. NLEN’s employer partners are background friendly and offer jobs starting at $18.50/hour for applicants ages 18 and up. Participants should come dressed and prepared to interview on the spot. Contact info@nlen.org with any questions.
URL:https://www.ajcwheeling.com/event/nlen-hospitality-hiring-fair/
LOCATION:North Lawndale Employment Network\, 1111 S Homan Ave\, Chicago\, IL\, 60624\, United States
CATEGORIES:Hiring Event
ATTACH;FMTTYPE=image/jpeg:https://www.ajcwheeling.com/wp-content/uploads/2023/09/2023.09.20-NLEN-Hospitality-Hiring-Event.jpg
END:VEVENT
BEGIN:VEVENT
DTSTART;TZID=America/Chicago:20230920T120000
DTEND;TZID=America/Chicago:20230920T170000
DTSTAMP:20260425T152747
CREATED:20230920T012254Z
LAST-MODIFIED:20230920T012254Z
UID:10005123-1695211200-1695229200@www.ajcwheeling.com
SUMMARY:Job Fair
DESCRIPTION:
URL:https://www.ajcwheeling.com/event/job-fair-5/
LOCATION:St. Joseph the Betrothed Ukrainian Greek-Catholic Church\, 5000 N. Cumberland Ave\, Chicago\, IL\, 60656\, United States
CATEGORIES:Job Fair
ATTACH;FMTTYPE=image/jpeg:https://www.ajcwheeling.com/wp-content/uploads/2023/09/2023.09.20-Job-Fair-Ukrainian-Church-graphic.jpg
END:VEVENT
BEGIN:VEVENT
DTSTART;TZID=America/Chicago:20230920T130000
DTEND;TZID=America/Chicago:20230920T143000
DTSTAMP:20260425T152747
CREATED:20230810T183448Z
LAST-MODIFIED:20230912T204624Z
UID:10005070-1695214800-1695220200@www.ajcwheeling.com
SUMMARY:Word Beyond the Basics(VIRTUAL)
DESCRIPTION:MS Word Beyond the Basics – Efficient document design with Styles\, Style sets\, and built-in Quick Parts\n\n\nIn this virtual webinar: Discover the power of Styles – the efficient way to format and design Word documents. If you’re a regular user of Word creating reports\, proposals\, manuscripts\, etc. learning to use Styles is a game changer! A webinar scheduled later this month will focus on some additional Word tools including Tables and Mail Merge. \nPre-registration is required to attend. \n \nRegistration ends by 5pm the day prior to the Webinar. Once you register on Eventbrite\, you will receive an email from the instructor through GoToWebinar with the link to join this class. \nFor an optimal webinar experience when registering and attending these virtual workshop\, the following is recommended: \n\nUSE the following email accounts-Gmail (google.com) or Outlook (outlook.com)\nRegister and attend the workshop with either browser-Google Chrome or Microsoft Edge\nIf you don’t receive the emails in your inbox\, please check your JUNK/SPAM Folder\nSessions are CST\nSign in 10 minutes prior to the webinar\n\nYou’ll receive the following emails. Last two have Join Webinar/LINK to attend \n\nEventbrite: Email Confirmation from Eventbrite which is ONLY your E-Ticket Summary\nGoToWebinar: Email Registration Confirmation of Computer Webinar from instructor to Click JOIN WEBINAR (LINK)\nGoToWebinar: Email Reminder ONE DAY PRIOR to Computer Webinar from instructor to Click JOIN WEBINAR (LINK)\n\nNote: There’s NO access code\, you’ll receive JOIN WEBINAR/LINK in your 2nd& 3rd emails. \nInformation/Cancel workshop-send email to webinar.organizer6@gmail.com \nYou can also send a note via Eventbrite website in the ticket order email section. \nThe North Suburban Cook County American Job Center is committed to providing all customers with quality\, professional services as well as a safe and comfortable learning environment. The use of our resources implies acceptance of our Customer Code of Conduct\, which is based on the principle of respect for all customers and staff. READ: https://www.ajcwheeling.com/wp-content/uploads/2020/08/Customer-Code-of-Conduct-handout.pdf \nQUESTIONS? EMAIL: contact@bcsillinois.org
URL:https://www.ajcwheeling.com/event/word-beyond-the-basicsvirtual-6/
ATTACH;FMTTYPE=image/jpeg:https://www.ajcwheeling.com/wp-content/uploads/2023/08/b441db4ed2ba514d2a6e6196d072a4d0.jpg
END:VEVENT
BEGIN:VEVENT
DTSTART;TZID=America/Chicago:20230920T130000
DTEND;TZID=America/Chicago:20230920T160000
DTSTAMP:20260425T152747
CREATED:20230920T154200Z
LAST-MODIFIED:20230920T154200Z
UID:10005130-1695214800-1695225600@www.ajcwheeling.com
SUMMARY:Sinai Chicago Walk-In Wednesdays Interviews
DESCRIPTION:
URL:https://www.ajcwheeling.com/event/sinai-chicago-walk-in-wednesdays-interviews/
LOCATION:Mt Sinai Hospital\, 1500 S. Fairfield Avenue\, Chicago\, IL\, 60608\, United States
CATEGORIES:Hiring Event
ATTACH;FMTTYPE=image/jpeg:https://www.ajcwheeling.com/wp-content/uploads/2023/09/2023.09.20-Sinai-Recruitment2.jpg
END:VEVENT
END:VCALENDAR