BEGIN:VCALENDAR
VERSION:2.0
PRODID:-//American Job Center in Wheeling - ECPv6.0.13.1//NONSGML v1.0//EN
CALSCALE:GREGORIAN
METHOD:PUBLISH
X-ORIGINAL-URL:https://www.ajcwheeling.com
X-WR-CALDESC:Events for American Job Center in Wheeling
REFRESH-INTERVAL;VALUE=DURATION:PT1H
X-Robots-Tag:noindex
X-PUBLISHED-TTL:PT1H
BEGIN:VTIMEZONE
TZID:America/Chicago
BEGIN:DAYLIGHT
TZOFFSETFROM:-0600
TZOFFSETTO:-0500
TZNAME:CDT
DTSTART:20230312T080000
END:DAYLIGHT
BEGIN:STANDARD
TZOFFSETFROM:-0500
TZOFFSETTO:-0600
TZNAME:CST
DTSTART:20231105T070000
END:STANDARD
END:VTIMEZONE
BEGIN:VEVENT
DTSTART;TZID=America/Chicago:20231003T133000
DTEND;TZID=America/Chicago:20231003T160000
DTSTAMP:20260425T152752
CREATED:20230920T021830Z
LAST-MODIFIED:20230920T021830Z
UID:10005129-1696339800-1696348800@www.ajcwheeling.com
SUMMARY:Ability Fair
DESCRIPTION:NORTHERN COOK COUNTY ABILITY FAIR\nKnowing that not all disabilities are visible\, this event is open to\njob seekers with any type of disability. \nTuesday October 3\, 2023 | 1:30pm – 4pm\nHARPER COLLEGE LEARNING AND CAREER CENTER\n1375 South Wolf Road • Prospect Heights\, IL 60070 \n \n \nClick below to download flyer \n2023.10.03 -NCC_Ability Fair NDEAM 2023 (002)
URL:https://www.ajcwheeling.com/event/ability-fair/
LOCATION:Harper College Learning and Career Center\, 1375 South Wolf Road\, Prospect Heights\, IL\, 60070\, United States
CATEGORIES:Hiring Event,Job Fair,Resource Fair
ATTACH;FMTTYPE=image/jpeg:https://www.ajcwheeling.com/wp-content/uploads/2023/09/2023.10.03-Ability-Fair-graphic.jpg
END:VEVENT
END:VCALENDAR