BEGIN:VCALENDAR
VERSION:2.0
PRODID:-//American Job Center in Wheeling - ECPv6.0.13.1//NONSGML v1.0//EN
CALSCALE:GREGORIAN
METHOD:PUBLISH
X-ORIGINAL-URL:https://www.ajcwheeling.com
X-WR-CALDESC:Events for American Job Center in Wheeling
REFRESH-INTERVAL;VALUE=DURATION:PT1H
X-Robots-Tag:noindex
X-PUBLISHED-TTL:PT1H
BEGIN:VTIMEZONE
TZID:America/Chicago
BEGIN:DAYLIGHT
TZOFFSETFROM:-0600
TZOFFSETTO:-0500
TZNAME:CDT
DTSTART:20230312T080000
END:DAYLIGHT
BEGIN:STANDARD
TZOFFSETFROM:-0500
TZOFFSETTO:-0600
TZNAME:CST
DTSTART:20231105T070000
END:STANDARD
END:VTIMEZONE
BEGIN:VEVENT
DTSTART;TZID=America/Chicago:20231004T093000
DTEND;TZID=America/Chicago:20231004T110000
DTSTAMP:20260425T175007
CREATED:20230830T202026Z
LAST-MODIFIED:20230830T202026Z
UID:10005080-1696411800-1696417200@www.ajcwheeling.com
SUMMARY:MS Excel Basics-Part 1 (VIRTUAL)
DESCRIPTION:Excel Basics (Part 1): How spreadsheets work\, basic formulas\, functions\, and formatting\n\n\nThis webinar is part 1 of a 3-part webinar series designed to introduce key concepts crucial to building a working knowledge of MS Excel. In this webinar we’ll talk about the Excel environment\, explore basic formulas and functions\, and discuss spreadsheet formatting options. \nPreregistration is required to attend.\n \n\nRegistration ends by 5pm the day prior to the Webinar. \nOnce you register on Eventbrite\, you will receive an email from the instructor through GoToWebinar with the link to join this class.\n\nFor an optimal webinar experience when registering and attending these virtual workshop\, the following is recommended: \n\nUSE the following email accounts-Gmail (google.com) or Outlook (outlook.com)\nRegister and attend the workshop with either browser-Google Chrome or Microsoft Edge\nIf you don’t receive the emails in your inbox\, please check your JUNK/SPAM Folder\nSessions are CST\nSign in 10 minutes prior to the webinar\n\nYou’ll receive the following emails. Last two have Join Webinar/LINK to attend \n\nEventbrite: Email Confirmation from Eventbrite which is ONLY your E-Ticket Summary\nGoToWebinar: Email Registration Confirmation of Computer Webinar from instructor to Click JOIN WEBINAR (LINK)\nGoToWebinar: Email Reminder ONE DAY PRIOR to Computer Webinar from instructor to Click JOIN WEBINAR (LINK)\n\nNote: There’s NO access code\, you’ll receive JOIN WEBINAR/LINK in your 2nd& 3rd emails.  \nInformation/Cancel workshop-send email to webinar.organizer6@gmail.com \nYou can also send a note via Eventbrite website in the ticket order email section. \nThe North Suburban Cook County American Job Center is committed to providing all customers with quality\, professional services as well as a safe and comfortable learning environment. The use of our resources implies acceptance of our Customer Code of Conduct\, which is based on the principle of respect for all customers and staff. READ: https://www.ajcwheeling.com/wp-content/uploads/2020/08/Customer-Code-of-Conduct-handout.pdf \nQUESTIONS? EMAIL: contact@bcsillinois.org
URL:https://www.ajcwheeling.com/event/ms-excel-basics-part-1-virtual/
ATTACH;FMTTYPE=image/jpeg:https://www.ajcwheeling.com/wp-content/uploads/2023/08/0bb046f9597d874358fdb1e20f39ba00.jpg
END:VEVENT
BEGIN:VEVENT
DTSTART;TZID=America/Chicago:20231004T130000
DTEND;TZID=America/Chicago:20231004T143000
DTSTAMP:20260425T175007
CREATED:20230830T202900Z
LAST-MODIFIED:20231004T213000Z
UID:10005079-1696424400-1696429800@www.ajcwheeling.com
SUMMARY:MS Word Basics (Virtual)
DESCRIPTION:MS Word Basics: Basic editing and formatting: fonts\, bulleted lists\, indentation\, line spacing\, tabs\, and printing\n\n\nRegistration ends by 5pm the day prior to the Webinar. \nPreregistration is required to participate in the class. \n \nOnce you register on Eventbrite\, you will receive an email from the instructor through GoToWebinar with the link to join this class. \nThis 90-minute webinar is designed to introduce key concepts crucial to building a working knowledge of MS Word. In this webinar we’ll talk about the Word environment\, explore the essential editing/formatting tools necessary to create basic documents\, and discuss the various options for saving and printing in Word. \nThe North Suburban Cook County American Job Center is committed to providing all customers with quality\, professional services as well as a safe and comfortable learning environment. The use of our resources implies acceptance of our Customer Code of Conduct\, which is based on the principle of respect for all customers and staff. READ: https://www.ajcwheeling.com/wp-content/uploads/2020/08/Customer-Code-of-Conduct-handout.pdf
URL:https://www.ajcwheeling.com/event/ms-word-basics-virtual/
ATTACH;FMTTYPE=image/jpeg:https://www.ajcwheeling.com/wp-content/uploads/2023/08/4e9b77162fa9ae58f0a660702c517bc3.jpg
END:VEVENT
BEGIN:VEVENT
DTSTART;TZID=America/Chicago:20231004T130000
DTEND;TZID=America/Chicago:20231004T143000
DTSTAMP:20260425T175007
CREATED:20230926T194139Z
LAST-MODIFIED:20231004T213000Z
UID:10005134-1696424400-1696429800@www.ajcwheeling.com
SUMMARY:Creating Your Target Resumes - More critical than you think! (In-person workshop)
DESCRIPTION:How do I craft my resume to get interviewed and hired?\n\n\nThis IN-PERSON class is taught in 1 session from 1:00pm to 2:30pm. \nCreating Your Target Resumes – More critical than you think! \n \nJoin us on Wednesday\, October 4\, 2023 at 13:00 (CDT) for an in-person event that will transform your job search game! Located at 1375 South Wolf Road\, Prospect Heights\, IL 60070\, this event is your opportunity to learn the secrets of crafting resumes that hit the mark. \nUnleash the power of your resume and stand out from the competition! Our expert speakers will guide you through the process of tailoring your resume to impress hiring managers. Discover the keywords and formatting techniques that will make your resume shine. \nDon’t miss this chance to gain a competitive edge in your job search. Register now and unlock the potential of your resume! \nPRE-REGISTRATION IS REQUIRED FOR ATTENDING THIS WORKSHOP! \n \nWorkshop Location: 1375 S Wolf Road\, Prospect Heights\, IL 60070 (Harper Learning & Career Center). ONE block south of Palatine-Willow Road & Wolf Road. EAST side of Wolf Road. Ample free parking in front. \nPLEASE NOTE:  \n\nYou must register as there is only space for 18 people per workshop.\nRegistration closes at 7pm the day prior to workshop.\nCheck in 15 minutes prior to workshop. ABSOLUTELY NO ADMITTANCE after session starts. Be sure to allow enough time for traffic\, construction & weather.\nWorkshops are for individuals age 18+.\nEach person has their own computer for learning.\nSubject to change without notice.\nIf you need to cancel\, please let us know so someone else can use your seat.\n\nUPCOMING EVENTS \n\nOctober 11 – Getting the Interview but not the job? Interview coaching might be the answer.\nOctober 18 – How to “Work” a Job Fair or Hiring event – prepare to soar\nOctober 25 – Career Connector Hiring Event – meet with multiple employers to find your dream job\n\nIMPORTANT: For additional job fairs\, free workshops and free computer classes\, visit northcookjobcenter.com/events/ \nBCS is committed to providing all customers with quality\, professional services as well as a safe and comfortable learning environment. The use of our resources (in person or virtual) implies acceptance of our Customer Code of Conduct (see attached Code of Conduct)\, which is based on the principle of respect for all customers and staff. https://www.ajcwheeling.com/wp-content/uploads/2020/08/Customer-Code-of-Conduct-handout.pdf \nOur agency is an equal opportunity employer/program. Auxiliary aids and services are available upon request to individuals with disabilities. Funding for this program is made possible through a grant provided by the Chicago Cook Workforce Partnership. This workforce product was funded by a grant awarded by the U.S. Department of Labor’s Employment and Training Administration. For more information please visit ChiCookWorks.org/DOL-Funding
URL:https://www.ajcwheeling.com/event/creating-your-target-resumes-more-critical-than-you-think/
LOCATION:1375 S Wolf Rd\, 1375 South Wolf Road\, Prospect Heights\, IL\, 60070\, United States
ATTACH;FMTTYPE=image/jpeg:https://www.ajcwheeling.com/wp-content/uploads/2023/09/5f66b9302e9d88c5dbc639c1678baad3.jpg
END:VEVENT
END:VCALENDAR