BEGIN:VCALENDAR
VERSION:2.0
PRODID:-//American Job Center in Wheeling - ECPv6.0.13.1//NONSGML v1.0//EN
CALSCALE:GREGORIAN
METHOD:PUBLISH
X-WR-CALNAME:American Job Center in Wheeling
X-ORIGINAL-URL:https://www.ajcwheeling.com
X-WR-CALDESC:Events for American Job Center in Wheeling
REFRESH-INTERVAL;VALUE=DURATION:PT1H
X-Robots-Tag:noindex
X-PUBLISHED-TTL:PT1H
BEGIN:VTIMEZONE
TZID:America/Chicago
BEGIN:DAYLIGHT
TZOFFSETFROM:-0600
TZOFFSETTO:-0500
TZNAME:CDT
DTSTART:20230312T080000
END:DAYLIGHT
BEGIN:STANDARD
TZOFFSETFROM:-0500
TZOFFSETTO:-0600
TZNAME:CST
DTSTART:20231105T070000
END:STANDARD
END:VTIMEZONE
BEGIN:VEVENT
DTSTART;TZID=America/Chicago:20231011T093000
DTEND;TZID=America/Chicago:20231011T110000
DTSTAMP:20260425T163525
CREATED:20230830T223301Z
LAST-MODIFIED:20230830T223301Z
UID:10005109-1697016600-1697022000@www.ajcwheeling.com
SUMMARY:MS Excel Basics Part 3 (VIRTUAL)
DESCRIPTION:This webinar is part 3 of a 3-part webinar series designed to introduce key concepts crucial to building a working knowledge of MS Excel.\n\n\nThis webinar is part 3 of a 3-part webinar series designed to introduce key concepts crucial to building a working knowledge of MS Excel. In this 90-minute webinar we’ll explore additional functions\, look at how functions behave in the Excel environment\, add Comments\, and discuss printing options in Excel. \nPre-registration is required to attend. \n \nRegistration ends by 5pm the day prior to the Webinar. Once you register on Eventbrite\, you will receive an email from the instructor through GoToWebinar with the link to join this class. \nFor an optimal webinar experience when registering and attending these virtual workshop\, the following is recommended: \n\nUSE the following email accounts-Gmail (google.com) or Outlook (outlook.com)\nRegister and attend the workshop with either browser-Google Chrome or Microsoft Edge\nIf you don’t receive the emails in your inbox\, please check your JUNK/SPAM Folder\nSessions are CST\nSign in 10 minutes prior to the webinar\n\nYou’ll receive the following emails. Last two have Join Webinar/LINK to attend \n\nEventbrite: Email Confirmation from Eventbrite which is ONLY your E-Ticket Summary\nGoToWebinar: Email Registration Confirmation of Computer Webinar from instructor to Click JOIN WEBINAR (LINK)\nGoToWebinar: Email Reminder ONE DAY PRIOR to Computer Webinar from instructor to Click JOIN WEBINAR (LINK)\n\nNote: There’s NO access code\, you’ll receive JOIN WEBINAR/LINK in your 2nd& 3rd emails. \nInformation/Cancel workshop-send email to webinar.organizer6@gmail.com \nYou can also send a note via Eventbrite website in the ticket order email section. \nThe North Suburban Cook County American Job Center is committed to providing all customers with quality\, professional services as well as a safe and comfortable learning environment. The use of our resources implies acceptance of our Customer Code of Conduct\, which is based on the principle of respect for all customers and staff. READ: https://www.ajcwheeling.com/wp-content/uploads/2020/08/Customer-Code-of-Conduct-handout.pdf \nQUESTIONS? EMAIL: contact@bcsillinois.org
URL:https://www.ajcwheeling.com/event/ms-excel-basics-part-3-virtual/
ATTACH;FMTTYPE=image/jpeg:https://www.ajcwheeling.com/wp-content/uploads/2023/08/c65c149aea7b2fe5d0bde1f8dd90b949.jpg
END:VEVENT
BEGIN:VEVENT
DTSTART;TZID=America/Chicago:20231011T130000
DTEND;TZID=America/Chicago:20231011T143000
DTSTAMP:20260425T163525
CREATED:20230830T222052Z
LAST-MODIFIED:20230830T222052Z
UID:10005083-1697029200-1697034600@www.ajcwheeling.com
SUMMARY:MS Word Beyond the Basics(VIRTUAL)
DESCRIPTION:MS Word Beyond the Basics – Efficient document design with Styles\, Style sets\, and built-in Quick Parts\n\n\nIn this virtual webinar: Discover the power of Styles – the efficient way to format and design Word documents. If you’re a regular user of Word creating reports\, proposals\, manuscripts\, etc. learning to use Styles is a game changer! A webinar scheduled later this month will focus on some additional Word tools including Tables and Mail Merge. \nPre-registration is required to attend. \n \nRegistration ends by 5pm the day prior to the Webinar. Once you register on Eventbrite\, you will receive an email from the instructor through GoToWebinar with the link to join this class. \nFor an optimal webinar experience when registering and attending these virtual workshop\, the following is recommended: \n\nUSE the following email accounts-Gmail (google.com) or Outlook (outlook.com)\nRegister and attend the workshop with either browser-Google Chrome or Microsoft Edge\nIf you don’t receive the emails in your inbox\, please check your JUNK/SPAM Folder\nSessions are CST\nSign in 10 minutes prior to the webinar\n\nYou’ll receive the following emails. Last two have Join Webinar/LINK to attend \n\nEventbrite: Email Confirmation from Eventbrite which is ONLY your E-Ticket Summary\nGoToWebinar: Email Registration Confirmation of Computer Webinar from instructor to Click JOIN WEBINAR (LINK)\nGoToWebinar: Email Reminder ONE DAY PRIOR to Computer Webinar from instructor to Click JOIN WEBINAR (LINK)\n\nNote: There’s NO access code\, you’ll receive JOIN WEBINAR/LINK in your 2nd& 3rd emails. \nInformation/Cancel workshop-send email to webinar.organizer6@gmail.com \nYou can also send a note via Eventbrite website in the ticket order email section. \nThe North Suburban Cook County American Job Center is committed to providing all customers with quality\, professional services as well as a safe and comfortable learning environment. The use of our resources implies acceptance of our Customer Code of Conduct\, which is based on the principle of respect for all customers and staff. READ: https://www.ajcwheeling.com/wp-content/uploads/2020/08/Customer-Code-of-Conduct-handout.pdf \nQUESTIONS? EMAIL: contact@bcsillinois.org
URL:https://www.ajcwheeling.com/event/ms-word-beyond-the-basicsvirtual/
ATTACH;FMTTYPE=image/jpeg:https://www.ajcwheeling.com/wp-content/uploads/2023/08/03f060e1c09d555bdf53622eeb805300.jpg
END:VEVENT
BEGIN:VEVENT
DTSTART;TZID=America/Chicago:20231011T130000
DTEND;TZID=America/Chicago:20231011T143000
DTSTAMP:20260425T163525
CREATED:20230927T145406Z
LAST-MODIFIED:20231011T212955Z
UID:10005135-1697029200-1697034600@www.ajcwheeling.com
SUMMARY:Getting the interview - but not the job? Interview Success Secrets (In-person workshop)
DESCRIPTION:Maybe a little friendly interview coaching will help?\n\n\nThis IN-PERSON class is taught in 1 session from 1:00pm to 2:30pm. \nAre you tired of acing interviews only to be left empty-handed? If you’ve been struggling to land a job after making it past the interview stage\, don’t give up just yet.  \nLearn the secrets to interview success by understanding why you’re not getting the job offers\, and get the guidance you need to sharpen your interview skills. We’ll teach you how to effectively answer different types of interview questions using the P-A-R method\, and give you valuable insight into the interview process.  \nDiscover how to make a lasting impression\, answer tough questions\, and stand out from the competition. \nPRE-REGISTRATION IS REQUIRED FOR ATTENDING THIS WORKSHOP! \n \nWorkshop Location: 1375 S Wolf Road\, Prospect Heights\, IL 60070 (Harper Learning & Career Center). ONE block south of Palatine-Willow Road & Wolf Road. EAST side of Wolf Road. Ample free parking in front. \nPLEASE NOTE:  \n\nYou must register as there is only space for 18 people per workshop.\nRegistration closes at 7pm the day prior to workshop.\nCheck in 15 minutes prior to workshop. ABSOLUTELY NO ADMITTANCE after session starts. Be sure to allow enough time for traffic\, construction & weather.\nWorkshops are for individuals age 18+.\nEach person has their own computer for learning.\nSubject to change without notice.\nIf you need to cancel\, please let us know so someone else can use your seat.\n\nUPCOMING EVENTS \n\nOctober 4 – Creating Target Resumes – critical\nOctober 11 – Getting the Interview but not the job? Interview coaching might be the answer.\nOctober 18 – How to “Work” a Job Fair or Hiring event – prepare to soar\nOctober 25 – Career Connector Hiring Event – meet with multiple employers to find your dream job\n\nIMPORTANT: For additional job fairs\, free workshops and free computer classes\, visit northcookjobcenter.com/events/ \nBCS is committed to providing all customers with quality\, professional services as well as a safe and comfortable learning environment. The use of our resources (in person or virtual) implies acceptance of our Customer Code of Conduct (see attached Code of Conduct)\, which is based on the principle of respect for all customers and staff. https://www.ajcwheeling.com/wp-content/uploads/2020/08/Customer-Code-of-Conduct-handout.pdf \nOur agency is an equal opportunity employer/program. Auxiliary aids and services are available upon request to individuals with disabilities. Funding for this program is made possible through a grant provided by the Chicago Cook Workforce Partnership. This workforce product was funded by a grant awarded by the U.S. Department of Labor’s Employment and Training Administration. For more information please visit ChiCookWorks.org/DOL-Funding
URL:https://www.ajcwheeling.com/event/getting-the-interview-but-not-the-job-interview-success-secrets-17/
LOCATION:1375 S Wolf Rd\, 1375 South Wolf Road\, Prospect Heights\, IL\, 60070\, United States
ATTACH;FMTTYPE=image/jpeg:https://www.ajcwheeling.com/wp-content/uploads/2023/09/01fd983e5febf9ddc924606945a8caa8-1.jpg
END:VEVENT
END:VCALENDAR