BEGIN:VCALENDAR
VERSION:2.0
PRODID:-//American Job Center in Wheeling - ECPv6.0.13.1//NONSGML v1.0//EN
CALSCALE:GREGORIAN
METHOD:PUBLISH
X-ORIGINAL-URL:https://www.ajcwheeling.com
X-WR-CALDESC:Events for American Job Center in Wheeling
REFRESH-INTERVAL;VALUE=DURATION:PT1H
X-Robots-Tag:noindex
X-PUBLISHED-TTL:PT1H
BEGIN:VTIMEZONE
TZID:America/Chicago
BEGIN:DAYLIGHT
TZOFFSETFROM:-0600
TZOFFSETTO:-0500
TZNAME:CDT
DTSTART:20230312T080000
END:DAYLIGHT
BEGIN:STANDARD
TZOFFSETFROM:-0500
TZOFFSETTO:-0600
TZNAME:CST
DTSTART:20231105T070000
END:STANDARD
END:VTIMEZONE
BEGIN:VEVENT
DTSTART;TZID=America/Chicago:20231114T093000
DTEND;TZID=America/Chicago:20231114T110000
DTSTAMP:20260425T152753
CREATED:20231019T194228Z
LAST-MODIFIED:20231019T194228Z
UID:10005150-1699954200-1699959600@www.ajcwheeling.com
SUMMARY:MS Excel Basics Part 3 (VIRTUAL)
DESCRIPTION:This webinar is part 3 of a 3-part webinar series designed to introduce key concepts crucial to building a working knowledge of MS Excel.\n\n\nThis webinar is part 3 of a 3-part webinar series designed to introduce key concepts crucial to building a working knowledge of MS Excel. In this 90-minute webinar we’ll explore additional functions\, look at how functions behave in the Excel environment\, add Comments\, and discuss printing options in Excel. \nPre-registration is required to attend. \n \n\nRegistration ends by 5pm the day prior to the Webinar. \nOnce you register on Eventbrite\, you will receive an email from the instructor through GoToWebinar with the link to join this class.\nIMPORTANT: There are limited spaces available in this class. If you register to attend but need to cancel – please CANCEL 48 HOURS PRIOR TO THE CLASS. We have an extensive waiting list and would hope to offer another person your seat. \n\nFor an optimal webinar experience when registering and attending these virtual workshop\, the following is recommended: \n\nUSE the following email accounts-Gmail (google.com) or Outlook (outlook.com)\nRegister and attend the workshop with either browser-Google Chrome or Microsoft Edge\nIf you don’t receive the emails in your inbox\, please check your JUNK/SPAM Folder\nSessions are CST\nSign in 10 minutes prior to the webinar\n\nYou’ll receive the following emails. Last two have Join Webinar/LINK to attend \n\nEventbrite: Email Confirmation from Eventbrite which is ONLY your E-Ticket Summary\nGoToWebinar: Email Registration Confirmation of Computer Webinar from instructor to Click JOIN WEBINAR (LINK)\nGoToWebinar: Email Reminder ONE DAY PRIOR to Computer Webinar from instructor to Click JOIN WEBINAR (LINK)\n\nNote: There’s NO access code\, you’ll receive JOIN WEBINAR/LINK in your 2nd& 3rd emails. \nInformation/Cancel workshop-send email to webinar.organizer6@gmail.com \nYou can also send a note via Eventbrite website in the ticket order email section. \nThe North Suburban Cook County American Job Center is committed to providing all customers with quality\, professional services as well as a safe and comfortable learning environment. The use of our resources implies acceptance of our Customer Code of Conduct\, which is based on the principle of respect for all customers and staff. READ: https://www.ajcwheeling.com/wp-content/uploads/2020/08/Customer-Code-of-Conduct-handout.pdf \nQUESTIONS? EMAIL: contact@bcsillinois.org
URL:https://www.ajcwheeling.com/event/ms-excel-basics-part-3-virtual-2/
ATTACH;FMTTYPE=image/jpeg:https://www.ajcwheeling.com/wp-content/uploads/2023/10/56a004d54309010a4d9613c31917ba6c.jpg
END:VEVENT
BEGIN:VEVENT
DTSTART;TZID=America/Chicago:20231114T093000
DTEND;TZID=America/Chicago:20231114T113000
DTSTAMP:20260425T152753
CREATED:20230908T082934Z
LAST-MODIFIED:20231114T124434Z
UID:10005114-1699954200-1699961400@www.ajcwheeling.com
SUMMARY:LinkedIn Basics - FREE - In Person\, Tuesday November 14\,  2023
DESCRIPTION:Take the LinkedIn Basics workshop to make your LinkedIn profile easy to find\, learn ways to find others and much more!\n\n\nI﻿nstructor Dee Reinhardt leads this highly interactive session.  Participants must have an active LinkedIn profile (and know your password) in order to register for this workshop.   \nTopics covered will include: \n•	Ways for you to be more visible on LinkedIn \n•	How to use tools like search\, advanced search\, groups and companies to find hiring  opportunities
URL:https://www.ajcwheeling.com/event/linkedin-basics-free-in-person-tuesday-november-14-2023/
LOCATION:American Job Center in Wheeling\, 1400 South Wolf Road\, Building 200\, Suite 200\, Wheeling\, IL\, 60090\, United States
ATTACH;FMTTYPE=image/jpeg:https://www.ajcwheeling.com/wp-content/uploads/2023/09/c38fe103c0bd8f73f6ec073f89eb66be.jpg
END:VEVENT
BEGIN:VEVENT
DTSTART;TZID=America/Chicago:20231114T130000
DTEND;TZID=America/Chicago:20231114T143000
DTSTAMP:20260425T152753
CREATED:20231019T194515Z
LAST-MODIFIED:20231019T194515Z
UID:10005151-1699966800-1699972200@www.ajcwheeling.com
SUMMARY:Google Drive\, Docs and Sheets Basics (VIRTUAL)
DESCRIPTION:Google Drive\, Docs and Sheets Basics: Get started with Google’s popular text and spreadsheet applications\n\n\nIn this 90-minute webinar we’ll explore Google’s online alternatives to MS Word and Excel. Google Docs can be used to create letters\, reports\, resumes and other text-based documents. Google Sheets allows you to create spreadsheets using many of the same functions and features available in Excel. \nPREREGISTRATION IS REQUIRED TO ATTEND THIS VIRTUAL CLASS \n \n\nRegistration ends by 5pm the day prior to the Webinar. \nOnce you register on Eventbrite\, you will receive an email from the instructor through GoToWebinar with the link to join this class.\nIMPORTANT: There are limited spaces available in this class. If you register to attend but need to cancel – please CANCEL 48 HOURS PRIOR TO THE CLASS. We have an extensive waiting list and would hope to offer another person your seat. \n\nFor an optimal webinar experience when registering and attending these virtual workshop\, the following is recommended: \n\nUSE the following email accounts-Gmail (google.com) or Outlook (outlook.com)\nRegister and attend the workshop with either browser-Google Chrome or Microsoft Edge\nIf you don’t receive the emails in your inbox\, please check your JUNK/SPAM Folder\nSessions are CST\nSign in 10 minutes prior to the webinar\n\nYou’ll receive the following emails. Last two have Join Webinar/LINK to attend \n\nEventbrite: Email Confirmation from Eventbrite which is ONLY your E-Ticket Summary\nGoToWebinar: Email Registration Confirmation of Computer Webinar from instructor to Click JOIN WEBINAR (LINK)\nGoToWebinar: Email Reminder ONE DAY PRIOR to Computer Webinar from instructor to Click JOIN WEBINAR (LINK)\n\nNote: There’s NO access code\, you’ll receive JOIN WEBINAR/LINK in your 2nd& 3rd emails. \nInformation/Cancel workshop-send email to webinar.organizer6@gmail.com \nYou can also send a note via Eventbrite website in the ticket order email section. \nThe North Suburban Cook County American Job Center is committed to providing all customers with quality\, professional services as well as a safe and comfortable learning environment. The use of our resources implies acceptance of our Customer Code of Conduct\, which is based on the principle of respect for all customers and staff. READ: https://www.ajcwheeling.com/wp-content/uploads/2020/08/Customer-Code-of-Conduct-handout.pdf \nQUESTIONS? EMAIL: contact@bcsillinois.org \nSubject to change without notice.
URL:https://www.ajcwheeling.com/event/google-drive-docs-and-sheets-basics-virtual-5/
ATTACH;FMTTYPE=image/jpeg:https://www.ajcwheeling.com/wp-content/uploads/2023/10/72d66428b884bac2fd397a367c8de61e.jpg
END:VEVENT
END:VCALENDAR