BEGIN:VCALENDAR
VERSION:2.0
PRODID:-//American Job Center in Wheeling - ECPv6.0.13.1//NONSGML v1.0//EN
CALSCALE:GREGORIAN
METHOD:PUBLISH
X-ORIGINAL-URL:https://www.ajcwheeling.com
X-WR-CALDESC:Events for American Job Center in Wheeling
REFRESH-INTERVAL;VALUE=DURATION:PT1H
X-Robots-Tag:noindex
X-PUBLISHED-TTL:PT1H
BEGIN:VTIMEZONE
TZID:America/Chicago
BEGIN:DAYLIGHT
TZOFFSETFROM:-0600
TZOFFSETTO:-0500
TZNAME:CDT
DTSTART:20230312T080000
END:DAYLIGHT
BEGIN:STANDARD
TZOFFSETFROM:-0500
TZOFFSETTO:-0600
TZNAME:CST
DTSTART:20231105T070000
END:STANDARD
END:VTIMEZONE
BEGIN:VEVENT
DTSTART;TZID=America/Chicago:20231207T093000
DTEND;TZID=America/Chicago:20231207T110000
DTSTAMP:20260425T112730
CREATED:20231116T152509Z
LAST-MODIFIED:20231116T152509Z
UID:10005191-1701941400-1701946800@www.ajcwheeling.com
SUMMARY:MS Excel Basics Part 3 (VIRTUAL)
DESCRIPTION:This webinar is part 3 of a 3-part webinar series designed to introduce key concepts crucial to building a working knowledge of MS Excel.\n\n\nThis webinar is part 3 of a 3-part webinar series designed to introduce key concepts crucial to building a working knowledge of MS Excel. In this 90-minute webinar we’ll explore additional functions\, look at how functions behave in the Excel environment\, add Comments\, and discuss printing options in Excel. \nPre-registration is required to attend. \n \nRegistration ends by 5pm the day prior to the Webinar. Once you register on Eventbrite\, you will receive an email from the instructor through GoToWebinar with the link to join this class. \n\nIf you need to cancel\, please cancel 48 hours prior so someone else on the waiting list can use your seat.\n\n\nPLEASE do not register and then no show.\n\nFor an optimal webinar experience when registering and attending these virtual workshop\, the following is recommended: \n\nUSE the following email accounts-Gmail (google.com) or Outlook (outlook.com)\nRegister and attend the workshop with either browser-Google Chrome or Microsoft Edge\nIf you don’t receive the emails in your inbox\, please check your JUNK/SPAM Folder\nSessions are CST\nSign in 10 minutes prior to the webinar\n\nYou’ll receive the following emails. Last two have Join Webinar/LINK to attend \n\nEventbrite: Email Confirmation from Eventbrite which is ONLY your E-Ticket Summary\nGoToWebinar: Email Registration Confirmation of Computer Webinar from instructor to Click JOIN WEBINAR (LINK)\nGoToWebinar: Email Reminder ONE DAY PRIOR to Computer Webinar from instructor to Click JOIN WEBINAR (LINK)\n\nNote: There’s NO access code\, you’ll receive JOIN WEBINAR/LINK in your 2nd& 3rd emails. \nInformation/Cancel workshop-send email to webinar.organizer6@gmail.com \nYou can also send a note via Eventbrite website in the ticket order email section. \nThe North Suburban Cook County American Job Center is committed to providing all customers with quality\, professional services as well as a safe and comfortable learning environment. The use of our resources implies acceptance of our Customer Code of Conduct\, which is based on the principle of respect for all customers and staff. READ: https://www.ajcwheeling.com/wp-content/uploads/2020/08/Customer-Code-of-Conduct-handout.pdf \nQUESTIONS? EMAIL: contact@bcsillinois.org
URL:https://www.ajcwheeling.com/event/ms-excel-basics-part-3-virtual-3/
ATTACH;FMTTYPE=image/jpeg:https://www.ajcwheeling.com/wp-content/uploads/2023/05/05edc016d02938098f15d97c16f0e4c7.jpg
END:VEVENT
BEGIN:VEVENT
DTSTART;TZID=America/Chicago:20231207T130000
DTEND;TZID=America/Chicago:20231207T143000
DTSTAMP:20260425T112730
CREATED:20231116T153414Z
LAST-MODIFIED:20231116T153414Z
UID:10005192-1701954000-1701959400@www.ajcwheeling.com
SUMMARY:MS EXCEL Focus on Functions - VLOOKUP (VIRTUAL)
DESCRIPTION:This 90-minute webinar shows you why VLOOKUP is a must-have Excel function that’s used to manipulate data.\n\n\nVLOOKUP is a must-have Excel function that’s used to manipulate data. In this 90-minute webinar we’ll explore VLOOKUP and the additional options that make it such a useful tool – and then delve deeper into the Lookup and Reference Function options. Lookup and Reference: explore VLOOKUP\, HLOOKUP and alternatives like INDEX and MATCH. \nRegistration ends by 5pm the day prior to the Webinar. Once you register on Eventbrite\, you will receive an email from the instructor through GoToWebinar with the link to join this class. \nPreregistration is required to attend. \n \n\nIf you need to cancel\, please cancel 48 hours prior so someone else on the waiting list can use your seat.\n\n\nPLEASE do not register and then no show.\n\nFor an optimal webinar experience when registering and attending these virtual workshop\, the following is recommended: \n\nUSE the following email accounts-Gmail (google.com) or Outlook (outlook.com)\nRegister and attend the workshop with either browser-Google Chrome or Microsoft Edge\nIf you don’t receive the emails in your inbox\, please check your JUNK/SPAM Folder\nSessions are CST\nSign in 10 minutes prior to the webinar\n\nYou’ll receive the following emails. Last two have Join Webinar/LINK to attend \n\nEventbrite: Email Confirmation from Eventbrite which is ONLY your E-Ticket Summary\nGoToWebinar: Email Registration Confirmation of Computer Webinar from instructor to Click JOIN WEBINAR (LINK)\nGoToWebinar: Email Reminder ONE DAY PRIOR to Computer Webinar from instructor to Click JOIN WEBINAR (LINK)\n\nNote: There’s NO access code\, you’ll receive JOIN WEBINAR/LINK in your 2nd& 3rd emails. \nInformation/Cancel workshop-send email to webinar.organizer6@gmail.com \nYou can also send a note via Eventbrite website in the ticket order email section. \nThe North Suburban Cook County American Job Center is committed to providing all customers with quality\, professional services as well as a safe and comfortable learning environment. The use of our resources implies acceptance of our Customer Code of Conduct\, which is based on the principle of respect for all customers and staff. READ: https://www.ajcwheeling.com/wp-content/uploads/2020/08/Customer-Code-of-Conduct-handout.pdf \nQUESTIONS? EMAIL: contact@bcsillinois.org \nSubject to change without notice.
URL:https://www.ajcwheeling.com/event/ms-excel-focus-on-functions-vlookup-virtual-3/
ATTACH;FMTTYPE=image/jpeg:https://www.ajcwheeling.com/wp-content/uploads/2023/11/474200276f650517ccd5cb5df0941291.jpg
END:VEVENT
END:VCALENDAR