BEGIN:VCALENDAR
VERSION:2.0
PRODID:-//American Job Center in Wheeling - ECPv6.0.13.1//NONSGML v1.0//EN
CALSCALE:GREGORIAN
METHOD:PUBLISH
X-ORIGINAL-URL:https://www.ajcwheeling.com
X-WR-CALDESC:Events for American Job Center in Wheeling
REFRESH-INTERVAL;VALUE=DURATION:PT1H
X-Robots-Tag:noindex
X-PUBLISHED-TTL:PT1H
BEGIN:VTIMEZONE
TZID:America/Chicago
BEGIN:DAYLIGHT
TZOFFSETFROM:-0600
TZOFFSETTO:-0500
TZNAME:CDT
DTSTART:20230312T080000
END:DAYLIGHT
BEGIN:STANDARD
TZOFFSETFROM:-0500
TZOFFSETTO:-0600
TZNAME:CST
DTSTART:20231105T070000
END:STANDARD
END:VTIMEZONE
BEGIN:VEVENT
DTSTART;TZID=America/Chicago:20231213T093000
DTEND;TZID=America/Chicago:20231213T120000
DTSTAMP:20260425T112753
CREATED:20231116T154843Z
LAST-MODIFIED:20231116T154915Z
UID:10005193-1702459800-1702468800@www.ajcwheeling.com
SUMMARY:MS Excel Beyond the Basics  IN-PERSON 2-day class
DESCRIPTION:MS Excel Beyond the Basics: Intermediate level overview including VLOOKUP\, IF\, PivotTables\, protection\, Tables\, Charts\, and data validation\n\n\nThis in-person complimentary class is taught in 2 sessions over 2 days (See Below) and is designed to introduce key concepts crucial to building a working knowledge of MS Microsoft Excel. In this class we’ll discuss intermediate topics including VLOOKUP\, IF\, PivotTables\, protection\, Tables\, Charts\, and data validation. \nPRE-REGISTRATION IS REQUIRED FOR ATTENDING THIS WORKSHOP!  \nRegistration closes promptly at 5pm THE DAY PRIOR TO CLASS. \n \nClass session is in 2 parts Wednesday AND Thursday from 9:30 AM to 12:00 PM. \n\nIf you need to cancel\, please cancel 48 hours prior so someone else on the waiting list can use your seat.\n\n\nPLEASE do not register and then no show. There is limited space and an extensive waiting list. \n\nWorkshop Location: North Suburban Cook County American Job Center – 1400 S Wolf Road\, Building 200\, Suite 200\, Wheeling\, IL 60090 \nPLEASE NOTE: \n\nYou must register as there is only space for 15 people per workshop.\nCheck in 10 minutes prior to workshop. No admittance after session starts. Be sure to allow enough time for traffic\, construction & weather.\nYou cannot attend Day 2 only; you must attend both days .\nWorkshops are for individuals age 18+.\nEach person has their own computer for learning.\nIf you need to cancel\, please cancel 48 hours prior so someone else on the waiting list can use your seat.\nPLEASE do not register and then no show. \n\nThe North Suburban Cook County American Job Center is committed to providing all customers with quality\, professional services as well as a safe and comfortable learning environment. The use of our resources implies acceptance of our Customer Code of Conduct\, which is based on the principle of respect for all customers and staff. READ: https://www.ajcwheeling.com/wp-content/uploads/2020/08/Customer-Code-of-Conduct-handout.pdf \nQ UESTIONS? EMAIL: contact@bcsillinois.org
URL:https://www.ajcwheeling.com/event/ms-excel-beyond-the-basics-in-person-2-day-class-2/
LOCATION:American Job Center in Wheeling\, 1400 South Wolf Road\, Building 200\, Suite 200\, Wheeling\, IL\, 60090\, United States
ATTACH;FMTTYPE=image/jpeg:https://www.ajcwheeling.com/wp-content/uploads/2023/03/e079d8dddff007af1feba35d29ee9649.jpg
END:VEVENT
BEGIN:VEVENT
DTSTART;TZID=America/Chicago:20231213T130000
DTEND;TZID=America/Chicago:20231213T153000
DTSTAMP:20260425T112753
CREATED:20231116T155208Z
LAST-MODIFIED:20231116T155208Z
UID:10005194-1702472400-1702481400@www.ajcwheeling.com
SUMMARY:MS WORD Tips andTricks - Streamline Your Resume Formatting IN PERSON CLASS
DESCRIPTION:We all need attractive\, easy-to-read\, “targeted” resumes -that are also easily customized.\n\n\nThis IN-PERSON class is taught in 1 session from 1:00pm to 3:30pm. \nLearn how to streamline your resume\, set tabs correctly\, create custom bullets\, insert stored text\, and track changes. Understand the difference between a text resume to upload into Applicant Tracking Systems\, and a visually appealing resume for interviews. \nPRE-REGISTRATION IS REQUIRED FOR ATTENDING THIS WORKSHOP! \n \n\nIf you need to cancel\, please cancel 48 hours prior so someone else on the waiting list can use your seat.\n\n\nPLEASE do not register and then no show. There is limited space and an extensive waiting list. \n\nWorkshop Location: North Suburban Cook County American Job Center 1400 S Wolf Road\, Building 200\, Suite 200\, Wheeling\, IL 60090 \nONE block south of Palatine-Willow Road & Wolf Road. West side of Wolf Road. \nPLEASE NOTE: \n\nYou must register as there is only space for 15 people per workshop.\nCheck in 10 minutes prior to workshop. ABSOLUTELY NO ADMITTANCE after session starts. Be sure to allow enough time for traffic\, construction & weather.\nYou cannot attend Day 2 only; you must attend both days.\nWorkshops are for individuals age 18+.\nEach person has their own computer for learning.\nIf you need to cancel\, please cancel 48 hours prior so someone else on the waiting list can use your seat.\nPLEASE do not register and then no show.\n\nThe North Suburban Cook County American Job Center is committed to providing all customers with quality\, professional services as well as a safe and comfortable learning environment. The use of our resources implies acceptance of our Customer Code of Conduct\, which is based on the principle of respect for all customers and staff. READ: https://www.ajcwheeling.com/wp-content/uploads/2020/08/Customer-Code-of-Conduct-handout.pdf \nQ UESTIONS? EMAIL: contact@bcsillinois.org
URL:https://www.ajcwheeling.com/event/ms-word-tips-andtricks-streamline-your-resume-formatting-in-person-class/
LOCATION:American Job Center in Wheeling\, 1400 South Wolf Road\, Building 200\, Suite 200\, Wheeling\, IL\, 60090\, United States
ATTACH;FMTTYPE=image/jpeg:https://www.ajcwheeling.com/wp-content/uploads/2023/02/0e52eaf732ea4f8612b6c95a11813f3b.jpg
END:VEVENT
END:VCALENDAR