BEGIN:VCALENDAR
VERSION:2.0
PRODID:-//American Job Center in Wheeling - ECPv6.0.13.1//NONSGML v1.0//EN
CALSCALE:GREGORIAN
METHOD:PUBLISH
X-ORIGINAL-URL:https://www.ajcwheeling.com
X-WR-CALDESC:Events for American Job Center in Wheeling
REFRESH-INTERVAL;VALUE=DURATION:PT1H
X-Robots-Tag:noindex
X-PUBLISHED-TTL:PT1H
BEGIN:VTIMEZONE
TZID:America/Chicago
BEGIN:DAYLIGHT
TZOFFSETFROM:-0600
TZOFFSETTO:-0500
TZNAME:CDT
DTSTART:20230312T080000
END:DAYLIGHT
BEGIN:STANDARD
TZOFFSETFROM:-0500
TZOFFSETTO:-0600
TZNAME:CST
DTSTART:20231105T070000
END:STANDARD
END:VTIMEZONE
BEGIN:VEVENT
DTSTART;TZID=America/Chicago:20231219T093000
DTEND;TZID=America/Chicago:20231219T110000
DTSTAMP:20260425T112755
CREATED:20231116T160327Z
LAST-MODIFIED:20231116T160327Z
UID:10005196-1702978200-1702983600@www.ajcwheeling.com
SUMMARY:MS Excel Advanced Concepts Pivot Tables (VIRTUAL)
DESCRIPTION:Excel Advanced Concepts – Pivot Tables: Summarize and manipulate data with pivot tables and pivot charts\n\n\nIn this 90-minute webinar we’ll talk about what a pivot table does and how to create pivot tables and pivot charts. We’ll also look at some of the additional PivotTable options like Slicers\, Timelines\, calculated fields and custom grouping. \nPre-registration is required to attend. \n \nRegistration ends by 5pm the day prior to the Webinar. Once you register on Eventbrite\, you will receive an email from the instructor through GoToWebinar with the link to join this class. \n\nIf you need to cancel\, please cancel 48 hours prior so someone else on the waiting list can use your seat.\n\n\nPLEASE do not register and then no show. There is limited space and an extensive waiting list. \n\nFor an optimal webinar experience when registering and attending these virtual workshop\, the following is recommended: \n\nUSE the following email accounts-Gmail (google.com) or Outlook (outlook.com)\nRegister and attend the workshop with either browser-Google Chrome or Microsoft Edge\nIf you don’t receive the emails in your inbox\, please check your JUNK/SPAM Folder\nSessions are CST\nSign in 10 minutes prior to the webinar\n\nYou’ll receive the following emails. Last two have Join Webinar/LINK to attend \n\nEventbrite: Email Confirmation from Eventbrite which is ONLY your E-Ticket Summary\nGoToWebinar: Email Registration Confirmation of Computer Webinar from instructor to Click JOIN WEBINAR (LINK)\nGoToWebinar: Email Reminder ONE DAY PRIOR to Computer Webinar from instructor to Click JOIN WEBINAR (LINK)\n\nNote: There’s NO access code\, you’ll receive JOIN WEBINAR/LINK in your 2nd& 3rd emails. \nInformation/Cancel workshop-send email to webinar.organizer6@gmail.com \nYou can also send a note via Eventbrite website in the ticket order email section. \nThe North Suburban Cook County American Job Center is committed to providing all customers with quality\, professional services as well as a safe and comfortable learning environment. The use of our resources implies acceptance of our Customer Code of Conduct\, which is based on the principle of respect for all customers and staff. READ: https://www.ajcwheeling.com/wp-content/uploads/2020/08/Customer-Code-of-Conduct-handout.pdf \nQUESTIONS? EMAIL: contact@bcsillinois.org
URL:https://www.ajcwheeling.com/event/ms-excel-advanced-concepts-pivot-tables-virtual-2/
ATTACH;FMTTYPE=image/jpeg:https://www.ajcwheeling.com/wp-content/uploads/2023/05/6fcef525bb4fa2f3ecaa6c939e0753c5.jpg
END:VEVENT
BEGIN:VEVENT
DTSTART;TZID=America/Chicago:20231219T130000
DTEND;TZID=America/Chicago:20231219T143000
DTSTAMP:20260425T112755
CREATED:20231116T160614Z
LAST-MODIFIED:20231116T160755Z
UID:10005197-1702990800-1702996200@www.ajcwheeling.com
SUMMARY:MS Word Beyond the Basics(VIRTUAL)
DESCRIPTION:MS Word Beyond the Basics – Efficient document design with Styles\, Style sets\, and built-in Quick Parts\n\n\nIn this virtual webinar: Discover the power of Styles – the efficient way to format and design Word documents. If you’re a regular user of Word creating reports\, proposals\, manuscripts\, etc. learning to use Styles is a game changer! A webinar scheduled later this month will focus on some additional Word tools including Tables and Mail Merge. \nPre-registration is required to attend. \n \nRegistration ends by 5pm the day prior to the Webinar. Once you register on Eventbrite\, you will receive an email from the instructor through GoToWebinar with the link to join this class. \n\nIf you need to cancel\, please cancel 48 hours prior so someone else on the waiting list can use your seat.\n\n\nPLEASE do not register and then no show.\n\nFor an optimal webinar experience when registering and attending these virtual workshop\, the following is recommended: \n\nUSE the following email accounts-Gmail (google.com) or Outlook (outlook.com)\nRegister and attend the workshop with either browser-Google Chrome or Microsoft Edge\nIf you don’t receive the emails in your inbox\, please check your JUNK/SPAM Folder\nSessions are CST\nSign in 10 minutes prior to the webinar\n\nYou’ll receive the following emails. Last two have Join Webinar/LINK to attend \n\nEventbrite: Email Confirmation from Eventbrite which is ONLY your E-Ticket Summary\nGoToWebinar: Email Registration Confirmation of Computer Webinar from instructor to Click JOIN WEBINAR (LINK)\nGoToWebinar: Email Reminder ONE DAY PRIOR to Computer Webinar from instructor to Click JOIN WEBINAR (LINK)\n\nNote: There’s NO access code\, you’ll receive JOIN WEBINAR/LINK in your 2nd& 3rd emails. \nInformation/Cancel workshop-send email to webinar.organizer6@gmail.com \nYou can also send a note via Eventbrite website in the ticket order email section. \nThe North Suburban Cook County American Job Center is committed to providing all customers with quality\, professional services as well as a safe and comfortable learning environment. The use of our resources implies acceptance of our Customer Code of Conduct\, which is based on the principle of respect for all customers and staff. READ: https://www.ajcwheeling.com/wp-content/uploads/2020/08/Customer-Code-of-Conduct-handout.pdf \nQUESTIONS? EMAIL: contact@bcsillinois.org
URL:https://www.ajcwheeling.com/event/ms-word-beyond-the-basicsvirtual-3/
ATTACH;FMTTYPE=image/jpeg:https://www.ajcwheeling.com/wp-content/uploads/2023/05/fb5b2ee845a53e2662bbaa32848c84f8.jpg
END:VEVENT
BEGIN:VEVENT
DTSTART;TZID=America/Chicago:20231219T160000
DTEND;TZID=America/Chicago:20231219T170000
DTSTAMP:20260425T112755
CREATED:20231211T232504Z
LAST-MODIFIED:20231211T233719Z
UID:10005239-1703001600-1703005200@www.ajcwheeling.com
SUMMARY:Jump Start Your Career - Manufacturing Careers Internship Program (Virtual Info Session)
DESCRIPTION:Jump Start Your Career -Manufacturing Careers Internship Program\n\n\nAre you ready to learn about career paths? Get a paid internship?\nAre you 18-24 years old?*\nDo you live in Evanston?*\nAre you looking for a career opportunity?\nDo you want to take charge of your career?\n\n\n\n\n\n\n\n\n*this program is limited to Evanston residents ages 18-24 years.\n\n\n\nOther programs are available if you do not meet this requirement for this program.
URL:https://www.ajcwheeling.com/event/jump-start-your-career-manufacturing-careers-internship-program-virtual-info-session/2023-12-19/
ATTACH;FMTTYPE=image/jpeg:https://www.ajcwheeling.com/wp-content/uploads/2023/12/1c2b006d7cb33d8f97861e0547bb273b.jpg
END:VEVENT
END:VCALENDAR