BEGIN:VCALENDAR
VERSION:2.0
PRODID:-//American Job Center in Wheeling - ECPv6.0.13.1//NONSGML v1.0//EN
CALSCALE:GREGORIAN
METHOD:PUBLISH
X-ORIGINAL-URL:https://www.ajcwheeling.com
X-WR-CALDESC:Events for American Job Center in Wheeling
REFRESH-INTERVAL;VALUE=DURATION:PT1H
X-Robots-Tag:noindex
X-PUBLISHED-TTL:PT1H
BEGIN:VTIMEZONE
TZID:America/Chicago
BEGIN:DAYLIGHT
TZOFFSETFROM:-0600
TZOFFSETTO:-0500
TZNAME:CDT
DTSTART:20240310T080000
END:DAYLIGHT
BEGIN:STANDARD
TZOFFSETFROM:-0500
TZOFFSETTO:-0600
TZNAME:CST
DTSTART:20241103T070000
END:STANDARD
END:VTIMEZONE
BEGIN:VEVENT
DTSTART;TZID=America/Chicago:20240110T093000
DTEND;TZID=America/Chicago:20240110T120000
DTSTAMP:20260425T100614
CREATED:20231122T173940Z
LAST-MODIFIED:20231122T173940Z
UID:10005202-1704879000-1704888000@www.ajcwheeling.com
SUMMARY:Excel Basics - IN-PERSON 2-day class
DESCRIPTION:Microsoft Excel Basics: Excel Basics: Spreadsheet construction\, basic formulas and functions\, sort\, filter\, formatting\, and printing\n\n\nThis IN-PERSON class is taught in 2 sessions over 2 days (See Below)\nWed. Jan. 10 & Thurs. Jan. 11 FROM 9:30am to noon – Excel Basics: Spreadsheet construction\, basic formulas and functions\, sort\, filter\, formatting\, and printing \nThis in-person class is designed to introduce key concepts crucial to building a working knowledge of Microsoft Excel. In this class we’ll talk about the Excel environment\, how spreadsheets work\, spreadsheet construction\, basic formulas and functions\, sort\, filter\, formatting\, and printing. \nPRE-REGISTRATION IS REQUIRED FOR ATTENDING THIS WORKSHOP! \n \nWorkshop Location: \nNorth Suburban Cook County American Job Center \n1400 S Wolf Road\, Building 200\, Suite 200\, Wheeling\, IL 60090 \n( one block south of Palatine/Willow Road & Wolf Road – west side of Wolf Rd) \nPLEASE NOTE: \n\nYou must register as there is only space for 15 people per workshop.\nCheck in 15 minutes prior to workshop. ABSOLUTELY NO ADMITTANCE after session starts. Be sure to allow enough time for traffic\, construction & weather.\nYou cannot attend Day 2 only; you must attend both days.\nWorkshops are for individuals age 18+.\nEach person has their own computer for learning.\nIf you need to cancel\, please let us know a minimum of 48 hours prior to class so someone else can use your seat. We will have an extensive waiting list – so if you cannot come – PLEASE CANCEL.\n\nThe North Suburban Cook County American Job Center is committed to providing all customers with quality\, professional services as well as a safe and comfortable learning environment. The use of our resources implies acceptance of our Customer Code of Conduct\, which is based on the principle of respect for all customers and staff. READ: https://www.ajcwheeling.com/wp-content/uploads/2020/08/Customer-Code-of-Conduct-handout.pdf \nQ UESTIONS? Email contact@bcsillinois.org
URL:https://www.ajcwheeling.com/event/excel-basics-in-person-2-day-class-6/
LOCATION:American Job Center in Wheeling\, 1400 South Wolf Road\, Building 200\, Suite 200\, Wheeling\, IL\, 60090\, United States
CATEGORIES:Job Search Workshop
ATTACH;FMTTYPE=image/jpeg:https://www.ajcwheeling.com/wp-content/uploads/2023/02/a8c3d91afb11dc48a3db19c5d70c54ed.jpg
END:VEVENT
BEGIN:VEVENT
DTSTART;TZID=America/Chicago:20240110T130000
DTEND;TZID=America/Chicago:20240110T150000
DTSTAMP:20260425T100614
CREATED:20231205T210302Z
LAST-MODIFIED:20240110T212946Z
UID:10005234-1704891600-1704898800@www.ajcwheeling.com
SUMMARY:Hiring Event - In Person Job Fair
DESCRIPTION:Attend this event for an On-the-Spot Interview with Conditional Offers of Employment available.\nFind out what’s best for you\n\n\nThree great employers with fantastic jobs!\nIn-Person Hiring Event\nWednesday\, January 10th at 1:00 PM -3:00 PM\n\nWalk-ins Accepted – – – Register at the door\nCheck out these great jobs with multiple employers (below)!\n\nAssisted Living Manager\nBookkeeper\nCDL Class A Truck Driver\nCertified Nursing Assistant\nChef\nCustomer Service\nEquipment & Vehicle Maintenance\nFood Service\nGeneral Labor\nHousekeeper\nInside Sales\nInstructional Design\nIT\nLogistics\nMetal Finishing\nNurse Management\nOperations Management\nQuality Assurance and Control\nRegistered Nurse\nSafety\nScheduler Estimator\nTraining\n\nJoin us for an On-the-Spot Interview – there’s something for everyone on our team. Find out what’s best for you and your schedule. \nRegistration is strongly recommended. Walk-ins welcome! If registration is full – please walk in and register at the door. 🙂 \nPlease bring 10 copies of your resume and your smile. Be ready to interview. \nArrive early: 12 noon to 2pm – If you need help practicing your “elevator speech” or printing your resume\, stop into the Career Mini-Mart Resource Center. We have printers and a computer lab where you can research companies\, print your resume and create/practice your elevator speech.\n\nCan’t wait? Click below to apply today :\n\nMagnetic Inspection Laboratory Inc. Elk Grove – https://milinc.com/about/careers\nReyes Holdings / Martin Brower / Coca-Cola Bottling\n\n\nRosemont: https://jobs.reyesholdings.com/job-search-results/?location=Rosemont\nNiles https://jobs.reyesholdings.com/job-search-results/?brand=Reyes%20Coca-Cola%20Bottling\n\n\nThe Mather Evanston – https://www.mather.com/jobs/the-mather\n\n  \nJob Fair Location:\nAmerican Job Center in Wheeling\n1400 S. Wolf Rd.\, Building 200; Suite 200\nWheeling\, IL 60090\n\nQuestions? contact@bcsillinois.org\nOther job fairs\, events\, workshops and classes here: https://www.ajcwheeling.com/events/\n\nBCS is committed to providing all customers with quality\, professional services as well as a safe and comfortable learning environment. The use of our resources (in person or virtual) implies acceptance of our Customer Code of Conduct (see attached Code of Conduct)\, which is based on the principle of respect for all customers and staff. https://www.ajcwheeling.com/wp-content/uploads/2020/08/Customer-Code-of-Conduct-handout.pdf \nIMPORTANT: For additional virtual job fairs\, free workshops and free computer classes\, visit northcookjobcenter.com/events/ \nOur agency is an equal opportunity employer/program. Auxiliary aids and services are available upon request to individuals with disabilities. Funding for this program is made possible through a grant provided by the Chicago Cook Workforce Partnership. This workforce product was funded by a grant awarded by the U.S. Department of Labor’s Employment and Training Administration. For more information please visit ChiCookWorks.org/DOL-Funding. \nSubject to change without notice.
URL:https://www.ajcwheeling.com/event/hiring-event-in-person-job-fair-2/
LOCATION:American Job Center in Wheeling\, 1400 South Wolf Road\, Building 200\, Suite 200\, Wheeling\, IL\, 60090\, United States
CATEGORIES:Hiring Event,Job Fair
ATTACH;FMTTYPE=image/jpeg:https://www.ajcwheeling.com/wp-content/uploads/2023/12/bfea6f0e17ccd8a7022203a3384ca388-1.jpg
END:VEVENT
BEGIN:VEVENT
DTSTART;TZID=America/Chicago:20240110T130000
DTEND;TZID=America/Chicago:20240110T153000
DTSTAMP:20260425T100614
CREATED:20231122T174213Z
LAST-MODIFIED:20240109T143729Z
UID:10005203-1704891600-1704900600@www.ajcwheeling.com
SUMMARY:Microsoft WORD: Basics - IN-PERSON class
DESCRIPTION:WORD Basics: Document creation\, font\, paragraph and page formatting including bulleted lists\, alignment\, indentation\, and line spacing\n\n\nThis in-person class is taught in 1 sessions (See Below) \nFROM 1:00pm to 3:30pm \nMicrosoft WORD Basics: Document creation\, font\, paragraph and page formatting including bulleted lists\, alignment\, indentation\, and line spacing. \nPRE-REGISTRATION IS REQUIRED FOR ATTENDING THIS WORKSHOP! \n \nWorkshop Location: American Job Center in Wheeling 1400 S Wolf Road\, Building 200\, Suite 200\, Wheeling\, IL 60090 \nONE block south of Palatine-Willow Road & Wolf Road. West side of Wolf Road. \nPLEASE NOTE: \n\nYou must register as there is only space for 15 people per workshop.\nCheck in 15 minutes prior to workshop. ABSOLUTELY NO ADMITTANCE after session starts. Be sure to allow enough time for traffic\, construction & weather.\nWorkshops are for individuals age 18+.\nEach person has their own computer for learning.\nIf you need to cancel\, please let us know a minimum of 48 hours prior to class so someone else on the waiting list can use your seat.\n\nThe American Job Center in Wheeling is committed to providing all customers with quality\, professional services as well as a safe and comfortable learning environment. The use of our resources implies acceptance of our Customer Code of Conduct\, which is based on the principle of respect for all customers and staff. READ: https://www.ajcwheeling.com/wp-content/uploads/2020/08/Customer-Code-of-Conduct-handout.pdf \nQ UESTIONS? EMAIL: contact@bcsillinois.org
URL:https://www.ajcwheeling.com/event/microsoft-word-basics-in-person-class-3/
LOCATION:American Job Center in Wheeling\, 1400 South Wolf Road\, Building 200\, Suite 200\, Wheeling\, IL\, 60090\, United States
ATTACH;FMTTYPE=image/jpeg:https://www.ajcwheeling.com/wp-content/uploads/2023/02/0e52eaf732ea4f8612b6c95a11813f3b.jpg
END:VEVENT
END:VCALENDAR