BEGIN:VCALENDAR
VERSION:2.0
PRODID:-//American Job Center in Wheeling - ECPv6.0.13.1//NONSGML v1.0//EN
CALSCALE:GREGORIAN
METHOD:PUBLISH
X-WR-CALNAME:American Job Center in Wheeling
X-ORIGINAL-URL:https://www.ajcwheeling.com
X-WR-CALDESC:Events for American Job Center in Wheeling
REFRESH-INTERVAL;VALUE=DURATION:PT1H
X-Robots-Tag:noindex
X-PUBLISHED-TTL:PT1H
BEGIN:VTIMEZONE
TZID:America/Chicago
BEGIN:DAYLIGHT
TZOFFSETFROM:-0600
TZOFFSETTO:-0500
TZNAME:CDT
DTSTART:20240310T080000
END:DAYLIGHT
BEGIN:STANDARD
TZOFFSETFROM:-0500
TZOFFSETTO:-0600
TZNAME:CST
DTSTART:20241103T070000
END:STANDARD
END:VTIMEZONE
BEGIN:VEVENT
DTSTART;TZID=America/Chicago:20240118T093000
DTEND;TZID=America/Chicago:20240118T110000
DTSTAMP:20260425T100620
CREATED:20231122T195751Z
LAST-MODIFIED:20231122T195751Z
UID:10005209-1705570200-1705575600@www.ajcwheeling.com
SUMMARY:MS Excel Basics Part 3 (VIRTUAL)
DESCRIPTION:This webinar is part 3 of a 3-part webinar series designed to introduce key concepts crucial to building a working knowledge of MS Excel.\n\n\nThis webinar is part 3 of a 3-part webinar series designed to introduce key concepts crucial to building a working knowledge of MS Excel. In this 90-minute webinar we’ll explore additional functions\, look at how functions behave in the Excel environment\, add Comments\, and discuss printing options in Excel. \nPre-registration is required to attend. \n \nRegistration ends by 5pm the day prior to the Webinar. Once you register on Eventbrite\, you will receive an email from the instructor through GoToWebinar with the link to join this class. \n\nIf you need to cancel\, please cancel 48 hours prior so someone else on the waiting list can use your seat.\n\n\nPLEASE do not register and then no show.\n\nFor an optimal webinar experience when registering and attending these virtual workshop\, the following is recommended: \n\nUSE the following email accounts-Gmail (google.com) or Outlook (outlook.com)\nRegister and attend the workshop with either browser-Google Chrome or Microsoft Edge\nIf you don’t receive the emails in your inbox\, please check your JUNK/SPAM Folder\nSessions are CST\nSign in 10 minutes prior to the webinar\n\nYou’ll receive the following emails. Last two have Join Webinar/LINK to attend \n\nEventbrite: Email Confirmation from Eventbrite which is ONLY your E-Ticket Summary\nGoToWebinar: Email Registration Confirmation of Computer Webinar from instructor to Click JOIN WEBINAR (LINK)\nGoToWebinar: Email Reminder ONE DAY PRIOR to Computer Webinar from instructor to Click JOIN WEBINAR (LINK)\n\nNote: There’s NO access code\, you’ll receive JOIN WEBINAR/LINK in your 2nd& 3rd emails. \nInformation/Cancel workshop-send email to webinar.organizer6@gmail.com \nYou can also send a note via Eventbrite website in the ticket order email section. \nThe North Suburban Cook County American Job Center is committed to providing all customers with quality\, professional services as well as a safe and comfortable learning environment. The use of our resources implies acceptance of our Customer Code of Conduct\, which is based on the principle of respect for all customers and staff. READ: https://www.ajcwheeling.com/wp-content/uploads/2020/08/Customer-Code-of-Conduct-handout.pdf \nQUESTIONS? EMAIL: contact@bcsillinois.org
URL:https://www.ajcwheeling.com/event/ms-excel-basics-part-3-virtual-4/
CATEGORIES:Job Search Workshop
ATTACH;FMTTYPE=image/jpeg:https://www.ajcwheeling.com/wp-content/uploads/2023/11/659b4a2c319245361681aa45fa14b173.jpg
END:VEVENT
BEGIN:VEVENT
DTSTART;TZID=America/Chicago:20240118T130000
DTEND;TZID=America/Chicago:20240118T143000
DTSTAMP:20260425T100620
CREATED:20231122T200027Z
LAST-MODIFIED:20231122T200051Z
UID:10005210-1705582800-1705588200@www.ajcwheeling.com
SUMMARY:Google Drive\, Docs and Sheets Basics (VIRTUAL)
DESCRIPTION:Google Drive\, Docs and Sheets Basics: Get started with Google’s popular text and spreadsheet applications\n\n\nIn this 90-minute webinar we’ll explore Google’s online alternatives to MS Word and Excel. Google Docs can be used to create letters\, reports\, resumes and other text-based documents. Google Sheets allows you to create spreadsheets using many of the same functions and features available in Excel. \nPreregistration is required to attend. \n \nRegistration ends by 5pm the day prior to the Webinar. Once you register on Eventbrite\, you will receive an email from the instructor through GoToWebinar with the link to join this class. \nFor an optimal webinar experience when registering and attending these virtual workshop\, the following is recommended: \n\nUSE the following email accounts-Gmail (google.com) or Outlook (outlook.com)\nRegister and attend the workshop with either browser-Google Chrome or Microsoft Edge\nIf you don’t receive the emails in your inbox\, please check your JUNK/SPAM Folder\nSessions are CST\nSign in 10 minutes prior to the webinar\n\nYou’ll receive the following emails. Last two have Join Webinar/LINK to attend \n\nEventbrite: Email Confirmation from Eventbrite which is ONLY your E-Ticket Summary\nGoToWebinar: Email Registration Confirmation of Computer Webinar from instructor to Click JOIN WEBINAR (LINK)\nGoToWebinar: Email Reminder ONE DAY PRIOR to Computer Webinar from instructor to Click JOIN WEBINAR (LINK)\nIf you need to cancel\, please let us know a minimum of 48 hours prior to class so someone else on the extensive waiting list can use your seat.\n\nNote: There’s NO access code\, you’ll receive JOIN WEBINAR/LINK in your 2nd& 3rd emails. \nInformation/Cancel workshop-send email to webinar.organizer6@gmail.com \nYou can also send a note via Eventbrite website in the ticket order email section. \nThe North Suburban Cook County American Job Center is committed to providing all customers with quality\, professional services as well as a safe and comfortable learning environment. The use of our resources implies acceptance of our Customer Code of Conduct\, which is based on the principle of respect for all customers and staff. READ: https://www.ajcwheeling.com/wp-content/uploads/2020/08/Customer-Code-of-Conduct-handout.pdf \nQUESTIONS? EMAIL: contact@bcsillinois.org \nSubject to change without notice.
URL:https://www.ajcwheeling.com/event/google-drive-docs-and-sheets-basics-virtual-6/
ATTACH;FMTTYPE=image/jpeg:https://www.ajcwheeling.com/wp-content/uploads/2023/04/4f76c4fb36c5716f2ea60c133c2bc48e.jpg
END:VEVENT
BEGIN:VEVENT
DTSTART;TZID=America/Chicago:20240118T150000
DTEND;TZID=America/Chicago:20240118T160000
DTSTAMP:20260425T100620
CREATED:20240109T225213Z
LAST-MODIFIED:20240109T231300Z
UID:10005273-1705590000-1705593600@www.ajcwheeling.com
SUMMARY:Jump Start Your Career -Manufacturing Careers Internship Program
DESCRIPTION:Are you ready to learn about career paths? Get a paid internship? \nJump Start Your Career -Manufacturing Careers Internship Program \n\nAre you ready to learn about career paths? Get a paid internship?\nAre you 18-24 years old?*\nDo you live in Suburban Cook County?*\nAre you looking for a career opportunity?\nDo you want to take charge of your career?\n\n \n  \nhttps://www.eventbrite.com/e/772522394277 \n  \n*this program is limited to Suburban Cook County (north\, south\, west) residents ages 18-24 years. Other programs are available if you do not meet this requirement for this program. Subject to change without notice. 
URL:https://www.ajcwheeling.com/event/jump-start-your-career-manufacturing-careers-internship-program-5/
ATTACH;FMTTYPE=image/jpeg:https://www.ajcwheeling.com/wp-content/uploads/2023/12/1c2b006d7cb33d8f97861e0547bb273b.jpg
END:VEVENT
END:VCALENDAR