BEGIN:VCALENDAR
VERSION:2.0
PRODID:-//American Job Center in Wheeling - ECPv6.0.13.1//NONSGML v1.0//EN
CALSCALE:GREGORIAN
METHOD:PUBLISH
X-WR-CALNAME:American Job Center in Wheeling
X-ORIGINAL-URL:https://www.ajcwheeling.com
X-WR-CALDESC:Events for American Job Center in Wheeling
REFRESH-INTERVAL;VALUE=DURATION:PT1H
X-Robots-Tag:noindex
X-PUBLISHED-TTL:PT1H
BEGIN:VTIMEZONE
TZID:America/Chicago
BEGIN:DAYLIGHT
TZOFFSETFROM:-0600
TZOFFSETTO:-0500
TZNAME:CDT
DTSTART:20240310T080000
END:DAYLIGHT
BEGIN:STANDARD
TZOFFSETFROM:-0500
TZOFFSETTO:-0600
TZNAME:CST
DTSTART:20241103T070000
END:STANDARD
END:VTIMEZONE
BEGIN:VEVENT
DTSTART;TZID=America/Chicago:20240124T093000
DTEND;TZID=America/Chicago:20240124T110000
DTSTAMP:20260425T100623
CREATED:20231122T200253Z
LAST-MODIFIED:20231122T200253Z
UID:10005211-1706088600-1706094000@www.ajcwheeling.com
SUMMARY:MS EXCEL Focus on Functions - VLOOKUP (VIRTUAL)
DESCRIPTION:This 90-minute webinar shows you why VLOOKUP is a must-have Excel function that’s used to manipulate data.\n\n\nVLOOKUP is a must-have Excel function that’s used to manipulate data. In this 90-minute webinar we’ll explore VLOOKUP and the additional options that make it such a useful tool – and then delve deeper into the Lookup and Reference Function options. Lookup and Reference: explore VLOOKUP\, HLOOKUP and alternatives like INDEX and MATCH. \nPreregistration is required to attend. \n \nRegistration ends by 5pm the day prior to the Webinar. Once you register on Eventbrite\, you will receive an email from the instructor through GoToWebinar with the link to join this class. \nFor an optimal webinar experience when registering and attending these virtual workshop\, the following is recommended: \n\nUSE the following email accounts-Gmail (google.com) or Outlook (outlook.com)\nRegister and attend the workshop with either browser-Google Chrome or Microsoft Edge\nIf you don’t receive the emails in your inbox\, please check your JUNK/SPAM Folder\nSessions are CST\nSign in 10 minutes prior to the webinar\n\nYou’ll receive the following emails. Last two have Join Webinar/LINK to attend \n\nEventbrite: Email Confirmation from Eventbrite which is ONLY your E-Ticket Summary\nGoToWebinar: Email Registration Confirmation of Computer Webinar from instructor to Click JOIN WEBINAR (LINK)\nGoToWebinar: Email Reminder ONE DAY PRIOR to Computer Webinar from instructor to Click JOIN WEBINAR (LINK)\nIf you need to cancel\, please let us know a minimum of 48 hours prior to class so someone else on the extensive waiting list can use your seat.\n\nNote: There’s NO access code\, you’ll receive JOIN WEBINAR/LINK in your 2nd& 3rd emails. \nInformation/Cancel workshop-send email to webinar.organizer6@gmail.com \nYou can also send a note via Eventbrite website in the ticket order email section. \nThe North Suburban Cook County American Job Center is committed to providing all customers with quality\, professional services as well as a safe and comfortable learning environment. The use of our resources implies acceptance of our Customer Code of Conduct\, which is based on the principle of respect for all customers and staff. READ: https://www.ajcwheeling.com/wp-content/uploads/2020/08/Customer-Code-of-Conduct-handout.pdf \nQUESTIONS? EMAIL: contact@bcsillinois.org \nSubject to change without notice.
URL:https://www.ajcwheeling.com/event/ms-excel-focus-on-functions-vlookup-virtual-4/
CATEGORIES:Job Search Workshop
ATTACH;FMTTYPE=image/jpeg:https://www.ajcwheeling.com/wp-content/uploads/2023/04/f311fbf6d356b6592ece6ceada65821a.jpg
END:VEVENT
BEGIN:VEVENT
DTSTART;TZID=America/Chicago:20240124T100000
DTEND;TZID=America/Chicago:20240124T113000
DTSTAMP:20260425T100623
CREATED:20240110T010608Z
LAST-MODIFIED:20240110T011041Z
UID:10005275-1706090400-1706095800@www.ajcwheeling.com
SUMMARY:Work 4 Illinois Recruitment Workshop
DESCRIPTION:Are You Looking for a State of Illinois Job? \nThe Illinois Department of Employment Security invites You to a Work 4 Illinois Recruitment Workshop featuring Central Management Services! \nThe workshop will include the following services; \n\nInstruction on how to apply for jobs with the State of Illinois\nOverview of current job openings & opportunities with multiple agencies\nSummary of the application process and a walkthrough of the CMS100\nTips for applying and interviewing\nCompletion and collection of application requirements\nInformation on IllinoisJobLink\n\nDate: Wed Jan 24th\, 10:00am through 11:30am \nLocation: 1400 S. Wolf Rd. Suite 200\, Wheeling\, IL 60090 \nPre-registration is required. To pre-register\, call Darius Ardelean at 847-484-8182\, or email darius.ardelean@illinois.gov\, Sylvia Valadez at 847-484-8192 or email sylvia.valadez@illinois.gov \nTo download flyer click below \n2024.01.24 – CMS Workshop 01.24.2024 version 2
URL:https://www.ajcwheeling.com/event/work-4-illinois-recruitment-workshop-2/
LOCATION:IDES Wheeling\, 1400 S. Wolf Road Building 200; suite 200\, Wheeling\, IL\, 60090\, United States
ATTACH;FMTTYPE=image/jpeg:https://www.ajcwheeling.com/wp-content/uploads/2024/01/IDES-WORK-4-ILLINOIS.jpg
END:VEVENT
BEGIN:VEVENT
DTSTART;TZID=America/Chicago:20240124T130000
DTEND;TZID=America/Chicago:20240124T143000
DTSTAMP:20260425T100623
CREATED:20231122T200523Z
LAST-MODIFIED:20231122T200523Z
UID:10005212-1706101200-1706106600@www.ajcwheeling.com
SUMMARY:MS Excel Conditional Tools: IF functions\, Data Validation\,  (VIRTUAL)
DESCRIPTION:Learn how to use IF and other logical functions to add conditions to Excel tasks\n\n\nAdd power and complexity to your Excel spreadsheets! In this 90-minute webinar we’ll talk about about one of the most powerful functions in Excel – the IF function. We’ll also talk about other logical functions like AND/OR as well as functions like SUMIF and AVERAGEIF. Many tools in Excel are condition-based. So what is a condition??? We’ll look at several areas of Excel that serve different purposes\, but use the same underlying concept of condition. Understanding how conditions are used in Excel not only extends your knowledge of different tools in Excel\, but adds to your overall understanding of Excel. \nPreregistration is required to attend. \n \nRegistration ends by 5pm the day prior to the Webinar. Once you register on Eventbrite\, you will receive an email from the instructor through GoToWebinar with the link to join this class. \n\nIf you need to cancel\, please cancel 48 hours prior so someone else on the waiting list can use your seat.\n\n\nPLEASE do not register and then no show.\n\nFor an optimal webinar experience when registering and attending these virtual workshop\, the following is recommended: \n\nUSE the following email accounts-Gmail (google.com) or Outlook (outlook.com)\nRegister and attend the workshop with either browser-Google Chrome or Microsoft Edge\nIf you don’t receive the emails in your inbox\, please check your JUNK/SPAM Folder\nSessions are CST\nSign in 10 minutes prior to the webinar\n\nYou’ll receive the following emails. Last two have Join Webinar/LINK to attend \n\nEventbrite: Email Confirmation from Eventbrite which is ONLY your E-Ticket Summary\nGoToWebinar: Email Registration Confirmation of Computer Webinar from instructor to Click JOIN WEBINAR (LINK)\nGoToWebinar: Email Reminder ONE DAY PRIOR to Computer Webinar from instructor to Click JOIN WEBINAR (LINK)\n\nNote: There’s NO access code\, you’ll receive JOIN WEBINAR/LINK in your 2nd& 3rd emails. \nInformation/Cancel workshop-send email to webinar.organizer6@gmail.com \nYou can also send a note via Eventbrite website in the ticket order email section. \nThe North Suburban Cook County American Job Center is committed to providing all customers with quality\, professional services as well as a safe and comfortable learning environment. The use of our resources implies acceptance of our Customer Code of Conduct\, which is based on the principle of respect for all customers and staff. READ: https://www.ajcwheeling.com/wp-content/uploads/2020/08/Customer-Code-of-Conduct-handout.pdf \nQUESTIONS? EMAIL: contact@bcsillinois.org \nSubject to change without notice.
URL:https://www.ajcwheeling.com/event/ms-excel-conditional-tools-if-functions-data-validation-virtual-3/
ATTACH;FMTTYPE=image/jpeg:https://www.ajcwheeling.com/wp-content/uploads/2023/11/0a3a49d505de972ad9f815c44a598ef0.jpg
END:VEVENT
END:VCALENDAR