BEGIN:VCALENDAR
VERSION:2.0
PRODID:-//American Job Center in Wheeling - ECPv6.0.13.1//NONSGML v1.0//EN
CALSCALE:GREGORIAN
METHOD:PUBLISH
X-ORIGINAL-URL:https://www.ajcwheeling.com
X-WR-CALDESC:Events for American Job Center in Wheeling
REFRESH-INTERVAL;VALUE=DURATION:PT1H
X-Robots-Tag:noindex
X-PUBLISHED-TTL:PT1H
BEGIN:VTIMEZONE
TZID:America/Chicago
BEGIN:DAYLIGHT
TZOFFSETFROM:-0600
TZOFFSETTO:-0500
TZNAME:CDT
DTSTART:20240310T080000
END:DAYLIGHT
BEGIN:STANDARD
TZOFFSETFROM:-0500
TZOFFSETTO:-0600
TZNAME:CST
DTSTART:20241103T070000
END:STANDARD
END:VTIMEZONE
BEGIN:VEVENT
DTSTART;TZID=America/Chicago:20240130T093000
DTEND;TZID=America/Chicago:20240130T110000
DTSTAMP:20260425T152755
CREATED:20231122T201117Z
LAST-MODIFIED:20231122T201117Z
UID:10005215-1706607000-1706612400@www.ajcwheeling.com
SUMMARY:Excel Advanced Concepts - Additional Data Analysis tools (VIRTUAL)
DESCRIPTION:Excel Advanced Concepts – Additional tools: Data validation\, Subtotal\, and Conditional Formatting\n\n\nThis 90-minute webinar focuses on some of the additional tools available in Excel that are very useful but often overlooked. We’ll talk about data validation\, the Subtotal feature (an alternative to pivot tables)\, Outline and the What-If tools. \nPre-registration is required to attend. \n \nRegistration ends by 5pm the day prior to the Webinar. Once you register on Eventbrite\, you will receive an email from the instructor through GoToWebinar with the link to join this class. \nFor an optimal webinar experience when registering and attending these virtual workshop\, the following is recommended: \n\nUSE the following email accounts-Gmail (google.com) or Outlook (outlook.com)\nRegister and attend the workshop with either browser-Google Chrome or Microsoft Edge\nIf you don’t receive the emails in your inbox\, please check your JUNK/SPAM Folder\nSessions are CST\nSign in 10 minutes prior to the webinar\n\nYou’ll receive the following emails. Last two have Join Webinar/LINK to attend \n\nEventbrite: Email Confirmation from Eventbrite which is ONLY your E-Ticket Summary\nGoToWebinar: Email Registration Confirmation of Computer Webinar from instructor to Click JOIN WEBINAR (LINK)\nGoToWebinar: Email Reminder ONE DAY PRIOR to Computer Webinar from instructor to Click JOIN WEBINAR (LINK)\nIf you need to cancel\, please let us know a minimum of 48 hours prior to class so someone else on the extensive waiting list can use your seat.\n\nNote: There’s NO access code\, you’ll receive JOIN WEBINAR/LINK in your 2nd& 3rd emails. \nInformation/Cancel workshop-send email to webinar.organizer6@gmail.com \nYou can also send a note via Eventbrite website in the ticket order email section. \nThe North Suburban Cook County American Job Center is committed to providing all customers with quality\, professional services as well as a safe and comfortable learning environment. The use of our resources implies acceptance of our Customer Code of Conduct\, which is based on the principle of respect for all customers and staff. READ: https://www.ajcwheeling.com/wp-content/uploads/2020/08/Customer-Code-of-Conduct-handout.pdf \nQUESTIONS? EMAIL: contact@bcsillinois.org
URL:https://www.ajcwheeling.com/event/excel-advanced-concepts-additional-data-analysis-tools-virtual-8/
ATTACH;FMTTYPE=image/jpeg:https://www.ajcwheeling.com/wp-content/uploads/2023/05/56ec419e2290c295384f8ec8e79d44a7.jpg
END:VEVENT
BEGIN:VEVENT
DTSTART;TZID=America/Chicago:20240130T100000
DTEND;TZID=America/Chicago:20240130T110000
DTSTAMP:20260425T152755
CREATED:20240126T162720Z
LAST-MODIFIED:20240126T164028Z
UID:10005284-1706608800-1706612400@www.ajcwheeling.com
SUMMARY:Jump Start Your Career -Manufacturing Careers Internship Program
DESCRIPTION:Are you ready to learn about career paths? Get a paid internship? \nMCIP: Manufacturing Careers Internship Program \nAttend this virtual program – CHOOSE YOUR DATE! \n \nJump Start Your Career. \n\nAre you 18-24 years old?*\nDo you live in suburban Cook County?*\nAre you looking for a career opportunity?\nDo you want to take charge of your career?\n\n*this program is limited to suburban Cook County residents ages 18-24 years. Other programs are available if you do not meet this requirement for this program. \nBenefits \n\nGain Work Experience and Earn $$$\nTransportation allowance\nCareer Exploration in high growth\, high-demand industries\nWork boots/ other items provided to successfully start internship\nJob placement and retention support\nObtain OSHA Safety Training and Forklift Operation and Safety Certification\nAnd more\n\nOther job fairs\, events\, workshops and classes here: https://www.ajcwheeling.com/events/\n\nQuestions? Email contact@bcsillinois.org \n\nBCS is committed to providing all customers with quality\, professional services as well as a safe and comfortable learning environment. The use of our resources (in person or virtual) implies acceptance of our Customer Code of Conduct (see attached Code of Conduct)\, which is based on the principle of respect for all customers and staff. https://www.ajcwheeling.com/wp-content/uploads/2020/08/Customer-Code-of-Conduct-handout.pdf \nIMPORTANT: For additional virtual job fairs\, free workshops and free computer classes\, visit northcookjobcenter.com/events/ \nOur agency is an equal opportunity employer/program. Auxiliary aids and services are available upon request to individuals with disabilities. Funding for this program is made possible through a grant provided by the Chicago Cook Workforce Partnership. This workforce product was funded by a grant awarded by the U.S. Department of Labor’s Employment and Training Administration. For more information please visit ChiCookWorks.org/DOL-Funding.
URL:https://www.ajcwheeling.com/event/jump-start-your-career-manufacturing-careers-internship-program-8/
ATTACH;FMTTYPE=image/jpeg:https://www.ajcwheeling.com/wp-content/uploads/2023/12/1c2b006d7cb33d8f97861e0547bb273b.jpg
END:VEVENT
BEGIN:VEVENT
DTSTART;TZID=America/Chicago:20240130T130000
DTEND;TZID=America/Chicago:20240130T143000
DTSTAMP:20260425T152755
CREATED:20231122T201256Z
LAST-MODIFIED:20231122T201256Z
UID:10005216-1706619600-1706625000@www.ajcwheeling.com
SUMMARY:Excel Charts (VIRTUAL)
DESCRIPTION:Graphically visualize and communicate data using Excel’s robust chart tools\n\n\nIn this 90-minute session you’ll learn to make your data more understandable and accessible using Excel’s robust chart feature. Learn how to choose the right chart type (column\, line\, pie\, etc.)\, and explore formatting and layout options. We’ll also explore some of Excel’s lesser known chart types like Sparklines and Forecasting charts.  \nPreregistration is required to attend.\n \n\nRegistration ends by 5pm the day prior to the Webinar. \nOnce you register on Eventbrite\, you will receive an email from the instructor through GoToWebinar with the link to join this class.\nIf you register to attend but then are unable to attend – PLEASE CANCEL YOUR REGISTRATION a MINIMUM of 48 hours prior to class. We limited space and typically have extensive waiting lists. Please be courteous and cancel if you are not going to use your seat.\n\nFor an optimal webinar experience when registering and attending these virtual workshop\, the following is recommended: \n\nUSE the following email accounts-Gmail (google.com) or Outlook (outlook.com)\nRegister and attend the workshop with either browser-Google Chrome or Microsoft Edge\nIf you don’t receive the emails in your inbox\, please check your JUNK/SPAM Folder\nSessions are CST\nSign in 10 minutes prior to the webinar\n\nYou’ll receive the following emails. Last two have Join Webinar/LINK to attend \n\nEventbrite: Email Confirmation from Eventbrite which is ONLY your E-Ticket Summary\nGoToWebinar: Email Registration Confirmation of Computer Webinar from instructor to Click JOIN WEBINAR (LINK)\nGoToWebinar: Email Reminder ONE DAY PRIOR to Computer Webinar from instructor to Click JOIN WEBINAR (LINK)\n\nNote: There’s NO access code\, you’ll receive JOIN WEBINAR/LINK in your 2nd& 3rd emails.  \nInformation/Cancel workshop-send email to webinar.organizer6@gmail.com \nYou can also send a note via Eventbrite website in the ticket order email section. \nThe North Suburban Cook County American Job Center is committed to providing all customers with quality\, professional services as well as a safe and comfortable learning environment. The use of our resources implies acceptance of our Customer Code of Conduct\, which is based on the principle of respect for all customers and staff. READ: https://www.ajcwheeling.com/wp-content/uploads/2020/08/Customer-Code-of-Conduct-handout.pdf \nQUESTIONS? EMAIL: contact@bcsillinois.org
URL:https://www.ajcwheeling.com/event/excel-charts-virtual-2/
ATTACH;FMTTYPE=image/jpeg:https://www.ajcwheeling.com/wp-content/uploads/2023/11/14a3022202ce2815c9a587f35f3a1f2b.jpg
END:VEVENT
END:VCALENDAR