BEGIN:VCALENDAR
VERSION:2.0
PRODID:-//American Job Center in Wheeling - ECPv6.0.13.1//NONSGML v1.0//EN
CALSCALE:GREGORIAN
METHOD:PUBLISH
X-WR-CALNAME:American Job Center in Wheeling
X-ORIGINAL-URL:https://www.ajcwheeling.com
X-WR-CALDESC:Events for American Job Center in Wheeling
REFRESH-INTERVAL;VALUE=DURATION:PT1H
X-Robots-Tag:noindex
X-PUBLISHED-TTL:PT1H
BEGIN:VTIMEZONE
TZID:America/Chicago
BEGIN:DAYLIGHT
TZOFFSETFROM:-0600
TZOFFSETTO:-0500
TZNAME:CDT
DTSTART:20240310T080000
END:DAYLIGHT
BEGIN:STANDARD
TZOFFSETFROM:-0500
TZOFFSETTO:-0600
TZNAME:CST
DTSTART:20241103T070000
END:STANDARD
END:VTIMEZONE
BEGIN:VEVENT
DTSTART;TZID=America/Chicago:20240207T093000
DTEND;TZID=America/Chicago:20240207T110000
DTSTAMP:20260425T140944
CREATED:20231228T222148Z
LAST-MODIFIED:20231228T222148Z
UID:10005242-1707298200-1707303600@www.ajcwheeling.com
SUMMARY:MS Excel Basics-Part 1 (VIRTUAL CLASS)
DESCRIPTION:Excel Basics (Part 1): How spreadsheets work\, basic formulas\, functions\, and formatting\n\n\nThis webinar is part 1 of a 3-part webinar series designed to introduce key concepts crucial to building a working knowledge of MS Excel. In this webinar we’ll talk about the Excel environment\, explore basic formulas and functions\, and discuss spreadsheet formatting options. \nPreregistration is required to attend.\n \n\nRegistration ends by 5pm the day prior to the Webinar.\nOnce you register on Eventbrite\, you will receive an email from the instructor through GoToWebinar with the link to join this class.\nIf you need to cancel\, please cancel 48 hours prior so someone else on the waiting list can use your seat.\nPLEASE do not register and then no show.\n\nFor an optimal webinar experience when registering and attending these virtual workshop\, the following is recommended: \n\nUSE the following email accounts-Gmail (google.com) or Outlook (outlook.com)\nRegister and attend the workshop with either browser-Google Chrome or Microsoft Edge\nIf you don’t receive the emails in your inbox\, please check your JUNK/SPAM Folder\nSessions are CST\nSign in 10 minutes prior to the webinar\n\nYou’ll receive the following emails. Last two have Join Webinar/LINK to attend \n\nEventbrite: Email Confirmation from Eventbrite which is ONLY your E-Ticket Summary\nGoToWebinar: Email Registration Confirmation of Computer Webinar from instructor to Click JOIN WEBINAR (LINK)\nGoToWebinar: Email Reminder ONE DAY PRIOR to Computer Webinar from instructor to Click JOIN WEBINAR (LINK)\n\nNote: There’s NO access code\, you’ll receive JOIN WEBINAR/LINK in your 2nd& 3rd emails. \nInformation/Cancel workshop-send email to webinar.organizer6@gmail.com \nYou can also send a note via Eventbrite website in the ticket order email section. \nThe American Job Center is committed to providing all customers with quality\, professional services as well as a safe and comfortable learning environment. The use of our resources implies acceptance of our Customer Code of Conduct\, which is based on the principle of respect for all customers and staff. READ: https://www.ajcwheeling.com/wp-content/uploads/2020/08/Customer-Code-of-Conduct-handout.pdf \nQUESTIONS? EMAIL: contact@bcsillinois.org
URL:https://www.ajcwheeling.com/event/ms-excel-basics-part-1-virtual-class/
ATTACH;FMTTYPE=image/jpeg:https://www.ajcwheeling.com/wp-content/uploads/2023/03/65c775079b2af979494fa4d6e2a7dfcd.jpg
END:VEVENT
BEGIN:VEVENT
DTSTART;TZID=America/Chicago:20240207T100000
DTEND;TZID=America/Chicago:20240207T140000
DTSTAMP:20260425T140944
CREATED:20240112T194652Z
LAST-MODIFIED:20240207T215929Z
UID:10005277-1707300000-1707314400@www.ajcwheeling.com
SUMMARY:Job Readiness: Resume prep\, elevator speech\, interview coaching and more
DESCRIPTION:Craft effective resumes; develop your elevator speech and practice interview – THIS coaching is the way to get interviews and get hired!\n\n\nThis IN-PERSON WORKSHOP is taught in two sessions:\n10am – 12pm and 1pm – 3pm (Attend one or both sessions – get as much help as you need.) \n\nCreating Your Target Resumes – More critical than you think!\nGetting the interview – but not the job? Interview Success Secrets\nHow to “Work”” a Job Fair and get an offer~\n\nJoin us on Wednesday\, February 7\, 2024 for an in-person event that will transform your job search game! \nLocated at 1400 South Wolf Road\, Wheeling\, IL 60090\, this event is your opportunity to learn the secrets of job search strategies that hit the mark. \nPRE-REGISTRATION IS STRONGLY RECOMMENDED FOR ATTENDING THIS WORKSHOP! \n \nWorkshop Location: American Job Center – Wheeling\, 1400 S Wolf Road\, Wheeling\, IL 60090 (Harper Learning & Career Center). ONE block south of Palatine-Willow Road & Wolf Road. WEST side of Wolf Road. Ample free parking in front. \nPLEASE NOTE: \n\nYou must register as there is only space for 18 people per workshop.\nRegistration closes at 7pm the day prior to workshop.\nCheck in 15 minutes prior to workshop. ABSOLUTELY NO ADMITTANCE after session starts. Be sure to allow enough time for traffic\, construction & weather.\nWorkshops are for individuals age 18+.\nSubject to change without notice.\nIf you need to cancel\, please let us know so someone else can use your seat.\n\nUPCOMING EVENTS \n\nFebruary 14th – meet with multiple employers to find your dream job. Details to follow.\n\nIMPORTANT: For additional job fairs\, free workshops and free computer classes\, visit northcookjobcenter.com/events/ \nBCS is committed to providing all customers with quality\, professional services as well as a safe and comfortable learning environment. The use of our resources (in person or virtual) implies acceptance of our Customer Code of Conduct (see attached Code of Conduct)\, which is based on the principle of respect for all customers and staff. https://www.ajcwheeling.com/wp-content/uploads/2020/08/Customer-Code-of-Conduct-handout.pdf \nOur agency is an equal opportunity employer/program. Auxiliary aids and services are available upon request to individuals with disabilities. Funding for this program is made possible through a grant provided by the Chicago Cook Workforce Partnership. This workforce product was funded by a grant awarded by the U.S. Department of Labor’s Employment and Training Administration. For more information please visit ChiCookWorks.org/DOL-Funding \n 
URL:https://www.ajcwheeling.com/event/job-readiness-resume-prep-elevator-speech-interview-coaching-and-more/
LOCATION:American Job Center in Wheeling\, 1400 South Wolf Road\, Building 200\, Suite 200\, Wheeling\, IL\, 60090\, United States
CATEGORIES:Job Search Workshop
ATTACH;FMTTYPE=image/jpeg:https://www.ajcwheeling.com/wp-content/uploads/2023/09/5f66b9302e9d88c5dbc639c1678baad3.jpg
END:VEVENT
BEGIN:VEVENT
DTSTART;TZID=America/Chicago:20240207T130000
DTEND;TZID=America/Chicago:20240207T143000
DTSTAMP:20260425T140944
CREATED:20231228T222407Z
LAST-MODIFIED:20231228T222407Z
UID:10005243-1707310800-1707316200@www.ajcwheeling.com
SUMMARY:MS Word Basics (Virtual)
DESCRIPTION:MS Word Basics: Basic editing and formatting: fonts\, bulleted lists\, indentation\, line spacing\, tabs\, and printing\n\n\nRegistration ends by 5pm the day prior to the Webinar. Once you register on Eventbrite\, you will receive an email from the instructor through GoToWebinar with the link to join this class. \nThis 90-minute webinar is designed to introduce key concepts crucial to building a working knowledge of MS Word. In this webinar we’ll talk about the Word environment\, explore the essential editing/formatting tools necessary to create basic documents\, and discuss the various options for saving and printing in Word. \nPre-registration is required to attend. \n \nRegistration ends by 5pm the day prior to the Webinar. Once you register on Eventbrite\, you will receive an email from the instructor through GoToWebinar with the link to join this class. \nFOR OPTIMAL USER EXPERIENCE: \n\nIt is recommended that you register with an email address from GMAIL or OUTLOOK.\nJoin the webinar using the GOOGLE CHROME browser.\nYou will receive an email from GOTOWEBINAR with your access link.\n\n\nIf you need to cancel\, please cancel 48 hours prior so someone else on the waiting list can use your seat.\n\n\nPLEASE do not register and then no show.\n\n  \nThe American Job Center is committed to providing all customers with quality\, professional services as well as a safe and comfortable learning environment. The use of our resources implies acceptance of our Customer Code of Conduct\, which is based on the principle of respect for all customers and staff. READ: \nhttps://www.ajcwheeling.com/wp-content/uploads/2020/08/Customer-Code-of-Conduct-handout.pdf \nQ UESTIONS? EMAIL: contact@bcsillinois.org \nThe American Job Center is committed to providing all customers with quality\, professional services as well as a safe and comfortable learning environment. The use of our resources implies acceptance of our Customer Code of Conduct\, which is based on the principle of respect for all customers and staff. READ: https://www.ajcwheeling.com/wp-content/uploads/2020/08/Customer-Code-of-Conduct-handout.pdf
URL:https://www.ajcwheeling.com/event/ms-word-basics-virtual-3/
ATTACH;FMTTYPE=image/jpeg:https://www.ajcwheeling.com/wp-content/uploads/2023/12/f91567056ba82e34142f1cd89eb26c74.jpg
END:VEVENT
END:VCALENDAR