BEGIN:VCALENDAR
VERSION:2.0
PRODID:-//American Job Center in Wheeling - ECPv6.0.13.1//NONSGML v1.0//EN
CALSCALE:GREGORIAN
METHOD:PUBLISH
X-WR-CALNAME:American Job Center in Wheeling
X-ORIGINAL-URL:https://www.ajcwheeling.com
X-WR-CALDESC:Events for American Job Center in Wheeling
REFRESH-INTERVAL;VALUE=DURATION:PT1H
X-Robots-Tag:noindex
X-PUBLISHED-TTL:PT1H
BEGIN:VTIMEZONE
TZID:America/Chicago
BEGIN:DAYLIGHT
TZOFFSETFROM:-0600
TZOFFSETTO:-0500
TZNAME:CDT
DTSTART:20240310T080000
END:DAYLIGHT
BEGIN:STANDARD
TZOFFSETFROM:-0500
TZOFFSETTO:-0600
TZNAME:CST
DTSTART:20241103T070000
END:STANDARD
END:VTIMEZONE
BEGIN:VEVENT
DTSTART;TZID=America/Chicago:20240208T093000
DTEND;TZID=America/Chicago:20240208T110000
DTSTAMP:20260425T140944
CREATED:20231228T222535Z
LAST-MODIFIED:20231228T222535Z
UID:10005244-1707384600-1707390000@www.ajcwheeling.com
SUMMARY:MS Excel Basics -Part 2 (VIRTUAL CLASS)
DESCRIPTION:Excel Basics (Part 2): Sort and filter data\, work with columns\, rows\, sheets\, and copy/paste\n\n\nThis webinar is part 2 of a 3-part webinar series designed to introduce key concepts crucial to building a working knowledge of MS Excel. In this 90-minute webinar we’ll learn to sort and filter\, work with columns\, rows and sheets\, and explore different ways to use copy and paste in Excel. \nPre-registration is required to attend. \n \nRegistration ends by 5pm the day prior to the Webinar. Once you register on Eventbrite\, you will receive an email from the instructor through GoToWebinar with the link to join this class. \nFOR OPTIMAL USER EXPERIENCE: \n\nIt is recommended that you register with an email address from GMAIL or OUTLOOK.\nJoin the webinar using the GOOGLE CHROME browser.\nYou will receive an email from GOTOWEBINAR with your access link.\n\n\nIf you need to cancel\, please cancel 48 hours prior so someone else on the waiting list can use your seat.\n\n\nPLEASE do not register and then no show. \n\n  \nThe American Job Center is committed to providing all customers with quality\, professional services as well as a safe and comfortable learning environment. The use of our resources implies acceptance of our Customer Code of Conduct\, which is based on the principle of respect for all customers and staff. READ: \nhttps://www.ajcwheeling.com/wp-content/uploads/2020/08/Customer-Code-of-Conduct-handout.pdf \nQ UESTIONS? EMAIL: contact@bcsillinois.org
URL:https://www.ajcwheeling.com/event/ms-excel-basics-part-2-virtual-class/
ATTACH;FMTTYPE=image/jpeg:https://www.ajcwheeling.com/wp-content/uploads/2023/03/97e5391e722db206414d012ccf899c17.jpg
END:VEVENT
BEGIN:VEVENT
DTSTART;TZID=America/Chicago:20240208T130000
DTEND;TZID=America/Chicago:20240208T143000
DTSTAMP:20260425T140944
CREATED:20231228T222647Z
LAST-MODIFIED:20231228T222647Z
UID:10005245-1707397200-1707402600@www.ajcwheeling.com
SUMMARY:MS PowerPoint Basics (VIRTUAL class)
DESCRIPTION:In this 90-minute webinar learn how to take advantage of PowerPoint’s many built-in template and style features.\n\n\nIn this 90-minute webinar you’ll learn how to take advantage of PowerPoint’s many built-in template and style features that will help streamline your PowerPoint process! \nP re-registration is required to attend. \n \nRegistration ends by 5pm the day prior to the Webinar. Once you register on Eventbrite\, you will receive an email from the instructor through GoToWebinar with the link to join this class. \n\nIf you need to cancel\, please cancel 48 hours prior so someone else on the waiting list can use your seat.\n\n\nPLEASE do not register and then no show.\n\nFor an optimal webinar experience when registering and attending these virtual workshop\, the following is recommended: \n\nUSE the following email accounts-Gmail (google.com) or Outlook (outlook.com)\nRegister and attend the workshop with either browser-Google Chrome or Microsoft Edge\nIf you don’t receive the emails in your inbox\, please check your JUNK/SPAM Folder\nSessions are CST\nSign in 10 minutes prior to the webinar\n\nYou’ll receive the following emails. Last two have Join Webinar/LINK to attend \n\nEventbrite: Email Confirmation from Eventbrite which is ONLY your E-Ticket Summary\nGoToWebinar: Email Registration Confirmation of Computer Webinar from instructor to Click JOIN WEBINAR (LINK)\nGoToWebinar: Email Reminder ONE DAY PRIOR to Computer Webinar from instructor to Click JOIN WEBINAR (LINK)\n\nNote: There’s NO access code\, you’ll receive JOIN WEBINAR/LINK in your 2nd& 3rd emails. \nInformation/Cancel workshop-send email to webinar.organizer6@gmail.com \nYou can also send a note via Eventbrite website in the ticket order email section. \nThe American Job Center is committed to providing all customers with quality\, professional services as well as a safe and comfortable learning environment. The use of our resources implies acceptance of our Customer Code of Conduct\, which is based on the principle of respect for all customers and staff. READ: https://www.ajcwheeling.com/wp-content/uploads/2020/08/Customer-Code-of-Conduct-handout.pdf \nQUESTIONS? EMAIL: contact@bcsillinois.org
URL:https://www.ajcwheeling.com/event/ms-powerpoint-basics-virtual-class/
ATTACH;FMTTYPE=image/jpeg:https://www.ajcwheeling.com/wp-content/uploads/2023/05/a8f2f67a068f65472b7a87d1883f2039.jpg
END:VEVENT
BEGIN:VEVENT
DTSTART;TZID=America/Chicago:20240208T150000
DTEND;TZID=America/Chicago:20240208T160000
DTSTAMP:20260425T140944
CREATED:20240126T162721Z
LAST-MODIFIED:20240126T164218Z
UID:10005287-1707404400-1707408000@www.ajcwheeling.com
SUMMARY:Jump Start Your Career -Manufacturing Careers Internship Program
DESCRIPTION:Are you ready to learn about career paths? Get a paid internship? \nMCIP: Manufacturing Careers Internship Program \nAttend this virtual program – CHOOSE YOUR DATE! \n \nJump Start Your Career. \n\nAre you 18-24 years old?*\nDo you live in suburban Cook County?*\nAre you looking for a career opportunity?\nDo you want to take charge of your career?\n\n*this program is limited to suburban Cook County residents ages 18-24 years. Other programs are available if you do not meet this requirement for this program. \nBenefits \n\nGain Work Experience and Earn $$$\nTransportation allowance\nCareer Exploration in high growth\, high-demand industries\nWork boots/ other items provided to successfully start internship\nJob placement and retention support\nObtain OSHA Safety Training and Forklift Operation and Safety Certification\nAnd more\n\nOther job fairs\, events\, workshops and classes here: https://www.ajcwheeling.com/events/\n\nQuestions? Email contact@bcsillinois.org \n\nBCS is committed to providing all customers with quality\, professional services as well as a safe and comfortable learning environment. The use of our resources (in person or virtual) implies acceptance of our Customer Code of Conduct (see attached Code of Conduct)\, which is based on the principle of respect for all customers and staff. https://www.ajcwheeling.com/wp-content/uploads/2020/08/Customer-Code-of-Conduct-handout.pdf \nIMPORTANT: For additional virtual job fairs\, free workshops and free computer classes\, visit northcookjobcenter.com/events/ \nOur agency is an equal opportunity employer/program. Auxiliary aids and services are available upon request to individuals with disabilities. Funding for this program is made possible through a grant provided by the Chicago Cook Workforce Partnership. This workforce product was funded by a grant awarded by the U.S. Department of Labor’s Employment and Training Administration. For more information please visit ChiCookWorks.org/DOL-Funding.
URL:https://www.ajcwheeling.com/event/jump-start-your-career-manufacturing-careers-internship-program-11/
ATTACH;FMTTYPE=image/jpeg:https://www.ajcwheeling.com/wp-content/uploads/2023/12/1c2b006d7cb33d8f97861e0547bb273b.jpg
END:VEVENT
END:VCALENDAR