BEGIN:VCALENDAR
VERSION:2.0
PRODID:-//American Job Center in Wheeling - ECPv6.0.13.1//NONSGML v1.0//EN
CALSCALE:GREGORIAN
METHOD:PUBLISH
X-WR-CALNAME:American Job Center in Wheeling
X-ORIGINAL-URL:https://www.ajcwheeling.com
X-WR-CALDESC:Events for American Job Center in Wheeling
REFRESH-INTERVAL;VALUE=DURATION:PT1H
X-Robots-Tag:noindex
X-PUBLISHED-TTL:PT1H
BEGIN:VTIMEZONE
TZID:America/Chicago
BEGIN:DAYLIGHT
TZOFFSETFROM:-0600
TZOFFSETTO:-0500
TZNAME:CDT
DTSTART:20240310T080000
END:DAYLIGHT
BEGIN:STANDARD
TZOFFSETFROM:-0500
TZOFFSETTO:-0600
TZNAME:CST
DTSTART:20241103T070000
END:STANDARD
END:VTIMEZONE
BEGIN:VEVENT
DTSTART;TZID=America/Chicago:20240215T130000
DTEND;TZID=America/Chicago:20240215T153000
DTSTAMP:20260425T083557
CREATED:20231228T223248Z
LAST-MODIFIED:20231229T172821Z
UID:10005248-1708002000-1708011000@www.ajcwheeling.com
SUMMARY:MS PowerPoint: Creating a Looped Presentation - In Person
DESCRIPTION:Overview including animation\, Slide Masters\, Sound\, and Looped Presentations.\n\n\nThis IN-PERSON class is designed to introduce key concepts crucial to building a working knowledge of Microsoft PowerPoint. In this class we’ll cover concepts including animation\, Slide Masters\, sound\, and looped presentations. \nPRE-REGISTRATION IS REQUIRED FOR ATTENDING THIS WORKSHOP! Registration closes promptly at 5pm the day prior to the class. \n \nWorkshop Location: American Job Center – Wheeling; 1400 S Wolf Road\, Building 200\, Suite 200\, Wheeling\, IL 60090. \nOne block south of Palatine-Willow Road; enter parking lot from Wolf Road\, immediate right turn. \nPLEASE NOTE: \n\nYou must register as there is only space for 15 people per workshop.\nCheck in 10 minutes prior to workshop. No admittance after session starts. Be sure to allow enough time for traffic\, construction & weather.\nWorkshops are for individuals age 18+.\nEach person has their own computer for learning.\nIf you need to cancel\, please cancel 48 hours prior so someone else on the waiting list can use your seat.\nPLEASE do not register and then no show.\n\nThe American Job Center is committed to providing all customers with quality\, professional services as well as a safe and comfortable learning environment. The use of our resources implies acceptance of our Customer Code of Conduct\, which is based on the principle of respect for all customers and staff. READ: \nhttps://www.ajcwheeling.com/wp-content/uploads/2020/08/Customer-Code-of-Conduct-handout.pdf \nQ UESTIONS? EMAIL: contact@bcsillinois.org
URL:https://www.ajcwheeling.com/event/ms-powerpoint-creating-a-looped-presentation-in-person-3/
LOCATION:American Job Center in Wheeling\, 1400 South Wolf Road\, Building 200\, Suite 200\, Wheeling\, IL\, 60090\, United States
ATTACH;FMTTYPE=image/jpeg:https://www.ajcwheeling.com/wp-content/uploads/2023/03/118c303d51ff3d7f01d44d11560c3692.jpg
END:VEVENT
END:VCALENDAR