BEGIN:VCALENDAR
VERSION:2.0
PRODID:-//American Job Center in Wheeling - ECPv6.0.13.1//NONSGML v1.0//EN
CALSCALE:GREGORIAN
METHOD:PUBLISH
X-ORIGINAL-URL:https://www.ajcwheeling.com
X-WR-CALDESC:Events for American Job Center in Wheeling
REFRESH-INTERVAL;VALUE=DURATION:PT1H
X-Robots-Tag:noindex
X-PUBLISHED-TTL:PT1H
BEGIN:VTIMEZONE
TZID:America/Chicago
BEGIN:DAYLIGHT
TZOFFSETFROM:-0600
TZOFFSETTO:-0500
TZNAME:CDT
DTSTART:20240310T080000
END:DAYLIGHT
BEGIN:STANDARD
TZOFFSETFROM:-0500
TZOFFSETTO:-0600
TZNAME:CST
DTSTART:20241103T070000
END:STANDARD
END:VTIMEZONE
BEGIN:VEVENT
DTSTART;TZID=America/Chicago:20240229T093000
DTEND;TZID=America/Chicago:20240229T110000
DTSTAMP:20260425T083552
CREATED:20231228T224214Z
LAST-MODIFIED:20240108T230634Z
UID:10005255-1709199000-1709204400@www.ajcwheeling.com
SUMMARY:EXCEL - Focus on Functions - Working with Text and Dates (VIRTUAL class)
DESCRIPTION:Excel Focus on Functions- Work with Text and Dates: CONCATENATE\, TODAY\, Flash Fill and Delimited Text\n\n\nText strings and dates can cause big problems in a spreadsheet if you’re not aware of how to identify and manipulate them! In this 90-minute webinar we’ll talk about basic text functions like CONCATENATE and date functions like TODAY. We’ll also explore tools like Flash Fill\, Text to Columns\, and delimited text \n \nRegistration ends by 5pm the day prior to the Webinar. Once you register on Eventbrite\, you will receive an email from the instructor through GoToWebinar with the link to join this class. \n\nIf you need to cancel\, please cancel 48 hours prior so someone else on the waiting list can use your seat.\n\n\nPLEASE do not register and then no show.\n\nFor an optimal webinar experience when registering and attending these virtual workshop\, the following is recommended: \n\nUSE the following email accounts-Gmail (google.com) or Outlook (outlook.com)\nRegister and attend the workshop with either browser-Google Chrome or Microsoft Edge\nIf you don’t receive the emails in your inbox\, please check your JUNK/SPAM Folder\nSessions are CST\nSign in 10 minutes prior to the webinar\n\nYou’ll receive the following emails. Last two have Join Webinar/LINK to attend \n\nEventbrite: Email Confirmation from Eventbrite which is ONLY your E-Ticket Summary\nGoToWebinar: Email Registration Confirmation of Computer Webinar from instructor to Click JOIN WEBINAR (LINK)\nGoToWebinar: Email Reminder ONE DAY PRIOR to Computer Webinar from instructor to Click JOIN WEBINAR (LINK)\n\nNote: There’s NO access code\, you’ll receive JOIN WEBINAR/LINK in your 2nd& 3rd emails. \nInformation/Cancel workshop-send email to webinar.organizer6@gmail.com \nYou can also send a note via Eventbrite website in the ticket order email section. \nThe American Job Center in Wheeling is committed to providing all customers with quality\, professional services as well as a safe and comfortable learning environment. The use of our resources implies acceptance of our Customer Code of Conduct\, which is based on the principle of respect for all customers and staff. READ: https://www.ajcwheeling.com/wp-content/uploads/2020/08/Customer-Code-of-Conduct-handout.pdf \nQUESTIONS? EMAIL: contact@bcsillinois.org \nSubject to change without notice.
URL:https://www.ajcwheeling.com/event/excel-focus-on-functions-working-with-text-and-dates-virtual-class/
ATTACH;FMTTYPE=image/jpeg:https://www.ajcwheeling.com/wp-content/uploads/2023/03/9378b16fdd179e115eeb151e40f81505.jpg
END:VEVENT
BEGIN:VEVENT
DTSTART;TZID=America/Chicago:20240229T100000
DTEND;TZID=America/Chicago:20240229T150000
DTSTAMP:20260425T083552
CREATED:20240214T222535Z
LAST-MODIFIED:20240214T223032Z
UID:10005322-1709200800-1709218800@www.ajcwheeling.com
SUMMARY:ASPIRE TO HIRE COMMUNITY HIRING EVENT
DESCRIPTION:ASPIRE TO HIRE COMMUNITY HIRING EVENT\nIndustries represented: \nTransportation Distribution and Logistics\, \nManufacturing and Warehouse \nFebruary 29\, 2024 \n10:00 AM – 3:00 PM \nDiscover Customer Care Center \n8560 S Cottage Grove Ave \nChicago\, IL 60619 \n \n \n2024.02.29 – Feb 29 Hiring Event Flyer\n 
URL:https://www.ajcwheeling.com/event/aspire-to-hire-community-hiring-event/
LOCATION:Discover Customer Care Center\, 8560 S Cottage Grove Ave\, Chicago\, Illinois\, 60619
CATEGORIES:Hiring Event,Job Fair
ATTACH;FMTTYPE=image/jpeg:https://www.ajcwheeling.com/wp-content/uploads/2024/02/2024.02.29-FEB.-29-HIRING-EVENT-TDL.jpg
END:VEVENT
BEGIN:VEVENT
DTSTART;TZID=America/Chicago:20240229T130000
DTEND;TZID=America/Chicago:20240229T143000
DTSTAMP:20260425T083552
CREATED:20231228T224331Z
LAST-MODIFIED:20240108T230601Z
UID:10005256-1709211600-1709217000@www.ajcwheeling.com
SUMMARY:Excel Advanced Concepts - Additional Data Analysis tools (VIRTUAL class)
DESCRIPTION:Excel Advanced Concepts – Additional tools: Data validation\, Subtotal\, and Conditional Formatting\n\n\nThis 90-minute webinar focuses on some of the additional tools available in Excel that are very useful but often overlooked. We’ll talk about data validation\, the Subtotal feature (an alternative to pivot tables)\, Outline and the What-If tools. \nP re-registration is required to attend. \n \nRegistration ends by 5pm the day prior to the Webinar. Once you register on Eventbrite\, you will receive an email from the instructor through GoToWebinar with the link to join this class. \nFor an optimal webinar experience when registering and attending these virtual workshop\, the following is recommended: \n\nUSE the following email accounts-Gmail (google.com) or Outlook (outlook.com)\nRegister and attend the workshop with either browser-Google Chrome or Microsoft Edge\nIf you don’t receive the emails in your inbox\, please check your JUNK/SPAM Folder\nSessions are CST\nSign in 10 minutes prior to the webinar\n\nYou’ll receive the following emails. Last two have Join Webinar/LINK to attend \n\nEventbrite: Email Confirmation from Eventbrite which is ONLY your E-Ticket Summary\nGoToWebinar: Email Registration Confirmation of Computer Webinar from instructor to Click JOIN WEBINAR (LINK)\nGoToWebinar: Email Reminder ONE DAY PRIOR to Computer Webinar from instructor to Click JOIN WEBINAR (LINK)\n\nNote: There’s NO access code\, you’ll receive JOIN WEBINAR/LINK in your 2nd& 3rd emails. \nInformation/Cancel workshop-send email to webinar.organizer6@gmail.com \nYou can also send a note via Eventbrite website in the ticket order email section. \nThe American Job Center in Wheeling is committed to providing all customers with quality\, professional services as well as a safe and comfortable learning environment. The use of our resources implies acceptance of our Customer Code of Conduct\, which is based on the principle of respect for all customers and staff. READ: https://www.ajcwheeling.com/wp-content/uploads/2020/08/Customer-Code-of-Conduct-handout.pdf \nQUESTIONS? EMAIL: contact@bcsillinois.org
URL:https://www.ajcwheeling.com/event/excel-advanced-concepts-additional-data-analysis-tools-virtual-class/
ATTACH;FMTTYPE=image/jpeg:https://www.ajcwheeling.com/wp-content/uploads/2023/05/56ec419e2290c295384f8ec8e79d44a7.jpg
END:VEVENT
END:VCALENDAR