BEGIN:VCALENDAR
VERSION:2.0
PRODID:-//American Job Center in Wheeling - ECPv6.0.13.1//NONSGML v1.0//EN
CALSCALE:GREGORIAN
METHOD:PUBLISH
X-ORIGINAL-URL:https://www.ajcwheeling.com
X-WR-CALDESC:Events for American Job Center in Wheeling
REFRESH-INTERVAL;VALUE=DURATION:PT1H
X-Robots-Tag:noindex
X-PUBLISHED-TTL:PT1H
BEGIN:VTIMEZONE
TZID:America/Chicago
BEGIN:DAYLIGHT
TZOFFSETFROM:-0600
TZOFFSETTO:-0500
TZNAME:CDT
DTSTART:20240310T080000
END:DAYLIGHT
BEGIN:STANDARD
TZOFFSETFROM:-0500
TZOFFSETTO:-0600
TZNAME:CST
DTSTART:20241103T070000
END:STANDARD
END:VTIMEZONE
BEGIN:VEVENT
DTSTART;TZID=America/Chicago:20240321T093000
DTEND;TZID=America/Chicago:20240321T110000
DTSTAMP:20260425T100108
CREATED:20240208T191758Z
LAST-MODIFIED:20240208T191758Z
UID:10005315-1711013400-1711018800@www.ajcwheeling.com
SUMMARY:MS Excel Charts (VIRTUAL CLASS)
DESCRIPTION:Graphically visualize and communicate data using Excel’s robust chart tools\n\n\nIn this 90-minute session you’ll learn to make your data more understandable and accessible using Excel’s robust chart feature. Learn how to choose the right chart type (column\, line\, pie\, etc.)\, and explore formatting and layout options. We’ll also explore some of Excel’s lesser known chart types like Sparklines and Forecasting charts. \nPreregistration is required to attend.\n \n\nRegistration ends by 5pm the day prior to the Webinar.\nOnce you register on Eventbrite\, you will receive an email from the instructor through GoToWebinar with the link to join this class.\nI f you register to attend but then are unable to attend – PLEASE CANCEL YOUR REGISTRATION a MINIMUM of 48 hours prior to class. We limited space and typically have extensive waiting lists. Please be courteous and cancel if you are not going to use your seat.\n\nFor an optimal webinar experience when registering and attending these virtual workshop\, the following is recommended: \n\nUSE the following email accounts-Gmail (google.com) or Outlook (outlook.com)\nRegister and attend the workshop with either browser-Google Chrome or Microsoft Edge\nIf you don’t receive the emails in your inbox\, please check your JUNK/SPAM Folder\nSessions are CST\nSign in 10 minutes prior to the webinar\n\nYou’ll receive the following emails. Last two have Join Webinar/LINK to attend \n\nEventbrite: Email Confirmation from Eventbrite which is ONLY your E-Ticket Summary\nGoToWebinar: Email Registration Confirmation of Computer Webinar from instructor to Click JOIN WEBINAR (LINK)\nGoToWebinar: Email Reminder ONE DAY PRIOR to Computer Webinar from instructor to Click JOIN WEBINAR (LINK)\n\nNote: There’s NO access code\, you’ll receive JOIN WEBINAR/LINK in your 2nd& 3rd emails. \nInformation/Cancel workshop-send email to webinar.organizer6@gmail.com \nYou can also send a note via Eventbrite website in the ticket order email section. \nThe American Job Center is committed to providing all customers with quality\, professional services as well as a safe and comfortable learning environment. The use of our resources implies acceptance of our Customer Code of Conduct\, which is based on the principle of respect for all customers and staff. READ: https://www.ajcwheeling.com/wp-content/uploads/2020/08/Customer-Code-of-Conduct-handout.pdf \nQUESTIONS? EMAIL: contact@bcsillinois.org
URL:https://www.ajcwheeling.com/event/ms-excel-charts-virtual-class/
ATTACH;FMTTYPE=image/jpeg:https://www.ajcwheeling.com/wp-content/uploads/2024/02/df88ab47a5bd7b93be8c83037cbcd782.jpg
END:VEVENT
BEGIN:VEVENT
DTSTART;TZID=America/Chicago:20240321T100000
DTEND;TZID=America/Chicago:20240321T140000
DTSTAMP:20260425T100108
CREATED:20240228T191957Z
LAST-MODIFIED:20240228T193106Z
UID:10005339-1711015200-1711029600@www.ajcwheeling.com
SUMMARY:Techapalooza Job Fair
DESCRIPTION:Join us for the first Techapalooza of the spring! Network and connect with local companies to learn about available opportunities in IT training\, careers\, and more! \n \n \nDownload flyer click below \nTechapalooza Flyer_March 2024 for Job Seekers \n  \n 
URL:https://www.ajcwheeling.com/event/techapalooza-job-fair-2/
LOCATION:Oakton Community College – Skokie\, 7701 Lincoln Ave - P103\, Skokie\, IL\, 60077\, United States
CATEGORIES:Hiring Event,Job Fair,Techapalooza
ATTACH;FMTTYPE=image/jpeg:https://www.ajcwheeling.com/wp-content/uploads/2023/03/2023.03.29-techapalooza-logo.jpg
END:VEVENT
BEGIN:VEVENT
DTSTART;TZID=America/Chicago:20240321T130000
DTEND;TZID=America/Chicago:20240321T143000
DTSTAMP:20260425T100108
CREATED:20240208T192101Z
LAST-MODIFIED:20240208T192101Z
UID:10005316-1711026000-1711031400@www.ajcwheeling.com
SUMMARY:NEW! Excel Advanced-Transform/Manipulate Data W/Power Query (VIRTUAL CLASS)
DESCRIPTION:This 90-minute webinar shows you how to manipulate /transform data quickly easily.\n\n\nThis NEW CLASS: Get started with Excel’s amazing data management tool that allows you to manipulate and transform data quickly and easily. Learn how to create\, edit\, load and refresh basic queries that will allow you to more easily solve everyday dataset issues. To get the most out of this session it’s helpful to have a good understanding of how to organize\, sort\, and filter data in Excel. \nPREREGISTRATION IS REQUIRED TO ATTEND THIS CLASS \n \nRegistration ends by 5pm the day prior to the Webinar. Once you register on Eventbrite\, you will receive an email from the instructor through GoToWebinar with the link to join this class. \nFor an optimal webinar experience when registering and attending these virtual workshop\, the following is recommended: \n\nUSE the following email accounts-Gmail (google.com) or Outlook (outlook.com)\nRegister and attend the workshop with either browser-Google Chrome or Microsoft Edge\nIf you don’t receive the emails in your inbox\, please check your JUNK/SPAM Folder\nSessions are CST\nSign in 10 minutes prior to the webinar\n\nYou’ll receive the following emails. Last two have Join Webinar/LINK to attend \n\nEventbrite: Email Confirmation from Eventbrite which is ONLY your E-Ticket Summary\nGoToWebinar: Email Registration Confirmation of Computer Webinar from instructor to Click JOIN WEBINAR (LINK)\nGoToWebinar: Email Reminder ONE DAY PRIOR to Computer Webinar from instructor to Click JOIN WEBINAR (LINK)\n\nNote: There’s NO access code\, you’ll receive JOIN WEBINAR/LINK in your 2nd& 3rd emails. \nInformation/Cancel workshop-send email to webinar.organizer6@gmail.com \nYou can also send a note via Eventbrite website in the ticket order email section. \nThe American Job Center is committed to providing all customers with quality\, professional services as well as a safe and comfortable learning environment. The use of our resources implies acceptance of our Customer Code of Conduct\, which is based on the principle of respect for all customers and staff. READ: https://www.ajcwheeling.com/wp-content/uploads/2020/08/Customer-Code-of-Conduct-handout.pdf \nQUESTIONS? EMAIL: contact@bcsillinois.org \nSubject to change without notice.
URL:https://www.ajcwheeling.com/event/new-excel-advanced-transform-manipulate-data-w-power-query-virtual-class/
ATTACH;FMTTYPE=image/jpeg:https://www.ajcwheeling.com/wp-content/uploads/2023/04/f311fbf6d356b6592ece6ceada65821a.jpg
END:VEVENT
END:VCALENDAR