BEGIN:VCALENDAR
VERSION:2.0
PRODID:-//American Job Center in Wheeling - ECPv6.0.13.1//NONSGML v1.0//EN
CALSCALE:GREGORIAN
METHOD:PUBLISH
X-WR-CALNAME:American Job Center in Wheeling
X-ORIGINAL-URL:https://www.ajcwheeling.com
X-WR-CALDESC:Events for American Job Center in Wheeling
REFRESH-INTERVAL;VALUE=DURATION:PT1H
X-Robots-Tag:noindex
X-PUBLISHED-TTL:PT1H
BEGIN:VTIMEZONE
TZID:America/Chicago
BEGIN:DAYLIGHT
TZOFFSETFROM:-0600
TZOFFSETTO:-0500
TZNAME:CDT
DTSTART:20240310T080000
END:DAYLIGHT
BEGIN:STANDARD
TZOFFSETFROM:-0500
TZOFFSETTO:-0600
TZNAME:CST
DTSTART:20241103T070000
END:STANDARD
END:VTIMEZONE
BEGIN:VEVENT
DTSTART;TZID=America/Chicago:20240327T093000
DTEND;TZID=America/Chicago:20240327T110000
DTSTAMP:20260425T083557
CREATED:20240208T192535Z
LAST-MODIFIED:20240208T193010Z
UID:10005317-1711531800-1711537200@www.ajcwheeling.com
SUMMARY:MS Excel Conditional Tools: IF functions\, Data Validation\,  (VIRTUAL CLASS)
DESCRIPTION:Learn how to use IF and other logical functions to add conditions to Excel tasks\n\n\nAdd power and complexity to your Excel spreadsheets! In this 90-minute webinar we’ll talk about about one of the most powerful functions in Excel – the IF function. We’ll also talk about other logical functions like AND/OR as well as functions like SUMIF and AVERAGEIF. Many tools in Excel are condition-based. So what is a condition??? We’ll look at several areas of Excel that serve different purposes\, but use the same underlying concept of condition. Understanding how conditions are used in Excel not only extends your knowledge of different tools in Excel\, but adds to your overall understanding of Excel. \nPREREGISTRATION IS REQUIRED TO ATTEND THIS CLASS. \n \nRegistration ends by 5pm the day prior to the Webinar. Once you register on Eventbrite\, you will receive an email from the instructor through GoToWebinar with the link to join this class. \n\nIf you need to cancel\, please cancel 48 hours prior so someone else on the waiting list can use your seat.\n\n\nPLEASE do not register and then no show.\n\nFor an optimal webinar experience when registering and attending these virtual workshop\, the following is recommended: \n\nUSE the following email accounts-Gmail (google.com) or Outlook (outlook.com)\nRegister and attend the workshop with either browser-Google Chrome or Microsoft Edge\nIf you don’t receive the emails in your inbox\, please check your JUNK/SPAM Folder\nSessions are CST\nSign in 10 minutes prior to the webinar\n\nYou’ll receive the following emails. Last two have Join Webinar/LINK to attend \n\nEventbrite: Email Confirmation from Eventbrite which is ONLY your E-Ticket Summary\nGoToWebinar: Email Registration Confirmation of Computer Webinar from instructor to Click JOIN WEBINAR (LINK)\nGoToWebinar: Email Reminder ONE DAY PRIOR to Computer Webinar from instructor to Click JOIN WEBINAR (LINK)\n\nNote: There’s NO access code\, you’ll receive JOIN WEBINAR/LINK in your 2nd& 3rd emails. \nInformation/Cancel workshop-send email to webinar.organizer6@gmail.com \nYou can also send a note via Eventbrite website in the ticket order email section. \nThe American Job Center is committed to providing all customers with quality\, professional services as well as a safe and comfortable learning environment. The use of our resources implies acceptance of our Customer Code of Conduct\, which is based on the principle of respect for all customers and staff. READ: https://www.ajcwheeling.com/wp-content/uploads/2020/08/Customer-Code-of-Conduct-handout.pdf \nQUESTIONS? EMAIL: contact@bcsillinois.org \nSubject to change without notice.
URL:https://www.ajcwheeling.com/event/ms-excel-conditional-tools-if-functions-data-validation-virtual-class-2/
ATTACH;FMTTYPE=image/jpeg:https://www.ajcwheeling.com/wp-content/uploads/2024/02/6466a0100402cfc059823744b47a8580.jpg
END:VEVENT
BEGIN:VEVENT
DTSTART;TZID=America/Chicago:20240327T110000
DTEND;TZID=America/Chicago:20240327T140000
DTSTAMP:20260425T083557
CREATED:20240219T144601Z
LAST-MODIFIED:20240219T144601Z
UID:10005325-1711537200-1711548000@www.ajcwheeling.com
SUMMARY:Hanover Township Job Fair
DESCRIPTION:13th Annual JOB FAIR\nWednesday\, March 27\, 2024\nVeterans only 11:00AM – 11:30AM\nGeneral Public 11:30AM – 2:00PM\n240 S. IL Route 59 Bartlett\, IL 60103 \n(630) 540-9085 \nwww.hanover-township.org \nDon’t miss a special information session and workshop presented by Don Nosbaum\, Business and Career Services\, American Job Center in Wheeling\, focused on “Job Seeker Resources”\, how to access free job seeker support resources\, including training funding\, resume assistance\, interview coaching and more. \nThis session will take place from 12PM –12:30PM.\nIf you are an employer with open positions in your organization and would like to participate in the Job Fair\, please call (630) 540-9085 for more information. \nVisit www.hanover-township.org for more information \n \nDOWNLOAD FLYER to print – click below:  \n2024-Job-Fair Flyer with speaker (004)
URL:https://www.ajcwheeling.com/event/hanover-township-job-fair/
LOCATION:Hanover Township Center\, 240 S. IL Route 59\, Bartlett\, IL\, 60103\, United States
CATEGORIES:Job Fair
ATTACH;FMTTYPE=image/jpeg:https://www.ajcwheeling.com/wp-content/uploads/2024/02/2024.03.27-Hanover-Township-Job-Fair.jpg
END:VEVENT
BEGIN:VEVENT
DTSTART;TZID=America/Chicago:20240327T130000
DTEND;TZID=America/Chicago:20240327T143000
DTSTAMP:20260425T083557
CREATED:20240208T193638Z
LAST-MODIFIED:20240322T152449Z
UID:10005318-1711544400-1711549800@www.ajcwheeling.com
SUMMARY:MS Excel Advanced Concepts - Additional Data Analysis tools (VIRTUAL CLASS)
DESCRIPTION:Excel Advanced Concepts – Additional tools: Data validation\, Subtotal\, and Conditional Formatting\n\n\nThis 90-minute webinar focuses on some of the additional tools available in Excel that are very useful but often overlooked. We’ll talk about data validation\, the Subtotal feature (an alternative to pivot tables)\, Outline and the What-If tools. \nPre-registration is required to attend. \n \nRegistration ends by 5pm the day prior to the Webinar. Once you register on Eventbrite\, you will receive an email from the instructor through GoToWebinar with the link to join this class. \nFor an optimal webinar experience when registering and attending these virtual workshop\, the following is recommended: \n\nUSE the following email accounts-Gmail (google.com) or Outlook (outlook.com)\nRegister and attend the workshop with either browser-Google Chrome or Microsoft Edge\nIf you don’t receive the emails in your inbox\, please check your JUNK/SPAM Folder\nSessions are CST\nSign in 10 minutes prior to the webinar\n\nYou’ll receive the following emails. Last two have Join Webinar/LINK to attend \n\nEventbrite: Email Confirmation from Eventbrite which is ONLY your E-Ticket Summary\nGoToWebinar: Email Registration Confirmation of Computer Webinar from instructor to Click JOIN WEBINAR (LINK)\nGoToWebinar: Email Reminder ONE DAY PRIOR to Computer Webinar from instructor to Click JOIN WEBINAR (LINK)\n\nNote: There’s NO access code\, you’ll receive JOIN WEBINAR/LINK in your 2nd& 3rd emails. \nInformation/Cancel workshop-send email to webinar.organizer6@gmail.com \nYou can also send a note via Eventbrite website in the ticket order email section. \nThe American Job Center is committed to providing all customers with quality\, professional services as well as a safe and comfortable learning environment. The use of our resources implies acceptance of our Customer Code of Conduct\, which is based on the principle of respect for all customers and staff. READ: https://www.ajcwheeling.com/wp-content/uploads/2020/08/Customer-Code-of-Conduct-handout.pdf \nQUESTIONS? EMAIL: contact@bcsillinois.org
URL:https://www.ajcwheeling.com/event/ms-excel-advanced-concepts-additional-data-analysis-tools-virtual-class/
ATTACH;FMTTYPE=image/jpeg:https://www.ajcwheeling.com/wp-content/uploads/2024/02/156b34cb3a662549d71ff3dedfe28a5b.jpg
END:VEVENT
END:VCALENDAR