BEGIN:VCALENDAR
VERSION:2.0
PRODID:-//American Job Center in Wheeling - ECPv6.0.13.1//NONSGML v1.0//EN
CALSCALE:GREGORIAN
METHOD:PUBLISH
X-WR-CALNAME:American Job Center in Wheeling
X-ORIGINAL-URL:https://www.ajcwheeling.com
X-WR-CALDESC:Events for American Job Center in Wheeling
REFRESH-INTERVAL;VALUE=DURATION:PT1H
X-Robots-Tag:noindex
X-PUBLISHED-TTL:PT1H
BEGIN:VTIMEZONE
TZID:America/Chicago
BEGIN:DAYLIGHT
TZOFFSETFROM:-0600
TZOFFSETTO:-0500
TZNAME:CDT
DTSTART:20240310T080000
END:DAYLIGHT
BEGIN:STANDARD
TZOFFSETFROM:-0500
TZOFFSETTO:-0600
TZNAME:CST
DTSTART:20241103T070000
END:STANDARD
END:VTIMEZONE
BEGIN:VEVENT
DTSTART;TZID=America/Chicago:20240403T093000
DTEND;TZID=America/Chicago:20240403T110000
DTSTAMP:20260425T055155
CREATED:20240307T151815Z
LAST-MODIFIED:20240307T151815Z
UID:10005348-1712136600-1712142000@www.ajcwheeling.com
SUMMARY:Microsoft Excel Basics-Part 1 (complimentary VIRTUAL CLASS)
DESCRIPTION:Excel Basics (Part 1): How spreadsheets work\, basic formulas\, functions\, and formatting\n\n\nThis webinar is part 1 of a 3-part webinar series designed to introduce key concepts crucial to building a working knowledge of MS Excel. In this webinar we’ll talk about the Excel environment\, explore basic formulas and functions\, and discuss spreadsheet formatting options. \nImproving your EXCEL skills can give you that competitive edge in today’s job market – whether for a promotion or a new job. \n  \nPreregistration is required to attend.\n \n\nRegistration ends by 5pm the day prior to the Webinar.\nOnce you register on Eventbrite\, you will receive an email from the instructor through GoToWebinar with the link to join this class.\nIf you need to cancel\, please cancel 48 hours prior so someone else on the waiting list can use your seat.\nPLEASE do not register and then no show.\n\nFor an optimal webinar experience when registering and attending these virtual workshop\, the following is recommended: \n\nUSE the following email accounts-Gmail (google.com) or Outlook (outlook.com)\nRegister and attend the workshop with either browser-Google Chrome or Microsoft Edge\nIf you don’t receive the emails in your inbox\, please check your JUNK/SPAM Folder\nSessions are CST\nSign in 10 minutes prior to the webinar\n\nYou’ll receive the following emails. Last two have Join Webinar/LINK to attend \n\nEventbrite: Email Confirmation from Eventbrite which is ONLY your E-Ticket Summary\nGoToWebinar: Email Registration Confirmation of Computer Webinar from instructor to Click JOIN WEBINAR (LINK)\nGoToWebinar: Email Reminder ONE DAY PRIOR to Computer Webinar from instructor to Click JOIN WEBINAR (LINK)\n\nNote: There’s NO access code\, you’ll receive JOIN WEBINAR/LINK in your 2nd& 3rd emails. \nInformation/Cancel workshop-send email to webinar.organizer6@gmail.com \nYou can also send a note via Eventbrite website in the ticket order email section. \nThe American Job Center is committed to providing all customers with quality\, professional services as well as a safe and comfortable learning environment. The use of our resources implies acceptance of our Customer Code of Conduct\, which is based on the principle of respect for all customers and staff. READ: https://www.ajcwheeling.com/wp-content/uploads/2020/08/Customer-Code-of-Conduct-handout.pdf \nQUESTIONS? EMAIL: contact@bcsillinois.org
URL:https://www.ajcwheeling.com/event/microsoft-excel-basics-part-1-complimentary-virtual-class/
ATTACH;FMTTYPE=image/jpeg:https://www.ajcwheeling.com/wp-content/uploads/2023/03/65c775079b2af979494fa4d6e2a7dfcd.jpg
END:VEVENT
BEGIN:VEVENT
DTSTART;TZID=America/Chicago:20240403T130000
DTEND;TZID=America/Chicago:20240403T143000
DTSTAMP:20260425T055155
CREATED:20240307T151925Z
LAST-MODIFIED:20240307T151925Z
UID:10005349-1712149200-1712154600@www.ajcwheeling.com
SUMMARY:Microsoft Word Basics - Complimentary Virtual Class
DESCRIPTION:MS Word Basics: Basic editing and formatting: fonts\, bulleted lists\, indentation\, line spacing\, tabs\, and printing\n\n\nDeveloping strong Microsoft Word skills is essential for enhancing your employability in today’s competitive job market. Whether you’re writing emails\, creating reports\, or other types of documents\, you need strong Microsoft Word skills. Find out what software skills employers look for in new hires. \nIn this virtual class\, we will cover MS Word Basics: Basic editing and formatting: fonts\, bulleted lists\, indentation\, line spacing\, tabs\, and printing. \nThis 90-minute webinar is designed to introduce key concepts crucial to building a working knowledge of MS Word. In this webinar we’ll talk about the Word environment\, explore the essential editing/formatting tools necessary to create basic documents\, and discuss the various options for saving and printing in Word. \nPre-registration is required to attend. \n \nRegistration ends by 5pm the day prior to the Webinar. Once you register on Eventbrite\, you will receive an email from the instructor through GoToWebinar with the link to join this class. \nFOR OPTIMAL USER EXPERIENCE: \n\nIt is recommended that you register with an email address from GMAIL or OUTLOOK.\nJoin the webinar using the GOOGLE CHROME browser.\nYou will receive an email from GOTOWEBINAR with your access link.\n\n\nIf you need to cancel\, please cancel 48 hours prior so someone else on the waiting list can use your seat.\n\n\nPLEASE do not register and then no show.\n\n  \nThe American Job Center is committed to providing all customers with quality\, professional services as well as a safe and comfortable learning environment. The use of our resources implies acceptance of our Customer Code of Conduct\, which is based on the principle of respect for all customers and staff. READ: \nhttps://www.ajcwheeling.com/wp-content/uploads/2020/08/Customer-Code-of-Conduct-handout.pdf \nQ UESTIONS? EMAIL: contact@bcsillinois.org \nThe American Job Center is committed to providing all customers with quality\, professional services as well as a safe and comfortable learning environment. The use of our resources implies acceptance of our Customer Code of Conduct\, which is based on the principle of respect for all customers and staff. READ: https://www.ajcwheeling.com/wp-content/uploads/2020/08/Customer-Code-of-Conduct-handout.pdf
URL:https://www.ajcwheeling.com/event/microsoft-word-basics-complimentary-virtual-class/
ATTACH;FMTTYPE=image/jpeg:https://www.ajcwheeling.com/wp-content/uploads/2024/03/e6a332547b320e1d531323d5af28224b.jpg
END:VEVENT
BEGIN:VEVENT
DTSTART;TZID=America/Chicago:20240403T130000
DTEND;TZID=America/Chicago:20240403T150000
DTSTAMP:20260425T055155
CREATED:20240306T164618Z
LAST-MODIFIED:20240312T201630Z
UID:10005344-1712149200-1712156400@www.ajcwheeling.com
SUMMARY:Job Readiness: Resume prep\, elevator speech\, interview coaching and more (in person)
DESCRIPTION:Join us on Wed\, April 3\, 2024 for an in-person event that will transform your job search game! Learn secrets of job search strategies. \nWalk-ins accepted! We are here to help! \n \nThis IN-PERSON WORKSHOP is taught in multiple sessions: You may arrive early or late . 1pm – 3pm\n\nCreating Your Target Resumes – More critical than you think!\n\n\nGetting the interview – but not the job? Interview Success Secrets\n\n\nHow to “Work”” a Job Fair and get an offer~\n\nJoin us on Wed.\, April 3\, 2024 for an in-person event that will transform your job search game! \nThis event is your opportunity to learn the secrets of job search strategies that hit the mark. \n(If session is full – please sign up for the waitlist.) \nWorkshop Location: American Job Center in Wheeling\, 1400 S Wolf Rd\, Building 200\, Wheeling\, IL 60090. 1/2 block south of Palatine-Willow Road. Enter parking lot on the west side of Wolf Road.
URL:https://www.ajcwheeling.com/event/job-readiness-resume-prep-elevator-speech-interview-coaching-and-more-in-person/
LOCATION:American Job Center in Wheeling\, 1400 South Wolf Road\, Building 200\, Suite 200\, Wheeling\, IL\, 60090\, United States
CATEGORIES:Job Search Workshop
ATTACH;FMTTYPE=image/jpeg:https://www.ajcwheeling.com/wp-content/uploads/2024/03/ee1a627d64eb1e28fc3a35f9a6a6e18e.jpg
END:VEVENT
END:VCALENDAR