BEGIN:VCALENDAR
VERSION:2.0
PRODID:-//American Job Center in Wheeling - ECPv6.0.13.1//NONSGML v1.0//EN
CALSCALE:GREGORIAN
METHOD:PUBLISH
X-ORIGINAL-URL:https://www.ajcwheeling.com
X-WR-CALDESC:Events for American Job Center in Wheeling
REFRESH-INTERVAL;VALUE=DURATION:PT1H
X-Robots-Tag:noindex
X-PUBLISHED-TTL:PT1H
BEGIN:VTIMEZONE
TZID:America/Chicago
BEGIN:DAYLIGHT
TZOFFSETFROM:-0600
TZOFFSETTO:-0500
TZNAME:CDT
DTSTART:20240310T080000
END:DAYLIGHT
BEGIN:STANDARD
TZOFFSETFROM:-0500
TZOFFSETTO:-0600
TZNAME:CST
DTSTART:20241103T070000
END:STANDARD
END:VTIMEZONE
BEGIN:VEVENT
DTSTART;TZID=America/Chicago:20240410T093000
DTEND;TZID=America/Chicago:20240410T110000
DTSTAMP:20260425T054630
CREATED:20240307T152318Z
LAST-MODIFIED:20240307T152318Z
UID:10005352-1712741400-1712746800@www.ajcwheeling.com
SUMMARY:Microsoft Excel Basics Part 3 - Complimentary VIRTUAL class
DESCRIPTION:This webinar is part 3 of a 3-part webinar series designed to introduce key concepts crucial to building a working knowledge of MS Excel.\n\n\nThis webinar is part 3 of a 3-part webinar series designed to introduce key concepts crucial to building a working knowledge of MS Excel. In this 90-minute webinar we’ll explore additional functions\, look at how functions behave in the Excel environment\, add Comments\, and discuss printing options in Excel. \nImproving your EXCEL skills can give you that competitive edge in today’s job market – whether for a promotion or a new job. \nPre-registration is required to attend. \n \nRegistration ends by 5pm the day prior to the Webinar. Once you register on Eventbrite\, you will receive an email from the instructor through GoToWebinar with the link to join this class. \n\nIf you need to cancel\, please cancel 48 hours prior so someone else on the waiting list can use your seat.\n\n\nPLEASE do not register and then no show.\n\nFor an optimal webinar experience when registering and attending these virtual workshop\, the following is recommended: \n\nUSE the following email accounts-Gmail (google.com) or Outlook (outlook.com)\nRegister and attend the workshop with either browser-Google Chrome or Microsoft Edge\nIf you don’t receive the emails in your inbox\, please check your JUNK/SPAM Folder\nSessions are CST\nSign in 10 minutes prior to the webinar\n\nYou’ll receive the following emails. Last two have Join Webinar/LINK to attend \n\nEventbrite: Email Confirmation from Eventbrite which is ONLY your E-Ticket Summary\nGoToWebinar: Email Registration Confirmation of Computer Webinar from instructor to Click JOIN WEBINAR (LINK)\nGoToWebinar: Email Reminder ONE DAY PRIOR to Computer Webinar from instructor to Click JOIN WEBINAR (LINK)\n\nNote: There’s NO access code\, you’ll receive JOIN WEBINAR/LINK in your 2nd& 3rd emails. \nInformation/Cancel workshop-send email to webinar.organizer6@gmail.com \nYou can also send a note via Eventbrite website in the ticket order email section. \nThe American Job Center is committed to providing all customers with quality\, professional services as well as a safe and comfortable learning environment. The use of our resources implies acceptance of our Customer Code of Conduct\, which is based on the principle of respect for all customers and staff. READ: https://www.ajcwheeling.com/wp-content/uploads/2020/08/Customer-Code-of-Conduct-handout.pdf \nQUESTIONS? EMAIL: contact@bcsillinois.org
URL:https://www.ajcwheeling.com/event/microsoft-excel-basics-part-3-complimentary-virtual-class/
ATTACH;FMTTYPE=image/jpeg:https://www.ajcwheeling.com/wp-content/uploads/2023/05/05edc016d02938098f15d97c16f0e4c7.jpg
END:VEVENT
BEGIN:VEVENT
DTSTART;TZID=America/Chicago:20240410T130000
DTEND;TZID=America/Chicago:20240410T143000
DTSTAMP:20260425T054630
CREATED:20240307T152549Z
LAST-MODIFIED:20240307T152549Z
UID:10005353-1712754000-1712759400@www.ajcwheeling.com
SUMMARY:Google Drive\, Docs and Sheets Basics - Complimentary VIRTUAL CLASS
DESCRIPTION:Google Drive\, Docs and Sheets Basics: Get started with Google’s popular text and spreadsheet applications\n\n\nIn this 90-minute webinar we’ll explore Google’s online alternatives to MS Word and Excel. Google Docs can be used to create letters\, reports\, resumes and other text-based documents. Google Sheets allows you to create spreadsheets using many of the same functions and features available in Excel. \nImproving your computer skills can give you that competitive edge in today’s job market – whether for a promotion or a new job. \nPreregistration is required to attend this webinar. \n \nRegistration ends by 5pm the day prior to the Webinar. Once you register on Eventbrite\, you will receive an email from the instructor through GoToWebinar with the link to join this class. \nFor an optimal webinar experience when registering and attending these virtual workshop\, the following is recommended: \n\nUSE the following email accounts-Gmail (google.com) or Outlook (outlook.com)\nRegister and attend the workshop with either browser-Google Chrome or Microsoft Edge\nIf you don’t receive the emails in your inbox\, please check your JUNK/SPAM Folder\nSessions are CST\nSign in 10 minutes prior to the webinar\n\nYou’ll receive the following emails. Last two have Join Webinar/LINK to attend \n\nEventbrite: Email Confirmation from Eventbrite which is ONLY your E-Ticket Summary\nGoToWebinar: Email Registration Confirmation of Computer Webinar from instructor to Click JOIN WEBINAR (LINK)\nGoToWebinar: Email Reminder ONE DAY PRIOR to Computer Webinar from instructor to Click JOIN WEBINAR (LINK)\nIf you need to cancel\, please let us know a minimum of 48 hours prior to class so someone else on the extensive waiting list can use your seat.\n\nNote: There’s NO access code\, you’ll receive JOIN WEBINAR/LINK in your 2nd& 3rd emails. \nInformation/Cancel workshop-send email to webinar.organizer6@gmail.com \nYou can also send a note via Eventbrite website in the ticket order email section. \nThe North Suburban Cook County American Job Center is committed to providing all customers with quality\, professional services as well as a safe and comfortable learning environment. The use of our resources implies acceptance of our Customer Code of Conduct\, which is based on the principle of respect for all customers and staff. READ: https://www.ajcwheeling.com/wp-content/uploads/2020/08/Customer-Code-of-Conduct-handout.pdf \nQUESTIONS? EMAIL: contact@bcsillinois.org \nSubject to change without notice.
URL:https://www.ajcwheeling.com/event/google-drive-docs-and-sheets-basics-complimentary-virtual-class/
ATTACH;FMTTYPE=image/jpeg:https://www.ajcwheeling.com/wp-content/uploads/2023/04/4f76c4fb36c5716f2ea60c133c2bc48e.jpg
END:VEVENT
BEGIN:VEVENT
DTSTART;TZID=America/Chicago:20240410T130000
DTEND;TZID=America/Chicago:20240410T150000
DTSTAMP:20260425T054630
CREATED:20240306T170041Z
LAST-MODIFIED:20240406T212816Z
UID:10005345-1712754000-1712761200@www.ajcwheeling.com
SUMMARY:Hiring Event - In Person Job Fair
DESCRIPTION:  \nWalk-ins accepted! Register at the Door! Great employers with fantastic jobs!\nBring your resumes and a smile – Walk in any time!\nIn-Person Hiring Event\nWednesday\, April 10th at 1:00 PM -3:00 PM\n\nJob Fair Location:\nAmerican Job Center in Wheeling\n1400 S Wolf Road\, Building 200\, Wheeling\, IL 60090\n1/2 block south of Palatine-Willow Road. Enter Parking lot on west side of Wolf Road. \n\nJoin us for an On-the-Spot Interview – there’s something for everyone on our team. Find out what’s best for you and your schedule. \nRegistration is strongly recommended. Walk-ins welcome! If registration is full – please walk in and register at the door. 🙂 \nCheck out these great jobs with multiple employers! \n\nCook County Government\nhttps://www.cookcountyil.gov/service-groups/jobs-and-employment\nFedEx\nhttps://careers.fedex.com/fedex/\nGF Manufacturing Solutions LLC\nhttps://www.gfms.com/en-us/about-us/career.html\nWoodward MPC\nhttps://www.woodward.com/en/careers\n\nJob Categories \n  \n\n Accounting\nBusiness Development Management\nCommercial Finance Management\nCook County Government Jobs\nCustomer Service & Support \nEngineering \nMaterial & Package Handling\nMaterial Sourcing Management \nMechanical Assembly\nQuality Assurance & Control \nSales\nAnd More\n\n  \nPlease bring 10 copies of your resume and your smile. Be ready to interview. \nArrive early: 12 noon to 2pm – If you need help practicing your “elevator speech” or printing your resume\, stop into the Career Mini-Mart Resource Center. We have printers and a computer resource center where you can also research companies at the event.
URL:https://www.ajcwheeling.com/event/hiring-event-in-person-job-fair-5/
LOCATION:American Job Center in Wheeling\, 1400 South Wolf Road\, Building 200\, Suite 200\, Wheeling\, IL\, 60090\, United States
CATEGORIES:Hiring Event,Job Fair
ATTACH;FMTTYPE=image/jpeg:https://www.ajcwheeling.com/wp-content/uploads/2024/03/12158966f19dae1036c2a748e0abead2.jpg
END:VEVENT
END:VCALENDAR