BEGIN:VCALENDAR
VERSION:2.0
PRODID:-//American Job Center in Wheeling - ECPv6.0.13.1//NONSGML v1.0//EN
CALSCALE:GREGORIAN
METHOD:PUBLISH
X-WR-CALNAME:American Job Center in Wheeling
X-ORIGINAL-URL:https://www.ajcwheeling.com
X-WR-CALDESC:Events for American Job Center in Wheeling
REFRESH-INTERVAL;VALUE=DURATION:PT1H
X-Robots-Tag:noindex
X-PUBLISHED-TTL:PT1H
BEGIN:VTIMEZONE
TZID:America/Chicago
BEGIN:DAYLIGHT
TZOFFSETFROM:-0600
TZOFFSETTO:-0500
TZNAME:CDT
DTSTART:20240310T080000
END:DAYLIGHT
BEGIN:STANDARD
TZOFFSETFROM:-0500
TZOFFSETTO:-0600
TZNAME:CST
DTSTART:20241103T070000
END:STANDARD
END:VTIMEZONE
BEGIN:VEVENT
DTSTART;TZID=America/Chicago:20240514T093000
DTEND;TZID=America/Chicago:20240514T113000
DTSTAMP:20260425T202625
CREATED:20240311T201430Z
LAST-MODIFIED:20240514T054451Z
UID:10005365-1715679000-1715686200@www.ajcwheeling.com
SUMMARY:LinkedIn Basics - FREE - In Person\, Tuesday May 14\,  2024
DESCRIPTION:9:30am Chicago time.\n\nTake the LinkedIn Basics workshop to make your LinkedIn profile easy to find\, learn ways to find others and much more!\n\n\nInstructor Dee Reinhardt leads this highly interactive session. Participants must have an active LinkedIn profile (and know your password) in order to register for this workshop. \nTopics covered will include: \n• Ways for you to be more visible on LinkedIn \n• How to use tools like search\, advanced search\, groups and companies to find hiring opportunities. \n \nRegistration closes 24 hours prior to class.
URL:https://www.ajcwheeling.com/event/linkedin-basics-free-in-person-tuesday-may-14-2024/
LOCATION:American Job Center in Wheeling\, 1400 South Wolf Road\, Building 200\, Suite 200\, Wheeling\, IL\, 60090\, United States
ATTACH;FMTTYPE=image/jpeg:https://www.ajcwheeling.com/wp-content/uploads/2024/03/b02b6b9d9523d33a74d1f5b8ff4788a4.jpg
END:VEVENT
END:VCALENDAR