BEGIN:VCALENDAR
VERSION:2.0
PRODID:-//American Job Center in Wheeling - ECPv6.0.13.1//NONSGML v1.0//EN
CALSCALE:GREGORIAN
METHOD:PUBLISH
X-WR-CALNAME:American Job Center in Wheeling
X-ORIGINAL-URL:https://www.ajcwheeling.com
X-WR-CALDESC:Events for American Job Center in Wheeling
REFRESH-INTERVAL;VALUE=DURATION:PT1H
X-Robots-Tag:noindex
X-PUBLISHED-TTL:PT1H
BEGIN:VTIMEZONE
TZID:America/Chicago
BEGIN:DAYLIGHT
TZOFFSETFROM:-0600
TZOFFSETTO:-0500
TZNAME:CDT
DTSTART:20240310T080000
END:DAYLIGHT
BEGIN:STANDARD
TZOFFSETFROM:-0500
TZOFFSETTO:-0600
TZNAME:CST
DTSTART:20241103T070000
END:STANDARD
END:VTIMEZONE
BEGIN:VEVENT
DTSTART;TZID=America/Chicago:20240523T093000
DTEND;TZID=America/Chicago:20240523T110000
DTSTAMP:20260425T083600
CREATED:20240405T162050Z
LAST-MODIFIED:20240405T162050Z
UID:10005395-1716456600-1716462000@www.ajcwheeling.com
SUMMARY:MS EXCEL - Focus on Functions - Working with Text and Dates (VIRTUAL CLASS)
DESCRIPTION:Excel Focus on Functions- Work with Text and Dates: CONCATENATE\, TODAY\, Flash Fill and Delimited Text\n\n\nText strings and dates can cause big problems in a spreadsheet if you’re not aware of how to identify and manipulate them! In this 90-minute webinar we’ll talk about basic text functions like CONCATENATE and date functions like TODAY. We’ll also explore tools like Flash Fill\, Text to Columns\, and delimited text. \nPreregistration is required to attend class. \n \nRegistration ends by 5pm the day prior to the Webinar. Once you register on Eventbrite\, you will receive an email from the instructor through GoToWebinar with the link to join this class. \n\nIf you need to cancel\, please cancel 48 hours prior so someone else on the waiting list can use your seat.\n\n\nPLEASE do not register and then no show.\n\nFor an optimal webinar experience when registering and attending these virtual workshop\, the following is recommended: \n\nUSE the following email accounts-Gmail (google.com) or Outlook (outlook.com)\nRegister and attend the workshop with either browser-Google Chrome or Microsoft Edge\nIf you don’t receive the emails in your inbox\, please check your JUNK/SPAM Folder\nSessions are CST\nSign in 10 minutes prior to the webinar\n\nYou’ll receive the following emails. Last two have Join Webinar/LINK to attend \n\nEventbrite: Email Confirmation from Eventbrite which is ONLY your E-Ticket Summary\nGoToWebinar: Email Registration Confirmation of Computer Webinar from instructor to Click JOIN WEBINAR (LINK)\nGoToWebinar: Email Reminder ONE DAY PRIOR to Computer Webinar from instructor to Click JOIN WEBINAR (LINK)\n\nNote: There’s NO access code\, you’ll receive JOIN WEBINAR/LINK in your 2nd& 3rd emails. \nInformation/Cancel workshop-send email to webinar.organizer6@gmail.com \nYou can also send a note via Eventbrite website in the ticket order email section. \nThe American Job Center is committed to providing all customers with quality\, professional services as well as a safe and comfortable learning environment. The use of our resources implies acceptance of our Customer Code of Conduct\, which is based on the principle of respect for all customers and staff. READ: https://www.ajcwheeling.com/wp-content/uploads/2020/08/Customer-Code-of-Conduct-handout.pdf \nQUESTIONS? EMAIL: contact@bcsillinois.org \nSubject to change without notice.
URL:https://www.ajcwheeling.com/event/ms-excel-focus-on-functions-working-with-text-and-dates-virtual-class-2/
ATTACH;FMTTYPE=image/jpeg:https://www.ajcwheeling.com/wp-content/uploads/2024/04/f3832b3ecdb46ac05efcac465764945b.jpg
END:VEVENT
BEGIN:VEVENT
DTSTART;TZID=America/Chicago:20240523T130000
DTEND;TZID=America/Chicago:20240523T143000
DTSTAMP:20260425T083600
CREATED:20240405T162544Z
LAST-MODIFIED:20240405T162544Z
UID:10005396-1716469200-1716474600@www.ajcwheeling.com
SUMMARY:MS PowerPoint Beyond the Basics - VIRTUAL CLASS
DESCRIPTION:PowerPoint Beyond the Basics: Intermediate level overview including animation\, Slide Masters\, sound\, and looped presentations\n\n\nThis VIRTUAL WEBINAR is designed to introduce key concepts crucial to building a working knowledge of Microsoft PowerPoint. In this class we’ll talk about intermediate level concepts including animation\, Slide Masters\, sound\, and looped presentations. \nPRE-REGISTRATION IS REQUIRED FOR ATTENDING THIS WORKSHOP! \n \nRegistration ends by 5pm the day prior to the Webinar. Once you register on Eventbrite\, you will receive an email from the instructor through GoToWebinar with the link to join this class. \nFor an optimal webinar experience when registering and attending these virtual workshop\, the following is recommended: \n\nUSE the following email accounts-Gmail (google.com) or Outlook (outlook.com)\nRegister and attend the workshop with either browser-Google Chrome or Microsoft Edge\nIf you don’t receive the emails in your inbox\, please check your JUNK/SPAM Folder\nSessions are CST\nSign in 10 minutes prior to the webinar\n\nYou’ll receive the following emails. Last two have Join Webinar/LINK to attend \n\nEventbrite: Email Confirmation from Eventbrite which is ONLY your E-Ticket Summary\nGoToWebinar: Email Registration Confirmation of Computer Webinar from instructor to Click JOIN WEBINAR (LINK)\nGoToWebinar: Email Reminder ONE DAY PRIOR to Computer Webinar from instructor to Click JOIN WEBINAR (LINK)\nIf you need to cancel\, please let us know a minimum of 48 hours prior to class so someone else on the extensive waiting list can use your seat.\n\nNote: There’s NO access code\, you’ll receive JOIN WEBINAR/LINK in your 2nd& 3rd emails. \nInformation/Cancel workshop-send email to webinar.organizer6@gmail.com \nYou can also send a note via Eventbrite website in the ticket order email section. \nThe American Job Center is committed to providing all customers with quality\, professional services as well as a safe and comfortable learning environment. The use of our resources implies acceptance of our Customer Code of Conduct\, which is based on the principle of respect for all customers and staff. READ: https://www.ajcwheeling.com/wp-content/uploads/2020/08/Customer-Code-of-Conduct-handout.pdf \nQUESTIONS? EMAIL: contact@bcsillinois.org \nSubject to change without notice.
URL:https://www.ajcwheeling.com/event/ms-powerpoint-beyond-the-basics-virtual-class-2/
ATTACH;FMTTYPE=image/jpeg:https://www.ajcwheeling.com/wp-content/uploads/2024/04/f21fd538471aa9e8bf95b9957c857540.jpg
END:VEVENT
END:VCALENDAR