BEGIN:VCALENDAR
VERSION:2.0
PRODID:-//American Job Center in Wheeling - ECPv6.0.13.1//NONSGML v1.0//EN
CALSCALE:GREGORIAN
METHOD:PUBLISH
X-ORIGINAL-URL:https://www.ajcwheeling.com
X-WR-CALDESC:Events for American Job Center in Wheeling
REFRESH-INTERVAL;VALUE=DURATION:PT1H
X-Robots-Tag:noindex
X-PUBLISHED-TTL:PT1H
BEGIN:VTIMEZONE
TZID:America/Chicago
BEGIN:DAYLIGHT
TZOFFSETFROM:-0600
TZOFFSETTO:-0500
TZNAME:CDT
DTSTART:20240310T080000
END:DAYLIGHT
BEGIN:STANDARD
TZOFFSETFROM:-0500
TZOFFSETTO:-0600
TZNAME:CST
DTSTART:20241103T070000
END:STANDARD
END:VTIMEZONE
BEGIN:VEVENT
DTSTART;TZID=America/Chicago:20240724T093000
DTEND;TZID=America/Chicago:20240724T110000
DTSTAMP:20260423T023158
CREATED:20240614T031035Z
LAST-MODIFIED:20240614T031035Z
UID:10005606-1721813400-1721818800@www.ajcwheeling.com
SUMMARY:MS Excel Advanced Concepts Pivot Tables (VIRTUAL CLASS)
DESCRIPTION:Excel Advanced Concepts – Pivot Tables: Summarize and manipulate data with pivot tables and pivot charts\n\n\nIn this 90-minute webinar we’ll talk about what a pivot table does and how to create pivot tables and pivot charts. We’ll also look at some of the additional PivotTable options like Slicers\, Timelines\, calculated fields and custom grouping. \nPre-registration is required to attend. \n \nRegistration ends by 5pm the day prior to the Webinar. Once you register on Eventbrite\, you will receive an email from the instructor through GoToWebinar with the link to join this class. \nFOR OPTIMAL USER EXPERIENCE: \n\nIt is recommended that you register with an email address from GMAIL or OUTLOOK.\nJoin the webinar using the GOOGLE CHROME browser.\nYou will receive an email from North Cook Job Center  with your access link.\n\n\nIf you need to cancel\, please cancel 48 hours prior so someone else on the waiting list can use your seat.\n\n\nPLEASE do not register and then no show.\n\nThe American Job Center is committed to providing all customers with quality\, professional services as well as a safe and comfortable learning environment. The use of our resources implies acceptance of our Customer Code of Conduct\, which is based on the principle of respect for all customers and staff. READ: \nhttps://www.ajcwheeling.com/wp-content/uploads/2020/08/Customer-Code-of-Conduct-handout.pdf \nQUESTIONS? EMAIL: contact@bcsillinois.org
URL:https://www.ajcwheeling.com/event/ms-excel-advanced-concepts-pivot-tables-virtual-class-5/
ATTACH;FMTTYPE=image/jpeg:https://www.ajcwheeling.com/wp-content/uploads/2023/05/6fcef525bb4fa2f3ecaa6c939e0753c5.jpg
END:VEVENT
BEGIN:VEVENT
DTSTART;TZID=America/Chicago:20240724T100000
DTEND;TZID=America/Chicago:20240724T120000
DTSTAMP:20260423T023158
CREATED:20240708T160325Z
LAST-MODIFIED:20240722T023354Z
UID:10005627-1721815200-1721822400@www.ajcwheeling.com
SUMMARY:S & C Electric Hiring Event
DESCRIPTION:S & C Electric Hiring Event –  This event is IN PERSON. \nWalk-ins Welcome \nWednesday July 24th at 10am – 12pm \n \nAmerican Job Center in Wheeling \n1400 S. Wolf Road\, Building 200\, Wheeling\, IL 60090 \n1/2 block south of Palatine-Willow Road\, on the west side of Wolf Road. Ample free parking. \nMeet with S & C Electric Recruiters \nFeatured jobs: \nMachinist        Assembly Technician       Forklift Operator \nApply here: https://www.sandc.com/en/careers/ \n79 job openings in two locations (Chicago/Palatine) \n\nVice President Human Resources      Assembler           Materials Engineer\nSenior Manager Information Technology     Director Information Technology\nTool & Model Maker   Account Manager    Digital Communication Specialist\nMechanical Quality Technologist  Electrical Test Technician\nArmed Security   Food Service Line Cook  Forklift Operator\nCNC Operator    Welder   Supervisor Fabrication\nDesign Engineer   Manager – Internal Audit\nSenior Compensation Analyst     Senior Health Services Administrator       HR Business Partner\n\n \nAnd more: https://www.sandc.com/en/careers/ \nDon’t miss out on this chance to take your career to the next level. \nApply today: https://www.sandc.com/en/careers/ \n\nMeet with S&C Electric Recruiters \nCan’t wait? Apply online: https://www.sandc.com/en/careers/\n  \n \nDOWNLOAD FLYER CLICK HERE: 2024.07.24 – S AND C Electric Hiring Event Promo Flyer AJC Wheeling revised FINAL
URL:https://www.ajcwheeling.com/event/s-c-electric-hiring-event/
LOCATION:American Job Center in Wheeling\, 1400 South Wolf Road\, Building 200\, Suite 200\, Wheeling\, IL\, 60090\, United States
CATEGORIES:Hiring Event,Job Fair
ATTACH;FMTTYPE=image/jpeg:https://www.ajcwheeling.com/wp-content/uploads/2024/07/1669130416466-COPY.jpg
END:VEVENT
BEGIN:VEVENT
DTSTART;TZID=America/Chicago:20240724T130000
DTEND;TZID=America/Chicago:20240724T143000
DTSTAMP:20260423T023158
CREATED:20240614T031558Z
LAST-MODIFIED:20240614T031558Z
UID:10005607-1721826000-1721831400@www.ajcwheeling.com
SUMMARY:MS Excel Conditional Tools: IF functions\, Data Validation (VIRTUAL CLASS)
DESCRIPTION:Learn how to use IF and other logical functions to add conditions to Excel tasks\n\n\n1:00PM Chicago time \nAdd power and complexity to your Excel spreadsheets! In this 90-minute webinar we’ll talk about about one of the most powerful functions in Excel – the IF function. We’ll also talk about other logical functions like AND/OR as well as functions like SUMIF and AVERAGEIF. Many tools in Excel are condition-based. So what is a condition??? We’ll look at several areas of Excel that serve different purposes\, but use the same underlying concept of condition. Understanding how conditions are used in Excel not only extends your knowledge of different tools in Excel\, but adds to your overall understanding of Excel. \nImproving your EXCEL skills can give you that competitive edge in today’s job market – whether for a promotion or a new job. \nPre-registration is required to attend. \n \nRegistration ends by 5pm the day prior to the Webinar. Once you register on Eventbrite\, you will receive an email from the instructor through GoToWebinar with the link to join this class. \nFOR OPTIMAL USER EXPERIENCE: \n\nIt is recommended that you register with an email address from GMAIL or OUTLOOK.\nJoin the webinar using the GOOGLE CHROME browser.\nYou will receive an email from North Cook Job Center  with your access link.\n\n\nIf you need to cancel\, please cancel 48 hours prior so someone else on the waiting list can use your seat.\n\n\nPLEASE do not register and then no show.\n\nThe American Job Center is committed to providing all customers with quality\, professional services as well as a safe and comfortable learning environment. The use of our resources implies acceptance of our Customer Code of Conduct\, which is based on the principle of respect for all customers and staff. READ: \nhttps://www.ajcwheeling.com/wp-content/uploads/2020/08/Customer-Code-of-Conduct-handout.pdf \nQUESTIONS? EMAIL: contact@bcsillinois.org
URL:https://www.ajcwheeling.com/event/ms-excel-conditional-tools-if-functions-data-validation-virtual-class-6/
ATTACH;FMTTYPE=image/jpeg:https://www.ajcwheeling.com/wp-content/uploads/2023/02/baaac6e35e8233dc874f834e12158ef7.jpg
END:VEVENT
END:VCALENDAR