BEGIN:VCALENDAR
VERSION:2.0
PRODID:-//American Job Center in Wheeling - ECPv6.0.13.1//NONSGML v1.0//EN
CALSCALE:GREGORIAN
METHOD:PUBLISH
X-ORIGINAL-URL:https://www.ajcwheeling.com
X-WR-CALDESC:Events for American Job Center in Wheeling
REFRESH-INTERVAL;VALUE=DURATION:PT1H
X-Robots-Tag:noindex
X-PUBLISHED-TTL:PT1H
BEGIN:VTIMEZONE
TZID:America/Chicago
BEGIN:DAYLIGHT
TZOFFSETFROM:-0600
TZOFFSETTO:-0500
TZNAME:CDT
DTSTART:20240310T080000
END:DAYLIGHT
BEGIN:STANDARD
TZOFFSETFROM:-0500
TZOFFSETTO:-0600
TZNAME:CST
DTSTART:20241103T070000
END:STANDARD
END:VTIMEZONE
BEGIN:VEVENT
DTSTART;TZID=America/Chicago:20240807T093000
DTEND;TZID=America/Chicago:20240807T120000
DTSTAMP:20260423T012202
CREATED:20240723T214701Z
LAST-MODIFIED:20240808T173104Z
UID:10005638-1723023000-1723032000@www.ajcwheeling.com
SUMMARY:Excel Basics - IN-PERSON 2-day class
DESCRIPTION:Microsoft Excel Basics: Excel Basics: Spreadsheet construction\, basic formulas and functions\, sort\, filter\, formatting\, and printing\n\n\n\nThis IN-PERSON class is taught in 2 sessions over 2 days (See Below)\nWed. Aug 7 & Thur. Aug 8 from 9:30am to noon Chicago time – Excel Basics: Spreadsheet construction\, basic formulas and functions\, sort\, filter\, formatting\, and printing \nThis in-person class is designed to introduce key concepts crucial to building a working knowledge of Microsoft Excel. In this class we’ll talk about the Excel environment\, how spreadsheets work\, spreadsheet construction\, basic formulas and functions\, sort\, filter\, formatting\, and printing. \nPRE-REGISTRATION IS REQUIRED FOR ATTENDING THIS WORKSHOP! Walk-ins accepted on a space available basis. \n \nWorkshop Location: \nAmerican Job Center in Wheeling \n1400 S Wolf Road\, Building 200\, Suite 200\, Wheeling\, IL 60090 \n(One block south of Palatine/Willow Road & Wolf Road – west side of Wolf Rd) \nPLEASE NOTE: \n\nYou must register as there is only space for 15 people per workshop.\nCheck in 15 minutes prior to workshop. ABSOLUTELY NO ADMITTANCE after session starts. Be sure to allow enough time for traffic\, construction & weather.\nYou cannot attend Day 2 only; you must attend both days.\nWorkshops are for individuals age 18+.\nEach person has their own computer for learning.\nIf you need to cancel\, please let us know a minimum of 48 hours prior to class so someone else can use your seat. We will have an extensive waiting list – so if you cannot come – PLEASE CANCEL.\n\nThe American Job Center in Wheeling is committed to providing all customers with quality\, professional services as well as a safe and comfortable learning environment. The use of our resources implies acceptance of our Customer Code of Conduct\, which is based on the principle of respect for all customers and staff. READ: https://www.ajcwheeling.com/wp-content/uploads/2020/08/Customer-Code-of-Conduct-handout.pdf \nQUESTIONS? Email contact@bcsillinois.org
URL:https://www.ajcwheeling.com/event/excel-basics-in-person-2-day-class-10/
LOCATION:American Job Center in Wheeling\, 1400 South Wolf Road\, Building 200\, Suite 200\, Wheeling\, IL\, 60090\, United States
ATTACH;FMTTYPE=image/jpeg:https://www.ajcwheeling.com/wp-content/uploads/2023/02/a8c3d91afb11dc48a3db19c5d70c54ed.jpg
END:VEVENT
BEGIN:VEVENT
DTSTART;TZID=America/Chicago:20240807T130000
DTEND;TZID=America/Chicago:20240807T153000
DTSTAMP:20260423T012202
CREATED:20240723T215358Z
LAST-MODIFIED:20240723T215358Z
UID:10005639-1723035600-1723044600@www.ajcwheeling.com
SUMMARY:Microsoft WORD: Basics - IN-PERSON class
DESCRIPTION:WORD Basics: Document creation\, font\, paragraph and page formatting including bulleted lists\, alignment\, indentation\, and line spacing\n\n\nThis in-person class is taught in 1 sessions (See Below) \nFROM 1:00pm to 3:30pm Chicago time August 7th \n \nMicrosoft WORD Basics: Document creation\, font\, paragraph and page formatting including bulleted lists\, alignment\, indentation\, and line spacing. \nPRE-REGISTRATION IS REQUIRED FOR ATTENDING THIS WORKSHOP! \n \nWorkshop Location: American Job Center in Wheeling 1400 S Wolf Road\, Building 200\, Suite 200\, Wheeling\, IL 60090 \nONE block south of Palatine-Willow Road & Wolf Road. West side of Wolf Road. \nPLEASE NOTE: \n\nYou must register as there is only space for 15 people per workshop.\nCheck in 15 minutes prior to workshop. ABSOLUTELY NO ADMITTANCE after session starts. Be sure to allow enough time for traffic\, construction & weather.\nWorkshops are for individuals age 18+.\nEach person has their own computer for learning.\nIf you need to cancel\, please let us know a minimum of 48 hours prior to class so someone else on the waiting list can use your seat.\n\nThe American Job Center in Wheeling is committed to providing all customers with quality\, professional services as well as a safe and comfortable learning environment. The use of our resources implies acceptance of our Customer Code of Conduct\, which is based on the principle of respect for all customers and staff. READ: https://www.ajcwheeling.com/wp-content/uploads/2020/08/Customer-Code-of-Conduct-handout.pdf \nQUESTIONS? EMAIL: contact@bcsillinois.org
URL:https://www.ajcwheeling.com/event/microsoft-word-basics-in-person-class-6/
LOCATION:American Job Center in Wheeling\, 1400 South Wolf Road\, Building 200\, Suite 200\, Wheeling\, IL\, 60090\, United States
ATTACH;FMTTYPE=image/jpeg:https://www.ajcwheeling.com/wp-content/uploads/2024/07/e84673fb73253e04b882e161cf1d8c2d.jpg
END:VEVENT
END:VCALENDAR