BEGIN:VCALENDAR
VERSION:2.0
PRODID:-//American Job Center in Wheeling - ECPv6.0.13.1//NONSGML v1.0//EN
CALSCALE:GREGORIAN
METHOD:PUBLISH
X-WR-CALNAME:American Job Center in Wheeling
X-ORIGINAL-URL:https://www.ajcwheeling.com
X-WR-CALDESC:Events for American Job Center in Wheeling
REFRESH-INTERVAL;VALUE=DURATION:PT1H
X-Robots-Tag:noindex
X-PUBLISHED-TTL:PT1H
BEGIN:VTIMEZONE
TZID:America/Chicago
BEGIN:DAYLIGHT
TZOFFSETFROM:-0600
TZOFFSETTO:-0500
TZNAME:CDT
DTSTART:20240310T080000
END:DAYLIGHT
BEGIN:STANDARD
TZOFFSETFROM:-0500
TZOFFSETTO:-0600
TZNAME:CST
DTSTART:20241103T070000
END:STANDARD
END:VTIMEZONE
BEGIN:VEVENT
DTSTART;TZID=America/Chicago:20240815T093000
DTEND;TZID=America/Chicago:20240815T110000
DTSTAMP:20260423T011556
CREATED:20240725T153052Z
LAST-MODIFIED:20240725T153052Z
UID:10005643-1723714200-1723719600@www.ajcwheeling.com
SUMMARY:Excel Conditional Tools: IF functions\, Data Validation (VIRTUAL CLASS)
DESCRIPTION:Learn how to use IF and other logical functions to add conditions to Excel tasks\n\n\nThis virtual class meets on Aug 15 at 9:30am Chicago time. \nAdd power and complexity to your Excel spreadsheets! In this 90-minute webinar we’ll talk about about one of the most powerful functions in Excel – the IF function. We’ll also talk about other logical functions like AND/OR as well as functions like SUMIF and AVERAGEIF. Many tools in Excel are condition-based. So what is a condition??? We’ll look at several areas of Excel that serve different purposes\, but use the same underlying concept of condition. Understanding how conditions are used in Excel not only extends your knowledge of different tools in Excel\, but adds to your overall understanding of Excel. \nImproving your EXCEL skills can give you that competitive edge in today’s job market – whether for a promotion or a new job. \nPre-registration is required to attend. \n \nRegistration ends by 5pm the day prior to the Webinar. Once you register on Eventbrite\, you will receive an email from North Cook Job Center  through GoToWebinar with the link to join this class. \nFOR OPTIMAL USER EXPERIENCE: \n\nIt is recommended that you register with an email address from GMAIL or OUTLOOK.\nJoin the webinar using the GOOGLE CHROME browser.\nYou will receive an email from North Cook Job Center with your access link.\n\n\nIf you need to cancel\, please cancel 48 hours prior so someone else on the waiting list can use your seat.\n\n\nPLEASE do not register and then no show.\n\nThe American Job Center is committed to providing all customers with quality\, professional services as well as a safe and comfortable learning environment. The use of our resources implies acceptance of our Customer Code of Conduct\, which is based on the principle of respect for all customers and staff. READ: \nhttps://www.ajcwheeling.com/wp-content/uploads/2020/08/Customer-Code-of-Conduct-handout.pdf \nQUESTIONS? EMAIL: contact@bcsillinois.org
URL:https://www.ajcwheeling.com/event/excel-conditional-tools-if-functions-data-validation-virtual-class/
ATTACH;FMTTYPE=image/jpeg:https://www.ajcwheeling.com/wp-content/uploads/2023/02/baaac6e35e8233dc874f834e12158ef7.jpg
END:VEVENT
BEGIN:VEVENT
DTSTART;TZID=America/Chicago:20240815T130000
DTEND;TZID=America/Chicago:20240815T143000
DTSTAMP:20260423T011556
CREATED:20240722T015523Z
LAST-MODIFIED:20240815T211930Z
UID:10005637-1723726800-1723732200@www.ajcwheeling.com
SUMMARY:How to "Work" a  Job Fair and get an offer~  (In Person)
DESCRIPTION:Turn your next Hiring Event or Job Fair into a tool to get noticed\, and get hired.\n\n\n\nAre you tired of attending job fairs without any success? Do you want to learn the secrets of standing out from the crowd and securing a job offer? Look no further! \nLearn how find virtual and in-person hiring events\, job fairs and how to interact effectively with recruiters: \n\nReview employer job postings ─before the Job Fair\nCustomize your resume ─to the skills and experience the employer wants\nSell yourself to recruiters ─ discuss how your skills and experience match the job\nFollow up — get the recruiter’s contact information and send a thank you note afterwards\n\nIt’s your choice to learn how to turn your next Job Fair into a tool to get noticed\, called back and hired. Remember\, it’s not just about attending the job fair\, but about “working” it to secure that coveted job offer. See you there! \nPRE-REGISTRATION IS REQUIRED FOR ATTENDING THIS WORKSHOP! Walk-ins accepted on a space available basis. \n \nWorkshop Location: American Job Center in Wheeling\, 1400 S Wolf Road\, Building 200\, Wheeling\, IL 60090. ONE block south of Palatine-Willow Road & Wolf Road. WEST side of Wolf Road. Ample free parking in front. \nPLEASE NOTE: \n\nYou must register as there is only space for 25 people per workshop.\nRegistration closes at 7pm the day prior to workshop.\nCheck in 15 minutes prior to workshop. ABSOLUTELY NO ADMITTANCE after session starts. Be sure to allow enough time for traffic\, construction & weather.\nWorkshops are for individuals age 18+.\nEach person has their own computer for learning.\nSubject to change without notice.\n\nIf you need to cancel\, please let us know so someone else can use your seat.\n  \nIMPORTANT: For additional job fairs\, free workshops and free computer classes\, visit northcookjobcenter.com/events/ \nBCS is committed to providing all customers with quality\, professional services as well as a safe and comfortable learning environment. The use of our resources (in person or virtual) implies acceptance of our Customer Code of Conduct (see attached Code of Conduct)\, which is based on the principle of respect for all customers and staff. https://www.ajcwheeling.com/wp-content/uploads/2020/08/Customer-Code-of-Conduct-handout.pdf \nOur agency is an equal opportunity employer/program. Auxiliary aids and services are available upon request to individuals with disabilities. Funding for this program is made possible through a grant provided by the Chicago Cook Workforce Partnership. This workforce product was funded by a grant awarded by the U.S. Department of Labor’s Employment and Training Administration. For more information please visit ChiCookWorks.org/DOL-Funding \n 
URL:https://www.ajcwheeling.com/event/how-to-work-a-job-fair-and-get-an-offer-in-person/
LOCATION:American Job Center in Wheeling\, 1400 South Wolf Road\, Building 200\, Suite 200\, Wheeling\, IL\, 60090\, United States
CATEGORIES:Job Search Workshop
ATTACH;FMTTYPE=image/jpeg:https://www.ajcwheeling.com/wp-content/uploads/2024/07/How-to-work-a-job-fair.jpg
ORGANIZER;CN="Business%20and%20Career%20Services%20Inc.":MAILTO:contact@bcsillinois.org
END:VEVENT
BEGIN:VEVENT
DTSTART;TZID=America/Chicago:20240815T130000
DTEND;TZID=America/Chicago:20240815T143000
DTSTAMP:20260423T011556
CREATED:20240725T153258Z
LAST-MODIFIED:20240725T153309Z
UID:10005644-1723726800-1723732200@www.ajcwheeling.com
SUMMARY:Google Workspace: Explore the spreadsheet power of Sheets! (VIRTUAL CLASS)
DESCRIPTION:In this 90-minute webinar we’ll explore Sheets – Google’s web-based alternative to Excel. Learn to use this powerful spreadsheet program to\n\n\n1:00pm Chicago time \nIn this 90-minute webinar we’ll explore Sheets – Google’s web-based alternative to Excel. Learn to use this powerful spreadsheet program to create spreadsheets\, work with functions\, add formatting\, and sort/filter data. \nPre-registration is required to attend. \n \nRegistration ends by 5pm the day prior to the Webinar. Once you register on Eventbrite\, you will receive an email from North Cook Job Center  through GoToWebinar with the link to join this class. \nFOR OPTIMAL USER EXPERIENCE: \n\nIt is recommended that you register with an email address from GMAIL or OUTLOOK.\nJoin the webinar using the GOOGLE CHROME browser.\nYou will receive an email from GOTOWEBINAR with your access link.\n\n\nIf you need to cancel\, please cancel 48 hours prior so someone else on the waiting list can use your seat.\n\n\nPLEASE do not register and then no show.\n\n  \nThe American Job Center is committed to providing all customers with quality\, professional services as well as a safe and comfortable learning environment. The use of our resources implies acceptance of our Customer Code of Conduct\, which is based on the principle of respect for all customers and staff. READ: \nhttps://www.ajcwheeling.com/wp-content/uploads/2020/08/Customer-Code-of-Conduct-handout.pdf \nQ UESTIONS? EMAIL: contact@bcsillinois.org \nSubject to change without notice.
URL:https://www.ajcwheeling.com/event/google-workspace-explore-the-spreadsheet-power-of-sheets-virtual-class-3/
ATTACH;FMTTYPE=image/jpeg:https://www.ajcwheeling.com/wp-content/uploads/2023/04/4f76c4fb36c5716f2ea60c133c2bc48e.jpg
END:VEVENT
END:VCALENDAR