BEGIN:VCALENDAR
VERSION:2.0
PRODID:-//American Job Center in Wheeling - ECPv6.0.13.1//NONSGML v1.0//EN
CALSCALE:GREGORIAN
METHOD:PUBLISH
X-WR-CALNAME:American Job Center in Wheeling
X-ORIGINAL-URL:https://www.ajcwheeling.com
X-WR-CALDESC:Events for American Job Center in Wheeling
REFRESH-INTERVAL;VALUE=DURATION:PT1H
X-Robots-Tag:noindex
X-PUBLISHED-TTL:PT1H
BEGIN:VTIMEZONE
TZID:America/Chicago
BEGIN:DAYLIGHT
TZOFFSETFROM:-0600
TZOFFSETTO:-0500
TZNAME:CDT
DTSTART:20240310T080000
END:DAYLIGHT
BEGIN:STANDARD
TZOFFSETFROM:-0500
TZOFFSETTO:-0600
TZNAME:CST
DTSTART:20241103T070000
END:STANDARD
END:VTIMEZONE
BEGIN:VEVENT
DTSTART;TZID=America/Chicago:20240821T093000
DTEND;TZID=America/Chicago:20240821T110000
DTSTAMP:20260423T012204
CREATED:20240725T154203Z
LAST-MODIFIED:20240725T154203Z
UID:10005645-1724232600-1724238000@www.ajcwheeling.com
SUMMARY:Excel Pivot Tables Level 1 (VIRTUAL CLASS)
DESCRIPTION:Learn the basics of Pivot Table construction in Excel. We’ll discuss data organization and more\n\n\nIn this 90-minute webinar we’ll talk about what a pivot table does and how to create pivot tables and pivot charts. Learn the basics of Pivot Table construction in Excel. We’ll discuss data organization\, define what a pivot table does\, and create several examples of this need-to-know Excel feature. Familiarity with the Sorting and Filtering tools in Excel is recommended. \nPre-registration is required to attend. \n \nRegistration ends by 5pm the day prior to the Webinar. Once you register on Eventbrite\, you will receive an email from North Cook Job Center  through GoToWebinar with the link to join this class. \nFOR OPTIMAL USER EXPERIENCE: \n\nIt is recommended that you register with an email address from GMAIL or OUTLOOK.\nJoin the webinar using the GOOGLE CHROME browser.\nYou will receive an email from North Cook Job Center with your access link.\n\n\nIf you need to cancel\, please cancel 48 hours prior so someone else on the waiting list can use your seat.\n\n\nPLEASE do not register and then no show.\n\nThe American Job Center is committed to providing all customers with quality\, professional services as well as a safe and comfortable learning environment. The use of our resources implies acceptance of our Customer Code of Conduct\, which is based on the principle of respect for all customers and staff. READ: \nhttps://www.ajcwheeling.com/wp-content/uploads/2020/08/Customer-Code-of-Conduct-handout.pdf \nQUESTIONS? EMAIL: contact@bcsillinois.org
URL:https://www.ajcwheeling.com/event/excel-pivot-tables-level-1-virtual-class/
ATTACH;FMTTYPE=image/jpeg:https://www.ajcwheeling.com/wp-content/uploads/2023/05/6fcef525bb4fa2f3ecaa6c939e0753c5.jpg
END:VEVENT
BEGIN:VEVENT
DTSTART;TZID=America/Chicago:20240821T130000
DTEND;TZID=America/Chicago:20240821T143000
DTSTAMP:20260423T012204
CREATED:20240725T160733Z
LAST-MODIFIED:20240725T160733Z
UID:10005646-1724245200-1724250600@www.ajcwheeling.com
SUMMARY:Excel Charts (VIRTUAL CLASS)
DESCRIPTION:Graphically visualize and communicate data using Excel’s robust chart tools\n\n\nWed. Aug 21\, 2024 at 1:00pm Chicago time. \nThis 90-minute session you’ll learn to make your data more understandable and accessible using Excel’s robust chart feature. Learn how to choose the right chart type (column\, line\, pie\, etc.)\, and explore formatting and layout options. We’ll also explore some of Excel’s lesser known chart types like Sparklines and Forecasting charts. \nPre-registration is required to attend. \n \nRegistration ends by 5pm the day prior to the Webinar. Once you register on Eventbrite\, you will receive an email from North Cook Job Center  through GoToWebinar with the link to join this class. \nFOR OPTIMAL USER EXPERIENCE: \n\nIt is recommended that you register with an email address from GMAIL or OUTLOOK.\nJoin the webinar using the GOOGLE CHROME browser.\nYou will receive an email from North Cook Job Center with your access link.\n\n\nIf you need to cancel\, please cancel 48 hours prior so someone else on the waiting list can use your seat.\n\n\nPLEASE do not register and then no show.\n\nThe American Job Center is committed to providing all customers with quality\, professional services as well as a safe and comfortable learning environment. The use of our resources implies acceptance of our Customer Code of Conduct\, which is based on the principle of respect for all customers and staff. READ: \nhttps://www.ajcwheeling.com/wp-content/uploads/2020/08/Customer-Code-of-Conduct-handout.pdf \nQUESTIONS? EMAIL: contact@bcsillinois.org
URL:https://www.ajcwheeling.com/event/excel-charts-virtual-class-2/
ATTACH;FMTTYPE=image/jpeg:https://www.ajcwheeling.com/wp-content/uploads/2023/03/65c775079b2af979494fa4d6e2a7dfcd.jpg
END:VEVENT
END:VCALENDAR