BEGIN:VCALENDAR
VERSION:2.0
PRODID:-//American Job Center in Wheeling - ECPv6.0.13.1//NONSGML v1.0//EN
CALSCALE:GREGORIAN
METHOD:PUBLISH
X-WR-CALNAME:American Job Center in Wheeling
X-ORIGINAL-URL:https://www.ajcwheeling.com
X-WR-CALDESC:Events for American Job Center in Wheeling
REFRESH-INTERVAL;VALUE=DURATION:PT1H
X-Robots-Tag:noindex
X-PUBLISHED-TTL:PT1H
BEGIN:VTIMEZONE
TZID:America/Chicago
BEGIN:DAYLIGHT
TZOFFSETFROM:-0600
TZOFFSETTO:-0500
TZNAME:CDT
DTSTART:20240310T080000
END:DAYLIGHT
BEGIN:STANDARD
TZOFFSETFROM:-0500
TZOFFSETTO:-0600
TZNAME:CST
DTSTART:20241103T070000
END:STANDARD
END:VTIMEZONE
BEGIN:VEVENT
DTSTART;TZID=America/Chicago:20240829T093000
DTEND;TZID=America/Chicago:20240829T110000
DTSTAMP:20260423T012205
CREATED:20240725T195608Z
LAST-MODIFIED:20240725T195608Z
UID:10005653-1724923800-1724929200@www.ajcwheeling.com
SUMMARY:EXCEL - Focus on Functions - Working with Text and Dates (VIRTUAL CLASS)
DESCRIPTION:Excel Focus on Functions- Work with Text and Dates: CONCATENATE\, TODAY\, Flash Fill and Delimited Text\n\n\n9:30 am Chicago time \nText strings and dates can cause big problems in a spreadsheet if you’re not aware of how to identify and manipulate them! In this 90-minute webinar we’ll talk about basic text functions like CONCATENATE and date functions like TODAY. We’ll also explore tools like Flash Fill\, Text to Columns\, and delimited text \nPre-registration is required to attend. \n \nRegistration ends by 5pm the day prior to the Webinar. Once you register on Eventbrite\, you will receive an email from tNorth Cook Job Center through GoToWebinar with the link to join this class. \nFOR OPTIMAL USER EXPERIENCE: \n\nIt is recommended that you register with an email address from GMAIL or OUTLOOK.\nJoin the webinar using the GOOGLE CHROME browser.\nYou will receive an email from North Cook Job Center with your access link.\n\n\nIf you need to cancel\, please cancel 48 hours prior so someone else on the waiting list can use your seat.\n\n\nPLEASE do not register and then no show.\n\nThe American Job Center is committed to providing all customers with quality\, professional services as well as a safe and comfortable learning environment. The use of our resources implies acceptance of our Customer Code of Conduct\, which is based on the principle of respect for all customers and staff. READ: \nhttps://www.ajcwheeling.com/wp-content/uploads/2020/08/Customer-Code-of-Conduct-handout.pdf \nQUESTIONS? EMAIL: contact@bcsillinois.org \nsubject to change without notice
URL:https://www.ajcwheeling.com/event/excel-focus-on-functions-working-with-text-and-dates-virtual-class-2/
ATTACH;FMTTYPE=image/jpeg:https://www.ajcwheeling.com/wp-content/uploads/2023/03/9378b16fdd179e115eeb151e40f81505.jpg
END:VEVENT
BEGIN:VEVENT
DTSTART;TZID=America/Chicago:20240829T130000
DTEND;TZID=America/Chicago:20240829T143000
DTSTAMP:20260423T012205
CREATED:20240725T200000Z
LAST-MODIFIED:20240725T200000Z
UID:10005654-1724936400-1724941800@www.ajcwheeling.com
SUMMARY:Canva Basics -  free online graphic design app (VIRTUAL CLASS)
DESCRIPTION:Canva Basics – Create content for print\, presentations and social media with this free online graphic design app\n\n\nAug 29 at 1pm Chicago time \nIn this virtual webinar: You don’t need to be a graphic designer to produce professional looking designs! By utilizing Canva’s built-in templates\, photo and font options anyone can create exciting content to be shared online\, posted on social media site\, or even professionally printed on paper\, tee-shirts or mugs. \nPre-registration is required to attend. \n \n\nIf you need to cancel\, please let us know a minimum of 48 hours prior to class so someone else on the extensive waiting list can use your seat.\n\nRegistration ends by 5pm the day prior to the Webinar. Once you register on Eventbrite\, you will receive an email from North Cook Job Center through GoToWebinar with the link to join this class. \nFor an optimal webinar experience when registering and attending these virtual workshop\, the following is recommended: \n\nUSE the following email accounts-Gmail (google.com) or Outlook (outlook.com)\nRegister and attend the workshop with either browser-Google Chrome or Microsoft Edge\nIf you don’t receive the emails in your inbox\, please check your JUNK/SPAM Folder\nSessions are Chicago time\nSign in 10 minutes prior to the webinar\n\nYou’ll receive the following emails. Last two have Join Webinar/LINK to attend \n\nEventbrite: Email Confirmation from Eventbrite which is ONLY your E-Ticket Summary\nGoToWebinar: Email Registration Confirmation of Computer Webinar from instructor to Click JOIN WEBINAR (LINK)\nGoToWebinar: Email Reminder ONE DAY PRIOR to Computer Webinar from instructor to Click JOIN WEBINAR (LINK)\n\nNote: There’s NO access code\, you’ll receive JOIN WEBINAR/LINK in your 2nd& 3rd emails. \nInformation/Cancel workshop-send email to webinar.organizer6@gmail.com \nYou can also send a note via Eventbrite website in the ticket order email section. \nThe American Job Center is committed to providing all customers with quality\, professional services as well as a safe and comfortable learning environment. The use of our resources implies acceptance of our Customer Code of Conduct\, which is based on the principle of respect for all customers and staff. READ: https://www.ajcwheeling.com/wp-content/uploads/2020/08/Customer-Code-of-Conduct-handout.pdf \nQUESTIONS? EMAIL: contact@bcsillinois.org
URL:https://www.ajcwheeling.com/event/canva-basics-free-online-graphic-design-app-virtual-class-4/
ATTACH;FMTTYPE=image/jpeg:https://www.ajcwheeling.com/wp-content/uploads/2023/05/5a3740021f730cc0f5fe9d8393b68b60.jpg
END:VEVENT
BEGIN:VEVENT
DTSTART;TZID=America/Chicago:20240829T130000
DTEND;TZID=America/Chicago:20240829T143000
DTSTAMP:20260423T012205
CREATED:20240808T164209Z
LAST-MODIFIED:20240808T171414Z
UID:10005674-1724936400-1724941800@www.ajcwheeling.com
SUMMARY:Creating Your Target Resumes - More critical than you think! (In Person)
DESCRIPTION:This IN-PERSON class is taught in 1 session from 1:00pm to 2:30pm. \nCreating Your Target Resumes – More critical than you think! \n \nJoin us on Thursday\, August 29\, 2024 at 1:00pm (Chicago time)\, for an in-person event that will transform your job search game! Located at Harper Learning & Career Center 1375 South Wolf Road\, Prospect Heights\, IL 60070\, this event is your opportunity to learn the secrets of crafting resumes that hit the mark. \nUnleash the power of your resume and stand out from the competition! Our expert speakers will guide you through the process of tailoring your resume to impress hiring managers. Discover the keywords and formatting techniques that will make your resume shine. \nDon’t miss this chance to gain a competitive edge in your job search. Register now and unlock the potential of your resume! \nPRE-REGISTRATION IS REQUIRED FOR ATTENDING THIS WORKSHOP! Walk-ins accepted on a space available basis. \nWorkshop Location: Harper Learning & Career Center 1375 South Wolf Road\, Prospect Heights\, IL 60070. ONE block south of Palatine-Willow Road & Wolf Road. EAST side of Wolf Road. Ample free parking in front. \nPLEASE NOTE: \n\nYou must register as there is only space for 18 people per workshop.\nRegistration closes at 7pm the day prior to workshop.\nCheck in 15 minutes prior to workshop. ABSOLUTELY NO ADMITTANCE after session starts. Be sure to allow enough time for traffic\, construction & weather.\nWorkshops are for individuals age 18+.\nEach person has their own computer for learning.\nSubject to change without notice.\nIf you need to cancel\, please let us know so someone else can use your seat.\n\nIMPORTANT: For additional job fairs\, free workshops and free computer classes\, visit northcookjobcenter.com/events/ \nBCS is committed to providing all customers with quality\, professional services as well as a safe and comfortable learning environment. The use of our resources (in person or virtual) implies acceptance of our Customer Code of Conduct (see attached Code of Conduct)\, which is based on the principle of respect for all customers and staff. https://www.ajcwheeling.com/wp-content/uploads/2020/08/Customer-Code-of-Conduct-handout.pdf \nOur agency is an equal opportunity employer/program. Auxiliary aids and services are available upon request to individuals with disabilities. Funding for this program is made possible through a grant provided by the Chicago Cook Workforce Partnership. This workforce product was funded by a grant awarded by the U.S. Department of Labor’s Employment and Training Administration. For more information please visit ChiCookWorks.org/DOL-Funding
URL:https://www.ajcwheeling.com/event/creating-your-target-resumes-more-critical-than-you-think-in-person-2/
LOCATION:Harper College Learning and Career Center\, 1375 South Wolf Road\, Prospect Heights\, IL\, 60070\, United States
CATEGORIES:Job Search Workshop
ATTACH;FMTTYPE=image/png:https://www.ajcwheeling.com/wp-content/uploads/2024/08/HELP-i-need-help-now.png
END:VEVENT
END:VCALENDAR