BEGIN:VCALENDAR
VERSION:2.0
PRODID:-//American Job Center in Wheeling - ECPv6.0.13.1//NONSGML v1.0//EN
CALSCALE:GREGORIAN
METHOD:PUBLISH
X-WR-CALNAME:American Job Center in Wheeling
X-ORIGINAL-URL:https://www.ajcwheeling.com
X-WR-CALDESC:Events for American Job Center in Wheeling
REFRESH-INTERVAL;VALUE=DURATION:PT1H
X-Robots-Tag:noindex
X-PUBLISHED-TTL:PT1H
BEGIN:VTIMEZONE
TZID:America/Chicago
BEGIN:DAYLIGHT
TZOFFSETFROM:-0600
TZOFFSETTO:-0500
TZNAME:CDT
DTSTART:20240310T080000
END:DAYLIGHT
BEGIN:STANDARD
TZOFFSETFROM:-0500
TZOFFSETTO:-0600
TZNAME:CST
DTSTART:20241103T070000
END:STANDARD
END:VTIMEZONE
BEGIN:VEVENT
DTSTART;TZID=America/Chicago:20240917T093000
DTEND;TZID=America/Chicago:20240917T120000
DTSTAMP:20260423T000650
CREATED:20240821T154613Z
LAST-MODIFIED:20240821T162716Z
UID:10005687-1726565400-1726574400@www.ajcwheeling.com
SUMMARY:EXCEL Focus on Functions workshop (In Person)
DESCRIPTION:Functions are predefined formulas that perform calculations by using specific values\, called arguments\, in a particular order\, or structure. We’ll talk about function syntax\, how to recognize problems with functions\, how the function library is organized\, and some general troubleshooting for Excel spreadsheets. \nPRE-REGISTRATION IS REQUIRED FOR ATTENDING THIS WORKSHOP! Walk-ins accepted on a space available basis. \n \nWorkshop Location: \nAmerican Job Center in Wheeling \n1400 S Wolf Road\, Building 200\, Suite 200\, Wheeling\, IL 60090 \nOne block south of Palatine-Willow Road & Wolf Road. West side of Wolf Road. \nPLEASE NOTE: \n\nYou must register as there is only space for 15 people per workshop.\nCheck in 15 minutes prior to workshop. ABSOLUTELY NO ADMITTANCE after session starts. Be sure to allow enough time for traffic\, construction & weather.\nWorkshops are for individuals age 18+.\nEach person has their own computer for learning.\nIf you need to cancel\, please let us know a minimum of 48 hours prior to class so someone else on the waiting list can use your seat.\n\nThis American Job Center is committed to providing all customers with quality\, professional services as well as a safe and comfortable learning environment. The use of our resources implies acceptance of our Customer Code of Conduct\, which is based on the principle of respect for all customers and staff. READ: https://www.ajcwheeling.com/wp-content/uploads/2020/08/Customer-Code-of-Conduct-handout.pdf \nQUESTIONS? EMAIL contact@bcsillinois.org
URL:https://www.ajcwheeling.com/event/excel-focus-on-functions-workshop-in-person/
ATTACH;FMTTYPE=image/jpeg:https://www.ajcwheeling.com/wp-content/uploads/2024/08/MS-Excel-Advanced.jpg
ORGANIZER;CN="Business%20and%20Career%20Services%20Inc.":MAILTO:contact@bcsillinois.org
END:VEVENT
BEGIN:VEVENT
DTSTART;TZID=America/Chicago:20240917T130000
DTEND;TZID=America/Chicago:20240917T153000
DTSTAMP:20260423T000650
CREATED:20240823T210003Z
LAST-MODIFIED:20240823T210003Z
UID:10005695-1726578000-1726587000@www.ajcwheeling.com
SUMMARY:Google Workspace (In Person)
DESCRIPTION:This In Person\, complimentary workshop\, we’ll explore Google Drive\, Google Docs and Google Sheets. Free Google account required. \nLearn how to store files online\, access them from anywhere\, and share these files with others. \nPRE-REGISTRATION IS REQUIRED FOR ATTENDING THIS WORKSHOP! Walk-ins accepted on a space available basis. \n \nWorkshop Location: \nAmerican Job Center in Wheeling \n1400 S Wolf Road\, Building 200\, Suite 200\, Wheeling\, IL 60090 \nOne block south of Palatine-Willow Road & Wolf Road. West side of Wolf Road. \nPLEASE NOTE: \n\nYou must register as there is only space for 15 people per workshop.\nCheck in 15 minutes prior to workshop. ABSOLUTELY NO ADMITTANCE after session starts. Be sure to allow enough time for traffic\, construction & weather.\nWorkshops are for individuals age 18+.\nEach person has their own computer for learning.\nIf you need to cancel\, please let us know a minimum of 48 hours prior to class so someone else on the waiting list can use your seat.\n\nThis American Job Center is committed to providing all customers with quality\, professional services as well as a safe and comfortable learning environment. The use of our resources implies acceptance of our Customer Code of Conduct\, which is based on the principle of respect for all customers and staff. READ: https://www.ajcwheeling.com/wp-content/uploads/2020/08/Customer-Code-of-Conduct-handout.pdf \nQUESTIONS? EMAIL contact@bcsillinois.org
URL:https://www.ajcwheeling.com/event/google-workspace-in-person/
LOCATION:American Job Center in Wheeling\, 1400 South Wolf Road\, Building 200\, Suite 200\, Wheeling\, IL\, 60090\, United States
ATTACH;FMTTYPE=image/jpeg:https://www.ajcwheeling.com/wp-content/uploads/2024/08/Google-workspace-2.jpg
ORGANIZER;CN="Business%20and%20Career%20Services%20Inc.":MAILTO:contact@bcsillinois.org
END:VEVENT
END:VCALENDAR