BEGIN:VCALENDAR
VERSION:2.0
PRODID:-//American Job Center in Wheeling - ECPv6.0.13.1//NONSGML v1.0//EN
CALSCALE:GREGORIAN
METHOD:PUBLISH
X-ORIGINAL-URL:https://www.ajcwheeling.com
X-WR-CALDESC:Events for American Job Center in Wheeling
REFRESH-INTERVAL;VALUE=DURATION:PT1H
X-Robots-Tag:noindex
X-PUBLISHED-TTL:PT1H
BEGIN:VTIMEZONE
TZID:America/Chicago
BEGIN:DAYLIGHT
TZOFFSETFROM:-0600
TZOFFSETTO:-0500
TZNAME:CDT
DTSTART:20240310T080000
END:DAYLIGHT
BEGIN:STANDARD
TZOFFSETFROM:-0500
TZOFFSETTO:-0600
TZNAME:CST
DTSTART:20241103T070000
END:STANDARD
END:VTIMEZONE
BEGIN:VEVENT
DTSTART;TZID=America/Chicago:20240924T080000
DTEND;TZID=America/Chicago:20240924T170000
DTSTAMP:20260423T000729
CREATED:20240924T195433Z
LAST-MODIFIED:20240924T195549Z
UID:10005740-1727164800-1727197200@www.ajcwheeling.com
SUMMARY:Excel Advanced Concepts - Get Started with Excel Tables (Virtual Class)
DESCRIPTION:You’ve heard of Excel tables but never had a chance to use them? Learn how to structure Excel tables\, understand the differences between normal ranges and tables\, and the advantages of using tables to create more complex pivot tables and use the Power Query Feature. \nPRE-REGISTRATION IS REQUIRED FOR ATTENDING THIS WORKSHOP! \nRegistration closes 24 hours prior to class. \n \nOnce you register\, you will receive the link to enter class shortly before class. Please watch for an email from: North Cook Job Center <customercare@GoToWebinar.com> \nPLEASE NOTE: \n\nYou must register as there is limited space for this virtual workshop.\n\n\nLog in 15 minutes prior to workshop. ABSOLUTELY NO ADMITTANCE after session starts. Be sure to allow enough time to log in.\n\n\nWorkshops are for individuals age 18+.\n\n\nIf you need to cancel\, please let us know a minimum of 48 hours prior to class so someone else on the waiting list can use your seat.\nPlease DO NOT REGISTER MORE THAN ONCE.\n\nThis American Job Center is committed to providing all customers with quality\, professional services as well as a safe and comfortable learning environment. The use of our resources implies acceptance of our Customer Code of Conduct\, which is based on the principle of respect for all customers and staff. READ: https://www.ajcwheeling.com/wp-content/uploads/2020/08/Customer-Code-of-Conduct-handout.pdf \nQUESTIONS? EMAIL contact@bcsillinois.org
URL:https://www.ajcwheeling.com/event/excel-advanced-concepts-get-started-with-excel-tables-virtual-class-2/
ATTACH;FMTTYPE=image/jpeg:https://www.ajcwheeling.com/wp-content/uploads/2024/05/8154b9f855ffb28d8d8cbba136c0bfce.jpg
ORGANIZER;CN="Business%20and%20Career%20Services%20Inc.":MAILTO:contact@bcsillinois.org
END:VEVENT
BEGIN:VEVENT
DTSTART;TZID=America/Chicago:20240924T080000
DTEND;TZID=America/Chicago:20240924T170000
DTSTAMP:20260423T000729
CREATED:20240924T203729Z
LAST-MODIFIED:20240924T203729Z
UID:10005746-1727164800-1727197200@www.ajcwheeling.com
SUMMARY:Get going with Google Docs (Virtual Class)
DESCRIPTION:Get going with Google Docs: Use Docs to easily create\, edit and store text-based files online\nIn this 90-minute webinar we’ll explore Google Docs – Google’s web-based alternative to MS Word. Learn how to use this online text editor to create\, download\, and share letters\, reports\, resumes and other text-based documents. \nPRE-REGISTRATION IS REQUIRED FOR ATTENDING THIS WORKSHOP! Registration closes 24 hours prior to class. \n \nOnce you register\, you will receive the link to enter class shortly before class. Please watch for an email from North Cook Job Center <customercare@GoToWebinar.com> \nPLEASE NOTE: \n\nYou must register as there is limited space for this virtual workshop.\n\n\nLog in 15 minutes prior to workshop. ABSOLUTELY NO ADMITTANCE after session starts. Be sure to allow enough time to log in.\n\n\nWorkshops are for individuals age 18+.\n\n\nIf you need to cancel\, please let us know a minimum of 48 hours prior to class so someone else on the waiting list can use your seat.\nPlease DO NOT REGISTER MORE THAN ONCE.\n\nThis American Job Center is committed to providing all customers with quality\, professional services as well as a safe and comfortable learning environment. The use of our resources implies acceptance of our Customer Code of Conduct\, which is based on the principle of respect for all customers and staff. READ: https://www.ajcwheeling.com/wp-content/uploads/2020/08/Customer-Code-of-Conduct-handout.pdf \nQUESTIONS? EMAIL contact@bcsillinois.org
URL:https://www.ajcwheeling.com/event/get-going-with-google-docs-virtual-class-4/
ATTACH;FMTTYPE=image/jpeg:https://www.ajcwheeling.com/wp-content/uploads/2024/05/8154b9f855ffb28d8d8cbba136c0bfce.jpg
ORGANIZER;CN="Business%20and%20Career%20Services%20Inc.":MAILTO:contact@bcsillinois.org
END:VEVENT
BEGIN:VEVENT
DTSTART;TZID=America/Chicago:20240924T080000
DTEND;TZID=America/Chicago:20240924T170000
DTSTAMP:20260423T000729
CREATED:20240924T212510Z
LAST-MODIFIED:20240924T212555Z
UID:10005752-1727164800-1727197200@www.ajcwheeling.com
SUMMARY:Excel Focus on Functions- Work with Text and Dates (Virtual Class)
DESCRIPTION:Excel Focus on Functions- Work with Text and Dates: CONCATENATE\, TODAY\, Flash Fill and Delimited Text\nText strings and dates can cause big problems in a spreadsheet if you’re not aware of how to identify and manipulate them! In this 90-minute webinar we’ll talk about basic text functions like CONCATENATE and date functions like TODAY. We’ll also explore tools like Flash Fill\, Text to Columns\, and delimited text. \nPRE-REGISTRATION IS REQUIRED FOR ATTENDING THIS WORKSHOP! Registration closes 24 hours prior to class. \n \nOnce you register\, you will receive the link to enter class shortly before class. Please watch for an email from North Cook Job Center <customercare@GoToWebinar.com> \nPLEASE NOTE: \n\nYou must register as there is limited space for this virtual workshop.\n\n\nLog in 15 minutes prior to workshop. ABSOLUTELY NO ADMITTANCE after session starts. Be sure to allow enough time to log in.\n\n\nWorkshops are for individuals age 18+.\n\n\nIf you need to cancel\, please let us know a minimum of 48 hours prior to class so someone else on the waiting list can use your seat.\nPlease DO NOT REGISTER MORE THAN ONCE.\n\nThis American Job Center is committed to providing all customers with quality\, professional services as well as a safe and comfortable learning environment. The use of our resources implies acceptance of our Customer Code of Conduct\, which is based on the principle of respect for all customers and staff. READ: https://www.ajcwheeling.com/wp-content/uploads/2020/08/Customer-Code-of-Conduct-handout.pdf \nQUESTIONS? EMAIL contact@bcsillinois.org
URL:https://www.ajcwheeling.com/event/excel-focus-on-functions-work-with-text-and-dates-virtual-class/
ATTACH;FMTTYPE=image/jpeg:https://www.ajcwheeling.com/wp-content/uploads/2024/05/8154b9f855ffb28d8d8cbba136c0bfce.jpg
ORGANIZER;CN="Business%20and%20Career%20Services%20Inc.":MAILTO:contact@bcsillinois.org
END:VEVENT
END:VCALENDAR