BEGIN:VCALENDAR
VERSION:2.0
PRODID:-//American Job Center in Wheeling - ECPv6.0.13.1//NONSGML v1.0//EN
CALSCALE:GREGORIAN
METHOD:PUBLISH
X-WR-CALNAME:American Job Center in Wheeling
X-ORIGINAL-URL:https://www.ajcwheeling.com
X-WR-CALDESC:Events for American Job Center in Wheeling
REFRESH-INTERVAL;VALUE=DURATION:PT1H
X-Robots-Tag:noindex
X-PUBLISHED-TTL:PT1H
BEGIN:VTIMEZONE
TZID:America/Chicago
BEGIN:DAYLIGHT
TZOFFSETFROM:-0600
TZOFFSETTO:-0500
TZNAME:CDT
DTSTART:20240310T080000
END:DAYLIGHT
BEGIN:STANDARD
TZOFFSETFROM:-0500
TZOFFSETTO:-0600
TZNAME:CST
DTSTART:20241103T070000
END:STANDARD
END:VTIMEZONE
BEGIN:VEVENT
DTSTART;TZID=America/Chicago:20241002T093000
DTEND;TZID=America/Chicago:20241002T120000
DTSTAMP:20260423T000652
CREATED:20240920T214129Z
LAST-MODIFIED:20240924T173517Z
UID:10005703-1727861400-1727870400@www.ajcwheeling.com
SUMMARY:Excel Basics Part 1& Part 2 (In Person Class)
DESCRIPTION:Microsoft Excel Basics: Excel Basics: Spreadsheet construction\, basic formulas and functions\, sort\, filter\, formatting\, and printing. \nThis in-person TWO DAY class is designed to introduce key concepts crucial to building a working knowledge of Microsoft Excel. In this class we’ll talk about the Excel environment\, how spreadsheets work\, spreadsheet construction\, basic formulas and functions\, sort\, filter\, formatting\, and printing. \nPRE-REGISTRATION IS REQUIRED FOR ATTENDING THIS WORKSHOP! Walk-ins accepted on a space available basis. Registration closes 24 hours prior to class.  \n \nDATE/TIME: Two days on Wed Oct 2 and Thur Oct 3 from 9:30am – 12noon. One registration to attend BOTH days. \nWorkshop Location: \nAmerican Job Center in Wheeling \n1400 S Wolf Road\, Building 200\, Suite 200\, Wheeling\, IL 60090 \n(One block south of Palatine/Willow Road & Wolf Road – west side of Wolf Rd. Ample free parking in front.) \nPLEASE NOTE: \n\nYou must register as there is only space for 15 people per workshop.\nCheck in 15 minutes prior to workshop. ABSOLUTELY NO ADMITTANCE after session starts. Be sure to allow enough time for traffic\, construction & weather.\nYou cannot attend Day 2 only; you must attend both days.\nWorkshops are for individuals age 18+.\nEach person has their own computer for learning.\nIf you need to cancel\, please let us know a minimum of 48 hours prior to class so someone else can use your seat. We will have an extensive waiting list – so if you cannot come – PLEASE CANCEL.\nPlease do NOT REGISTER MULTIPLE TIMES.\n\nThe American Job Center in Wheeling is committed to providing all customers with quality\, professional services as well as a safe and comfortable learning environment. The use of our resources implies acceptance of our Customer Code of Conduct\, which is based on the principle of respect for all customers and staff. READ: https://www.ajcwheeling.com/wp-content/uploads/2020/08/Customer-Code-of-Conduct-handout.pdf \nQUESTIONS? Email contact@bcsillinois.org
URL:https://www.ajcwheeling.com/event/excel-basics-part-1-part-2-in-person-class/
LOCATION:American Job Center in Wheeling\, 1400 South Wolf Road\, Building 200\, Suite 200\, Wheeling\, IL\, 60090\, United States
ATTACH;FMTTYPE=image/jpeg:https://www.ajcwheeling.com/wp-content/uploads/2024/08/MS-Excel-Advanced.jpg
ORGANIZER;CN="Business%20and%20Career%20Services%20Inc.":MAILTO:contact@bcsillinois.org
END:VEVENT
BEGIN:VEVENT
DTSTART;TZID=America/Chicago:20241002T100000
DTEND;TZID=America/Chicago:20241002T130000
DTSTAMP:20260423T000652
CREATED:20240929T220241Z
LAST-MODIFIED:20240929T221359Z
UID:10005766-1727863200-1727874000@www.ajcwheeling.com
SUMMARY:Fall Job and Resource Fair
DESCRIPTION:
URL:https://www.ajcwheeling.com/event/fall-job-and-resource-fair/
LOCATION:Harry S. Truman College\, 1145 West Wilson Ave.\, Chicago\, IL\, 60640\, United States
CATEGORIES:Job Fair,Resource Fair
ATTACH;FMTTYPE=image/jpeg:https://www.ajcwheeling.com/wp-content/uploads/2024/09/2024.10.02-fall-resource-graphic.jpg
END:VEVENT
BEGIN:VEVENT
DTSTART;TZID=America/Chicago:20241002T130000
DTEND;TZID=America/Chicago:20241002T150000
DTSTAMP:20260423T000652
CREATED:20240926T144617Z
LAST-MODIFIED:20240926T182152Z
UID:10005758-1727874000-1727881200@www.ajcwheeling.com
SUMMARY:2024 Northern Cook County Ability Fair
DESCRIPTION:
URL:https://www.ajcwheeling.com/event/2024-northern-cook-county-ability-fair/
LOCATION:Harper College Learning and Career Center\, 1375 South Wolf Road\, Prospect Heights\, IL\, 60070\, United States
ATTACH;FMTTYPE=image/jpeg:https://www.ajcwheeling.com/wp-content/uploads/2024/09/2024.10.02-NCC-ABILITY-FAIR-PROMO-ART.jpg
END:VEVENT
BEGIN:VEVENT
DTSTART;TZID=America/Chicago:20241002T130000
DTEND;TZID=America/Chicago:20241002T153000
DTSTAMP:20260423T000652
CREATED:20240920T220221Z
LAST-MODIFIED:20240924T173824Z
UID:10005728-1727874000-1727883000@www.ajcwheeling.com
SUMMARY:Microsoft WORD: Basics (In-Person class)
DESCRIPTION:WORD Basics: Document creation\, font\, paragraph and page formatting including bulleted lists\, alignment\, indentation\, and line spacing. \nThis in-person class is taught in 1 sessions (See Below) \nOct. 2nd from 1:00pm to 3:30pm Chicago time \nMicrosoft WORD Basics: Document creation\, font\, paragraph and page formatting including bulleted lists\, alignment\, indentation\, and line spacing. \nPRE-REGISTRATION IS REQUIRED FOR ATTENDING THIS WORKSHOP! Registration closes 24 hours prior to class.  \n \nWorkshop Location: American Job Center in Wheeling 1400 S Wolf Road\, Building 200\, Suite 200\, Wheeling\, IL 60090 \nONE block south of Palatine-Willow Road & Wolf Road. West side of Wolf Road. Ample free parking. \nPLEASE NOTE: \n\nYou must register as there is only space for 15 people per workshop.\nCheck in 15 minutes prior to workshop. ABSOLUTELY NO ADMITTANCE after session starts. Be sure to allow enough time for traffic\, construction & weather.\nWorkshops are for individuals age 18+.\nEach person has their own computer for learning.\nIf you need to cancel\, please let us know a minimum of 48 hours prior to class so someone else on the waiting list can use your seat.\nPlease DO NOT REGISTER MULTIPLE TIMES. \n\nThe American Job Center in Wheeling is committed to providing all customers with quality\, professional services as well as a safe and comfortable learning environment. The use of our resources implies acceptance of our Customer Code of Conduct\, which is based on the principle of respect for all customers and staff. READ: https://www.ajcwheeling.com/wp-content/uploads/2020/08/Customer-Code-of-Conduct-handout.pdf \nQUESTIONS? EMAIL: contact@bcsillinois.org
URL:https://www.ajcwheeling.com/event/microsoft-word-basics-in-person-class-7/
LOCATION:American Job Center in Wheeling\, 1400 South Wolf Road\, Building 200\, Suite 200\, Wheeling\, IL\, 60090\, United States
ATTACH;FMTTYPE=image/jpeg:https://www.ajcwheeling.com/wp-content/uploads/2024/07/e84673fb73253e04b882e161cf1d8c2d.jpg
ORGANIZER;CN="Business%20and%20Career%20Services%20Inc.":MAILTO:contact@bcsillinois.org
END:VEVENT
END:VCALENDAR