BEGIN:VCALENDAR
VERSION:2.0
PRODID:-//American Job Center in Wheeling - ECPv6.0.13.1//NONSGML v1.0//EN
CALSCALE:GREGORIAN
METHOD:PUBLISH
X-ORIGINAL-URL:https://www.ajcwheeling.com
X-WR-CALDESC:Events for American Job Center in Wheeling
REFRESH-INTERVAL;VALUE=DURATION:PT1H
X-Robots-Tag:noindex
X-PUBLISHED-TTL:PT1H
BEGIN:VTIMEZONE
TZID:America/Chicago
BEGIN:DAYLIGHT
TZOFFSETFROM:-0600
TZOFFSETTO:-0500
TZNAME:CDT
DTSTART:20240310T080000
END:DAYLIGHT
BEGIN:STANDARD
TZOFFSETFROM:-0500
TZOFFSETTO:-0600
TZNAME:CST
DTSTART:20241103T070000
END:STANDARD
END:VTIMEZONE
BEGIN:VEVENT
DTSTART;TZID=America/Chicago:20241008T093000
DTEND;TZID=America/Chicago:20241008T113000
DTSTAMP:20260423T000709
CREATED:20240911T014432Z
LAST-MODIFIED:20241008T041428Z
UID:10005723-1728379800-1728387000@www.ajcwheeling.com
SUMMARY:LinkedIn Basics-FREE- In Person Tuesday October 8\, 2024
DESCRIPTION:Take the LinkedIn Basics workshop to  enhance your profile. Participants must have a LinkedIn profile\, access to username\, password & email.\n\n\nLinkedIn Beginners-FREE- In Person \nCome join us on Tuesday\, October 8\, 2024 at the American Job Center in Wheeling for a hands-on workshop on how to enhance your LinkedIn profile! This event is perfect for getting your profile seen in searches. \nInstructor Dee Reinhardt leads this highly interactive session. Participants must have a LinkedIn profile\, access to username and password\, and access the email associated with LinkedIn profile. \n“Get Your LinkedIn Profile Seen” \nKey aspects of a LinkedIn profile will be covered and how to enhance them to be more visible to recruiters and potential employers. Keywords and how to  use them will improve your profile presence in search results.  How to use AI to find the best way to express your experience will be provided.
URL:https://www.ajcwheeling.com/event/linkedin-basics-free-in-person-tuesday-october-8-2024/
LOCATION:American Job Center in Wheeling\, 1400 South Wolf Road\, Building 200\, Suite 200\, Wheeling\, IL\, 60090\, United States
ATTACH;FMTTYPE=image/jpeg:https://www.ajcwheeling.com/wp-content/uploads/2024/08/411c6aa405d3cb996f786a3981911788.jpg
END:VEVENT
END:VCALENDAR