BEGIN:VCALENDAR
VERSION:2.0
PRODID:-//American Job Center in Wheeling - ECPv6.0.13.1//NONSGML v1.0//EN
CALSCALE:GREGORIAN
METHOD:PUBLISH
X-ORIGINAL-URL:https://www.ajcwheeling.com
X-WR-CALDESC:Events for American Job Center in Wheeling
REFRESH-INTERVAL;VALUE=DURATION:PT1H
X-Robots-Tag:noindex
X-PUBLISHED-TTL:PT1H
BEGIN:VTIMEZONE
TZID:America/Chicago
BEGIN:DAYLIGHT
TZOFFSETFROM:-0600
TZOFFSETTO:-0500
TZNAME:CDT
DTSTART:20240310T080000
END:DAYLIGHT
BEGIN:STANDARD
TZOFFSETFROM:-0500
TZOFFSETTO:-0600
TZNAME:CST
DTSTART:20241103T070000
END:STANDARD
END:VTIMEZONE
BEGIN:VEVENT
DTSTART;TZID=America/Chicago:20241016T093000
DTEND;TZID=America/Chicago:20241016T110000
DTSTAMP:20260422T224428
CREATED:20240924T202942Z
LAST-MODIFIED:20240924T202942Z
UID:10005743-1729071000-1729076400@www.ajcwheeling.com
SUMMARY:Excel Focus on Functions - Lookup and Reference (Virtual Class)
DESCRIPTION:Excel Focus on Functions – Lookup and Reference: explore VLOOKUP\, HLOOKUP and alternatives like INDEX and MATCH\nVLOOKUP is a must-have Excel function that’s used to manipulate data. In this 90-minute webinar we’ll explore VLOOKUP and the additional options that make it such a useful tool. We’ll also look at some alternatives to VLOOKUP like INDEX/MATCH. \nPRE-REGISTRATION IS REQUIRED FOR ATTENDING THIS WORKSHOP! Registration closes 24 hours prior to class. \n \nOnce you register\, you will receive the link to enter class shortly before class. Please watch for an email from North Cook Job Center <customercare@GoToWebinar.com> \nPLEASE NOTE: \n\nYou must register as there is limited space for this virtual workshop.\n\n\nLog in 15 minutes prior to workshop. ABSOLUTELY NO ADMITTANCE after session starts. Be sure to allow enough time to log in.\n\n\nWorkshops are for individuals age 18+.\n\n\nIf you need to cancel\, please let us know a minimum of 48 hours prior to class so someone else on the waiting list can use your seat.\nPlease DO NOT REGISTER MORE THAN ONCE.\n\nThis American Job Center is committed to providing all customers with quality\, professional services as well as a safe and comfortable learning environment. The use of our resources implies acceptance of our Customer Code of Conduct\, which is based on the principle of respect for all customers and staff. READ: https://www.ajcwheeling.com/wp-content/uploads/2020/08/Customer-Code-of-Conduct-handout.pdf \nQUESTIONS? EMAIL contact@bcsillinois.org
URL:https://www.ajcwheeling.com/event/excel-focus-on-functions-lookup-and-reference-virtual-class-2/
ATTACH;FMTTYPE=image/jpeg:https://www.ajcwheeling.com/wp-content/uploads/2024/05/8154b9f855ffb28d8d8cbba136c0bfce.jpg
ORGANIZER;CN="Business%20and%20Career%20Services%20Inc.":MAILTO:contact@bcsillinois.org
END:VEVENT
BEGIN:VEVENT
DTSTART;TZID=America/Chicago:20241016T130000
DTEND;TZID=America/Chicago:20241016T143000
DTSTAMP:20260422T224428
CREATED:20240924T203147Z
LAST-MODIFIED:20240924T203147Z
UID:10005744-1729083600-1729089000@www.ajcwheeling.com
SUMMARY:Excel Charts - Graphically visualize and communicate data (Virtual Class)
DESCRIPTION:Excel Charts – Graphically visualize and communicate data using Excel’s robust chart tools\nIn this 90-minute session you’ll learn to make your data more understandable and accessible using Excel’s robust chart feature. Learn how to choose the right chart type (column\, line\, pie\, etc.)\, and explore formatting and layout options. We’ll also explore some of Excel’s lesser known chart types like Sparklines and Forecasting charts. \nPRE-REGISTRATION IS REQUIRED FOR ATTENDING THIS WORKSHOP! Registration closes 24 hours prior to class. \n \nOnce you register\, you will receive the link to enter class shortly before class. Please watch for an email from North Cook Job Center <customercare@GoToWebinar.com> \nPLEASE NOTE: \n\nYou must register as there is limited space for this virtual workshop.\n\n\nLog in 15 minutes prior to workshop. ABSOLUTELY NO ADMITTANCE after session starts. Be sure to allow enough time to log in.\n\n\nWorkshops are for individuals age 18+.\n\n\nIf you need to cancel\, please let us know a minimum of 48 hours prior to class so someone else on the waiting list can use your seat.\nPlease DO NOT REGISTER MORE THAN ONCE.\n\nThis American Job Center is committed to providing all customers with quality\, professional services as well as a safe and comfortable learning environment. The use of our resources implies acceptance of our Customer Code of Conduct\, which is based on the principle of respect for all customers and staff. READ: https://www.ajcwheeling.com/wp-content/uploads/2020/08/Customer-Code-of-Conduct-handout.pdf \nQUESTIONS? EMAIL contact@bcsillinois.org
URL:https://www.ajcwheeling.com/event/excel-charts-graphically-visualize-and-communicate-data-virtual-class/
ATTACH;FMTTYPE=image/jpeg:https://www.ajcwheeling.com/wp-content/uploads/2024/05/8154b9f855ffb28d8d8cbba136c0bfce.jpg
ORGANIZER;CN="Business%20and%20Career%20Services%20Inc.":MAILTO:contact@bcsillinois.org
END:VEVENT
BEGIN:VEVENT
DTSTART;TZID=America/Chicago:20241016T130000
DTEND;TZID=America/Chicago:20241016T150000
DTSTAMP:20260422T224428
CREATED:20240927T193755Z
LAST-MODIFIED:20240927T195238Z
UID:10005759-1729083600-1729090800@www.ajcwheeling.com
SUMMARY:Creating Your Target Resumes - More critical than you think! (In Person Workshop)
DESCRIPTION:This IN-PERSON class is taught in 1 session from 1:00pm to 3:00pm. \nCreating Your Target Resumes – More critical than you think! \nJoin us on Wednesday\, October 16\, 2024 at 1:00 (Chicago time)\, for an in-person event that will transform your job search game! Located at the Education and Work Center\, 6704 Barrington Rd\, Hanover Park\, IL 60133\, this is: \n\nYour opportunity to learn the secrets of crafting resumes that hit the mark.\nUnleash the power of your resume and stand out from the competition! Our expert speakers will guide you through the process of tailoring your resume to impress hiring managers.\nDiscover the keywords and formatting techniques that will make your resume shine.\n\nDon’t miss this chance to gain a competitive edge in your job search. Register now and unlock the potential of your resume! \nPRE-REGISTRATION IS REQUIRED FOR ATTENDING THIS WORKSHOP! Walk-ins accepted on a space available basis. \n \nWorkshop Location: Education and Work Center\, 6704 Barrington Rd\, Hanover Park\, IL 60133. WEST side of Barrington Road. Ample free parking in front. \nPLEASE NOTE: \n\nYou must register as there is only space for 24 people per workshop.\nRegistration closes 24 hours prior to workshop.\nCheck in 15 minutes prior to workshop. ABSOLUTELY NO ADMITTANCE after session starts. Be sure to allow enough time for traffic\, construction & weather.\nWorkshops are for individuals age 18+.\nEach person has their own computer for learning.\nSubject to change without notice.\nIf you need to cancel\, please let us know 48 hours prior to the workshop\, so someone else can use your seat.\n\nIMPORTANT: For additional job fairs\, free workshops and free computer classes\, visit northcookjobcenter.com/events/ \nBCS is committed to providing all customers with quality\, professional services as well as a safe and comfortable learning environment. The use of our resources (in person or virtual) implies acceptance of our Customer Code of Conduct (see attached Code of Conduct)\, which is based on the principle of respect for all customers and staff. https://www.ajcwheeling.com/wp-content/uploads/2020/08/Customer-Code-of-Conduct-handout.pdf \nOur agency is an equal opportunity employer/program. Auxiliary aids and services are available upon request to individuals with disabilities. Funding for this program is made possible through a grant provided by the Chicago Cook Workforce Partnership. This workforce product was funded by a grant awarded by the U.S. Department of Labor’s Employment and Training Administration. For more information please visit ChiCookWorks.org/DOL-Funding \nQUESTIONS? EMAIL contact@bcsillinois.org
URL:https://www.ajcwheeling.com/event/creating-your-target-resumes-more-critical-than-you-think-in-person-workshop/
LOCATION:Education and Work Center\, 6704 Barrington Road\, Hanover Park\, IL\, 60133\, United States
ATTACH;FMTTYPE=image/jpeg:https://www.ajcwheeling.com/wp-content/uploads/2024/09/Resume-Workshop-2.jpg
ORGANIZER;CN="Business%20and%20Career%20Services%20Inc.":MAILTO:contact@bcsillinois.org
END:VEVENT
END:VCALENDAR