BEGIN:VCALENDAR
VERSION:2.0
PRODID:-//American Job Center in Wheeling - ECPv6.0.13.1//NONSGML v1.0//EN
CALSCALE:GREGORIAN
METHOD:PUBLISH
X-WR-CALNAME:American Job Center in Wheeling
X-ORIGINAL-URL:https://www.ajcwheeling.com
X-WR-CALDESC:Events for American Job Center in Wheeling
REFRESH-INTERVAL;VALUE=DURATION:PT1H
X-Robots-Tag:noindex
X-PUBLISHED-TTL:PT1H
BEGIN:VTIMEZONE
TZID:America/Chicago
BEGIN:DAYLIGHT
TZOFFSETFROM:-0600
TZOFFSETTO:-0500
TZNAME:CDT
DTSTART:20240310T080000
END:DAYLIGHT
BEGIN:STANDARD
TZOFFSETFROM:-0500
TZOFFSETTO:-0600
TZNAME:CST
DTSTART:20241103T070000
END:STANDARD
END:VTIMEZONE
BEGIN:VEVENT
DTSTART;TZID=America/Chicago:20241023T093000
DTEND;TZID=America/Chicago:20241023T110000
DTSTAMP:20260422T224246
CREATED:20240924T204054Z
LAST-MODIFIED:20240924T204121Z
UID:10005747-1729675800-1729681200@www.ajcwheeling.com
SUMMARY:Excel Advanced Concepts: Additional Data Analysis tools (Virtual Class)
DESCRIPTION:Excel Advanced Concepts: Additional Data Analysis tools – Data validation\, Subtotal and What-Ifs\nThis 90-minute webinar focuses on some additional data tools available in Excel that are very useful but often overlooked. We’ll talk about data validation\, the Subtotal feature (an alternative to pivot tables)\, and the What-If tools. \nPRE-REGISTRATION IS REQUIRED FOR ATTENDING THIS WORKSHOP! Registration closes 24 hours prior to class. \n \nOnce you register\, you will receive the link to enter class shortly before class. Please watch for an email from North Cook Job Center <customercare@GoToWebinar.com> \nPLEASE NOTE: \n\nYou must register as there is limited space for this virtual workshop.\n\n\nLog in 15 minutes prior to workshop. ABSOLUTELY NO ADMITTANCE after session starts. Be sure to allow enough time to log in.\n\n\nWorkshops are for individuals age 18+.\n\n\nIf you need to cancel\, please let us know a minimum of 48 hours prior to class so someone else on the waiting list can use your seat.\nPlease DO NOT REGISTER MORE THAN ONCE.\n\nThis American Job Center is committed to providing all customers with quality\, professional services as well as a safe and comfortable learning environment. The use of our resources implies acceptance of our Customer Code of Conduct\, which is based on the principle of respect for all customers and staff. READ: https://www.ajcwheeling.com/wp-content/uploads/2020/08/Customer-Code-of-Conduct-handout.pdf \nQUESTIONS? EMAIL contact@bcsillinois.org
URL:https://www.ajcwheeling.com/event/excel-advanced-concepts-additional-data-analysis-tools-virtual-class-8/
ATTACH;FMTTYPE=image/jpeg:https://www.ajcwheeling.com/wp-content/uploads/2024/05/8154b9f855ffb28d8d8cbba136c0bfce.jpg
ORGANIZER;CN="Business%20and%20Career%20Services%20Inc.":MAILTO:contact@bcsillinois.org
END:VEVENT
BEGIN:VEVENT
DTSTART;TZID=America/Chicago:20241023T130000
DTEND;TZID=America/Chicago:20241023T143000
DTSTAMP:20260422T224246
CREATED:20240924T204916Z
LAST-MODIFIED:20240927T200232Z
UID:10005749-1729688400-1729693800@www.ajcwheeling.com
SUMMARY:MS Word Beyond the Basics (Virtual Class)
DESCRIPTION:MS Word Beyond the Basics – Efficient document design with Styles\, Style sets\, and built-in Quick Parts\nDiscover the power of Styles – the efficient way to format and design Word documents. If you’re a regular user of Word creating reports\, proposals\, manuscripts\, etc. learning to use Styles is a game changer! \nPRE-REGISTRATION IS REQUIRED FOR ATTENDING THIS WORKSHOP! Registration closes 24 hours prior to class. \n \nOnce you register\, you will receive the link to enter class shortly before class. Please watch for an email from North Cook Job Center <customercare@GoToWebinar.com> \nPLEASE NOTE: \n\nYou must register as there is limited space for this virtual workshop.\n\n\nLog in 15 minutes prior to workshop. ABSOLUTELY NO ADMITTANCE after session starts. Be sure to allow enough time to log in.\n\n\nWorkshops are for individuals age 18+.\n\n\nIf you need to cancel\, please let us know a minimum of 48 hours prior to class so someone else on the waiting list can use your seat.\nPlease DO NOT REGISTER MORE THAN ONCE.\n\nThis American Job Center is committed to providing all customers with quality\, professional services as well as a safe and comfortable learning environment. The use of our resources implies acceptance of our Customer Code of Conduct\, which is based on the principle of respect for all customers and staff. READ: https://www.ajcwheeling.com/wp-content/uploads/2020/08/Customer-Code-of-Conduct-handout.pdf \nQUESTIONS? EMAIL contact@bcsillinois.org
URL:https://www.ajcwheeling.com/event/ms-word-beyond-the-basics-virtual-class/
ATTACH;FMTTYPE=image/jpeg:https://www.ajcwheeling.com/wp-content/uploads/2024/08/ms-office-word-class.jpg
ORGANIZER;CN="Business%20and%20Career%20Services%20Inc.":MAILTO:contact@bcsillinois.org
END:VEVENT
BEGIN:VEVENT
DTSTART;TZID=America/Chicago:20241023T130000
DTEND;TZID=America/Chicago:20241023T150000
DTSTAMP:20260422T224246
CREATED:20240927T195657Z
LAST-MODIFIED:20240927T200013Z
UID:10005760-1729688400-1729695600@www.ajcwheeling.com
SUMMARY:Getting the interview – but not the job? Interview Success Secrets (In Person Workshop)
DESCRIPTION:This IN-PERSON class is taught in 1 session from 1:00pm to 3:00pm. \nGetting interviews – but not the job? Interview Success Secrets (In Person Workshop)\nJoin us on Wednesday\, October 23\, 2024 at 1:00 (Chicago time)\, for an in-person event that will transform your job search game! Located at the Education and Work Center\, 6704 Barrington Rd\, Hanover Park\, IL 60133. \nAre you tired of acing interviews only to be left empty-handed? If you’ve been struggling to land a job after making it past the interview stage\, don’t give up just yet. \nLearn sneaky secrets to interview success by understanding why you’re not getting the job offers\, and get the guidance you need to sharpen your interview skills. We’ll teach you how to effectively answer different types of interview questions using the P-A-R method\, and give you valuable insight into the interview process. \nDiscover how to make a lasting impression\, answer tough questions\, and stand out from the competition. \nPRE-REGISTRATION IS REQUIRED FOR ATTENDING THIS WORKSHOP! Walk-ins accepted on a space available basis. \n \nWorkshop Location: Education and Work Center\, 6704 Barrington Rd\, Hanover Park\, IL 60133. WEST side of Barrington Road. Ample free parking in front. \nPLEASE NOTE: \n\nYou must register as there is only space for 24 people per workshop.\nRegistration closes 24 hours prior to workshop.\nCheck in 15 minutes prior to workshop. ABSOLUTELY NO ADMITTANCE after session starts. Be sure to allow enough time for traffic\, construction & weather.\nWorkshops are for individuals age 18+.\nEach person has their own computer for learning.\nSubject to change without notice.\nIf you need to cancel\, please let us know 48 hours prior to the workshop\, so someone else can use your seat.\n\nIMPORTANT: For additional job fairs\, free workshops and free computer classes\, visit northcookjobcenter.com/events/ \nBCS is committed to providing all customers with quality\, professional services as well as a safe and comfortable learning environment. The use of our resources (in person or virtual) implies acceptance of our Customer Code of Conduct (see attached Code of Conduct)\, which is based on the principle of respect for all customers and staff. https://www.ajcwheeling.com/wp-content/uploads/2020/08/Customer-Code-of-Conduct-handout.pdf \nOur agency is an equal opportunity employer/program. Auxiliary aids and services are available upon request to individuals with disabilities. Funding for this program is made possible through a grant provided by the Chicago Cook Workforce Partnership. This workforce product was funded by a grant awarded by the U.S. Department of Labor’s Employment and Training Administration. For more information please visit ChiCookWorks.org/DOL-Funding \nQUESTIONS? EMAIL contact@bcsillinois.org
URL:https://www.ajcwheeling.com/event/getting-the-interview-but-not-the-job-interview-success-secrets-in-person-workshop/
LOCATION:Education and Work Center\, 6704 Barrington Road\, Hanover Park\, IL\, 60133\, United States
ATTACH;FMTTYPE=image/jpeg:https://www.ajcwheeling.com/wp-content/uploads/2024/09/Interview-coaching-2.jpg
ORGANIZER;CN="Business%20and%20Career%20Services%20Inc.":MAILTO:contact@bcsillinois.org
END:VEVENT
END:VCALENDAR