BEGIN:VCALENDAR
VERSION:2.0
PRODID:-//American Job Center in Wheeling - ECPv6.0.13.1//NONSGML v1.0//EN
CALSCALE:GREGORIAN
METHOD:PUBLISH
X-ORIGINAL-URL:https://www.ajcwheeling.com
X-WR-CALDESC:Events for American Job Center in Wheeling
REFRESH-INTERVAL;VALUE=DURATION:PT1H
X-Robots-Tag:noindex
X-PUBLISHED-TTL:PT1H
BEGIN:VTIMEZONE
TZID:America/Chicago
BEGIN:DAYLIGHT
TZOFFSETFROM:-0600
TZOFFSETTO:-0500
TZNAME:CDT
DTSTART:20240310T080000
END:DAYLIGHT
BEGIN:STANDARD
TZOFFSETFROM:-0500
TZOFFSETTO:-0600
TZNAME:CST
DTSTART:20241103T070000
END:STANDARD
END:VTIMEZONE
BEGIN:VEVENT
DTSTART;TZID=America/Chicago:20241024T093000
DTEND;TZID=America/Chicago:20241024T113000
DTSTAMP:20260422T224428
CREATED:20240924T210622Z
LAST-MODIFIED:20240924T210622Z
UID:10005750-1729762200-1729769400@www.ajcwheeling.com
SUMMARY:Google Workspace: Explore the spreadsheet power of Sheets! (Virtual Class)
DESCRIPTION:In this 90-minute webinar we’ll explore Sheets – Google’s web-based alternative to Excel. Learn to use this powerful spreadsheet program to create spreadsheets\, work with functions\, add formatting\, and sort/filter data. \nPRE-REGISTRATION IS REQUIRED FOR ATTENDING THIS WORKSHOP! Registration closes 24 hours prior to class. \n \nOnce you register\, you will receive the link to enter class shortly before class. Please watch for an email from North Cook Job Center <customercare@GoToWebinar.com> \nPLEASE NOTE: \n\nYou must register as there is limited space for this virtual workshop.\n\n\nLog in 15 minutes prior to workshop. ABSOLUTELY NO ADMITTANCE after session starts. Be sure to allow enough time to log in.\n\n\nWorkshops are for individuals age 18+.\n\n\nIf you need to cancel\, please let us know a minimum of 48 hours prior to class so someone else on the waiting list can use your seat.\nPlease DO NOT REGISTER MORE THAN ONCE.\n\nThis American Job Center is committed to providing all customers with quality\, professional services as well as a safe and comfortable learning environment. The use of our resources implies acceptance of our Customer Code of Conduct\, which is based on the principle of respect for all customers and staff. READ: https://www.ajcwheeling.com/wp-content/uploads/2020/08/Customer-Code-of-Conduct-handout.pdf \nQUESTIONS? EMAIL contact@bcsillinois.org
URL:https://www.ajcwheeling.com/event/google-workspace-explore-the-spreadsheet-power-of-sheets-virtual-class-4/
LOCATION:Harper College Building A\, 1200 W Algonquin Road\, Palatine\, IL\, 60067\, United States
ATTACH;FMTTYPE=image/jpeg:https://www.ajcwheeling.com/wp-content/uploads/2024/06/a3ae8cf088dac1df2988e8325b5cde3d.jpg
ORGANIZER;CN="Business%20and%20Career%20Services%20Inc.":MAILTO:contact@bcsillinois.org
END:VEVENT
BEGIN:VEVENT
DTSTART;TZID=America/Chicago:20241024T130000
DTEND;TZID=America/Chicago:20241024T143000
DTSTAMP:20260422T224428
CREATED:20240924T212137Z
LAST-MODIFIED:20240924T212137Z
UID:10005751-1729774800-1729780200@www.ajcwheeling.com
SUMMARY:PowerPoint Beyond the Basics: Slide Masters\, Basic Animation Effects and AI Design (Virtual Class)
DESCRIPTION:In this 90-minute webinar we’ll go beyond the basics to use PowerPoint’s new AI Design tool\, create an overall design with Slide Masters and look at basic object animation. \nPRE-REGISTRATION IS REQUIRED FOR ATTENDING THIS WORKSHOP! Registration closes 24 hours prior to class. \n \nOnce you register\, you will receive the link to enter class shortly before class. Please watch for an email from North Cook Job Center <customercare@GoToWebinar.com> \nPLEASE NOTE: \n\nYou must register as there is limited space for this virtual workshop.\n\n\nLog in 15 minutes prior to workshop. ABSOLUTELY NO ADMITTANCE after session starts. Be sure to allow enough time to log in.\n\n\nWorkshops are for individuals age 18+.\n\n\nIf you need to cancel\, please let us know a minimum of 48 hours prior to class so someone else on the waiting list can use your seat.\nPlease DO NOT REGISTER MORE THAN ONCE.\n\nThis American Job Center is committed to providing all customers with quality\, professional services as well as a safe and comfortable learning environment. The use of our resources implies acceptance of our Customer Code of Conduct\, which is based on the principle of respect for all customers and staff. READ: https://www.ajcwheeling.com/wp-content/uploads/2020/08/Customer-Code-of-Conduct-handout.pdf \nQUESTIONS? EMAIL contact@bcsillinois.org
URL:https://www.ajcwheeling.com/event/powerpoint-beyond-the-basics-slide-masters-basic-animation-effects-and-ai-design-virtual-class/
ATTACH;FMTTYPE=image/jpeg:https://www.ajcwheeling.com/wp-content/uploads/2024/08/POWERPOINT-LOGO.jpg
ORGANIZER;CN="Business%20and%20Career%20Services%20Inc.":MAILTO:contact@bcsillinois.org
END:VEVENT
BEGIN:VEVENT
DTSTART;TZID=America/Chicago:20241024T153000
DTEND;TZID=America/Chicago:20241024T183000
DTSTAMP:20260422T224428
CREATED:20240929T221006Z
LAST-MODIFIED:20240929T221158Z
UID:10005767-1729783800-1729794600@www.ajcwheeling.com
SUMMARY:Trade Apprenticeship Expo
DESCRIPTION:
URL:https://www.ajcwheeling.com/event/trade-apprenticeship-expo/
LOCATION:IBEW 701 Local Union Hall\, 28600 Bella Vista Parkway\, Warrenville\, 60555\, United States
CATEGORIES:Construction,Job Fair
ATTACH;FMTTYPE=image/jpeg:https://www.ajcwheeling.com/wp-content/uploads/2024/09/2024.10-Trade-Union-apprenticeship-event.jpg
END:VEVENT
END:VCALENDAR