BEGIN:VCALENDAR
VERSION:2.0
PRODID:-//American Job Center in Wheeling - ECPv6.0.13.1//NONSGML v1.0//EN
CALSCALE:GREGORIAN
METHOD:PUBLISH
X-ORIGINAL-URL:https://www.ajcwheeling.com
X-WR-CALDESC:Events for American Job Center in Wheeling
REFRESH-INTERVAL;VALUE=DURATION:PT1H
X-Robots-Tag:noindex
X-PUBLISHED-TTL:PT1H
BEGIN:VTIMEZONE
TZID:America/Chicago
BEGIN:DAYLIGHT
TZOFFSETFROM:-0600
TZOFFSETTO:-0500
TZNAME:CDT
DTSTART:20240310T080000
END:DAYLIGHT
BEGIN:STANDARD
TZOFFSETFROM:-0500
TZOFFSETTO:-0600
TZNAME:CST
DTSTART:20241103T070000
END:STANDARD
END:VTIMEZONE
BEGIN:VEVENT
DTSTART;TZID=America/Chicago:20241107T130000
DTEND;TZID=America/Chicago:20241107T153000
DTSTAMP:20260422T213336
CREATED:20240929T172209Z
LAST-MODIFIED:20240929T212618Z
UID:10005764-1730984400-1730993400@www.ajcwheeling.com
SUMMARY:Google Drive\, Docs & Sheets (In Person Class)
DESCRIPTION:Google Drive\, Docs & Sheets (In Person Class)\nLearn the basics of this popular free web-based alternative to One Drive\, Word and Excel (must have a Google account).   \nGoogle Docs\, Google Sheets\, and Google Drive are free web-based alternatives to Microsoft Word\, Excel\, and OneDrive that are part of the Google suite of productivity tools: \n\nGoogle Docs:  free web-based word processor that allows users to create\, edit\, and store documents. Users can access documents from any computer with a web browser and internet connection\, or from mobile devices with Android\, Chrome\, or iOS.\nGoogle Sheets: spreadsheet tool that allows multiple team members to work on the same spreadsheet at the same time.\nGoogle Drive: storage service that allows users to make automatic backups\, synchronize data and emails across devices\, and share and edit data in real time.\n\nTo use Google Docs\, Google Sheets\, and Google Drive\, users must create a free Google account\, which also provides a Gmail email address. \nPRE-REGISTRATION IS REQUIRED FOR ATTENDING THIS WORKSHOP! Walk-ins accepted on a space available basis. Registration closes 24 hours prior to class. \n \nWorkshop Location: \nAmerican Job Center in Wheeling \n1400 S Wolf Road\, Building 200\, Suite 200\, Wheeling\, IL 60090 \n(One block south of Palatine/Willow Road & Wolf Road – west side of Wolf Rd. Ample free parking in front.) \nPLEASE NOTE: \n\nYou must register as there is only space for 15 people per workshop.\nCheck in 15 minutes prior to workshop. ABSOLUTELY NO ADMITTANCE after session starts. Be sure to allow enough time for traffic\, construction & weather.\nYou cannot attend Day 2 only; you must attend both days.\nWorkshops are for individuals age 18+.\nEach person has their own computer for learning.\nIf you need to cancel\, please let us know a minimum of 48 hours prior to class so someone else can use your seat. We will have an extensive waiting list – so if you cannot come – PLEASE CANCEL.\nPlease do NOT REGISTER MULTIPLE TIMES.\n\nThe American Job Center in Wheeling is committed to providing all customers with quality\, professional services as well as a safe and comfortable learning environment. The use of our resources implies acceptance of our Customer Code of Conduct\, which is based on the principle of respect for all customers and staff. READ: https://www.ajcwheeling.com/wp-content/uploads/2020/08/Customer-Code-of-Conduct-handout.pdf \nQUESTIONS? Email contact@bcsillinois.org
URL:https://www.ajcwheeling.com/event/google-drive-docs-sheets-in-person-class/
LOCATION:American Job Center in Wheeling\, 1400 South Wolf Road\, Building 200\, Suite 200\, Wheeling\, IL\, 60090\, United States
ATTACH;FMTTYPE=image/jpeg:https://www.ajcwheeling.com/wp-content/uploads/2024/06/a3ae8cf088dac1df2988e8325b5cde3d.jpg
ORGANIZER;CN="Business%20and%20Career%20Services%20Inc.":MAILTO:contact@bcsillinois.org
END:VEVENT
END:VCALENDAR