BEGIN:VCALENDAR
VERSION:2.0
PRODID:-//American Job Center in Wheeling - ECPv6.0.13.1//NONSGML v1.0//EN
CALSCALE:GREGORIAN
METHOD:PUBLISH
X-ORIGINAL-URL:https://www.ajcwheeling.com
X-WR-CALDESC:Events for American Job Center in Wheeling
REFRESH-INTERVAL;VALUE=DURATION:PT1H
X-Robots-Tag:noindex
X-PUBLISHED-TTL:PT1H
BEGIN:VTIMEZONE
TZID:America/Chicago
BEGIN:DAYLIGHT
TZOFFSETFROM:-0600
TZOFFSETTO:-0500
TZNAME:CDT
DTSTART:20250309T080000
END:DAYLIGHT
BEGIN:STANDARD
TZOFFSETFROM:-0500
TZOFFSETTO:-0600
TZNAME:CST
DTSTART:20251102T070000
END:STANDARD
END:VTIMEZONE
BEGIN:VEVENT
DTSTART;TZID=America/Chicago:20250122T093000
DTEND;TZID=America/Chicago:20250122T110000
DTSTAMP:20260422T201305
CREATED:20241209T032505Z
LAST-MODIFIED:20250107T151442Z
UID:10005853-1737538200-1737543600@www.ajcwheeling.com
SUMMARY:Excel Pivot Tables Level 1 (Virtual Class)
DESCRIPTION:Learn the basics of Pivot Table construction in Excel. We’ll discuss data organization\, define what a pivot table does\, and create several examples of this need-to-know Excel feature. Familiarity with the Sorting and Filtering tools in Excel is recommended. \nPRE-REGISTRATION IS REQUIRED FOR ATTENDING THIS WORKSHOP!  Registration closes 24 hours prior to class. \n \nOnce you register\, you will receive the link to enter class shortly before class. Please watch for an email from:\n                                North Cook Job Center <customercare@GoToWebinar.com>\n  \nPLEASE NOTE: \n\nYou must register as there is limited space for this virtual workshop.\nLog in 15 minutes prior to workshop. ABSOLUTELY NO ADMITTANCE after session starts. Be sure to allow enough time for traffic\, construction & weather. \nWorkshops are for individuals age 18+.\nIf you need to cancel\, please let us know a minimum of 48 hours prior to class so someone else on the waiting list can use your seat. \nPlease DO NOT REGISTER MORE THAN ONCE.\n\nThis American Job Center is committed to providing all customers with quality\, professional services as well as a safe and comfortable learning environment. The use of our resources implies acceptance of our Customer Code of Conduct\, which is based on the principle of respect for all customers and staff. READ: https://www.ajcwheeling.com/wp-content/uploads/2020/08/Customer-Code-of-Conduct-handout.pdf \nQUESTIONS? EMAIL contact@bcsillinois.org
URL:https://www.ajcwheeling.com/event/excel-pivot-tables-level-1-virtual-class-6/
ATTACH;FMTTYPE=image/webp:https://www.ajcwheeling.com/wp-content/uploads/2024/10/EXCEL-pivot-table-18-20240830-4505698.webp
ORGANIZER;CN="Business%20and%20Career%20Services%20Inc.":MAILTO:contact@bcsillinois.org
END:VEVENT
BEGIN:VEVENT
DTSTART;TZID=America/Chicago:20250122T130000
DTEND;TZID=America/Chicago:20250122T143000
DTSTAMP:20260422T201305
CREATED:20241209T032716Z
LAST-MODIFIED:20241209T032716Z
UID:10005854-1737550800-1737556200@www.ajcwheeling.com
SUMMARY:Excel Charts - Graphically visualize and communicate data (Virtual Class)
DESCRIPTION:Excel Charts – Graphically visualize and communicate data using Excel’s robust chart tools\nIn this 90-minute session you’ll learn to make your data more understandable and accessible using Excel’s robust chart feature. Learn how to choose the right chart type (column\, line\, pie\, etc.)\, and explore formatting and layout options. We’ll also explore some of Excel’s lesser known chart types like Sparklines and Forecasting charts. \nPRE-REGISTRATION IS REQUIRED FOR ATTENDING THIS WORKSHOP! Registration closes 24 hours prior to class. \n \nOnce you register\, you will receive the link to enter class shortly before class. Please watch for an email from North Cook Job Center <customercare@GoToWebinar.com>\nPLEASE NOTE: \n\nYou must register as there is limited space for this virtual workshop.\nLog in 15 minutes prior to workshop. ABSOLUTELY NO ADMITTANCE after session starts. Be sure to allow enough time to log in. \nWorkshops are for individuals age 18+.\n\n\nIf you need to cancel\, please let us know a minimum of 48 hours prior to class so someone else on the waiting list can use your seat.\nPlease DO NOT REGISTER MORE THAN ONCE.\n\nThis American Job Center is committed to providing all customers with quality\, professional services as well as a safe and comfortable learning environment. The use of our resources implies acceptance of our Customer Code of Conduct\, which is based on the principle of respect for all customers and staff. READ: https://www.ajcwheeling.com/wp-content/uploads/2020/08/Customer-Code-of-Conduct-handout.pdf \nQUESTIONS? EMAIL contact@bcsillinois.org
URL:https://www.ajcwheeling.com/event/excel-charts-graphically-visualize-and-communicate-data-virtual-class-3/
ATTACH;FMTTYPE=image/jpeg:https://www.ajcwheeling.com/wp-content/uploads/2024/10/excel-advanced-excel-charts.jpg
ORGANIZER;CN="Business%20and%20Career%20Services%20Inc.":MAILTO:contact@bcsillinois.org
END:VEVENT
END:VCALENDAR