BEGIN:VCALENDAR
VERSION:2.0
PRODID:-//American Job Center in Wheeling - ECPv6.0.13.1//NONSGML v1.0//EN
CALSCALE:GREGORIAN
METHOD:PUBLISH
X-ORIGINAL-URL:https://www.ajcwheeling.com
X-WR-CALDESC:Events for American Job Center in Wheeling
REFRESH-INTERVAL;VALUE=DURATION:PT1H
X-Robots-Tag:noindex
X-PUBLISHED-TTL:PT1H
BEGIN:VTIMEZONE
TZID:America/Chicago
BEGIN:DAYLIGHT
TZOFFSETFROM:-0600
TZOFFSETTO:-0500
TZNAME:CDT
DTSTART:20250309T080000
END:DAYLIGHT
BEGIN:STANDARD
TZOFFSETFROM:-0500
TZOFFSETTO:-0600
TZNAME:CST
DTSTART:20251102T070000
END:STANDARD
END:VTIMEZONE
BEGIN:VEVENT
DTSTART;TZID=America/Chicago:20250205T093000
DTEND;TZID=America/Chicago:20250205T110000
DTSTAMP:20260422T160546
CREATED:20250111T231825Z
LAST-MODIFIED:20250111T231825Z
UID:10005878-1738747800-1738753200@www.ajcwheeling.com
SUMMARY:Excel Basics Part 1 (Virtual Workshop)
DESCRIPTION:How spreadsheets work\, basic formulas\, functions\, and formatting\nThis webinar is part 1 of a 3-part webinar series designed to introduce key concepts crucial to building a working knowledge of MS Excel. In this webinar we’ll talk about the Excel environment\, explore basic formulas and functions\, and discuss spreadsheet formatting options. \nPRE-REGISTRATION IS REQUIRED FOR ATTENDING THIS WORKSHOP! Registration closes 24 hours prior to class. \n \nOnce you register\, you will receive the link to enter class shortly before class. Please watch for an email from \n\n\n\n\n\nNorth Cook Job Center <customercare@GoToWebinar.com>\n\n\n\n\n\nPLEASE NOTE: \n\nYou must register as there is limited space for this virtual workshop.\n\n\nCheck in 15 minutes prior to workshop. ABSOLUTELY NO ADMITTANCE after session starts. Be sure to allow enough time for traffic\, construction & weather.\n\n\nWorkshops are for individuals age 18+.\n\n\nIf you need to cancel\, please let us know a minimum of 48 hours prior to class so someone else on the waiting list can use your seat.\nPlease DO NOT REGISTER MORE THAN ONCE.\n\nThis American Job Center is committed to providing all customers with quality\, professional services as well as a safe and comfortable learning environment. The use of our resources implies acceptance of our Customer Code of Conduct\, which is based on the principle of respect for all customers and staff. READ: https://www.ajcwheeling.com/wp-content/uploads/2020/08/Customer-Code-of-Conduct-handout.pdf \nQUESTIONS? EMAIL contact@bcsillinois.org \nsubject to change without notice.
URL:https://www.ajcwheeling.com/event/excel-basics-part-1-virtual-workshop-4/
CATEGORIES:Computer workshop
ATTACH;FMTTYPE=image/jpeg:https://www.ajcwheeling.com/wp-content/uploads/2024/08/MS-Excel-Advanced.jpg
ORGANIZER;CN="Business%20and%20Career%20Services%20Inc.":MAILTO:contact@bcsillinois.org
END:VEVENT
BEGIN:VEVENT
DTSTART;TZID=America/Chicago:20250205T100000
DTEND;TZID=America/Chicago:20250205T110000
DTSTAMP:20260422T160546
CREATED:20250128T045431Z
LAST-MODIFIED:20250131T184008Z
UID:10005920-1738749600-1738753200@www.ajcwheeling.com
SUMMARY:Job Search Strategy 101  (In Person)
DESCRIPTION:Location: 1400 S Wolf Road\, Building 200\, Wheeling\, IL 60090 \nLearn from someone who understands the job search journey and the challenges you are facing. During this in-person and interactive session\, participants will learn how to organize their job search with guidance through a Peer Counselor. \nThis sessions will include: \n\nAn introduction to job search tools and platforms\, job boards or company websites\nTips on how to organize your job search\, track applications\, set goals and manage time to stay motivated and efficient\nInstructions on how to refine your job search approach\n\n\n\n\n \nWorkshop Location: 1400 S Wolf Road\, Building 200\, Wheeling\, IL 60090 (American Job Center in Wheeling). ONE block south of Palatine-Willow Road & Wolf Road. WEST side of Wolf Road. Ample free parking in front. \n  \nIMPORTANT: For additional job fairs\, free workshops and free computer classes\, visit northcookjobcenter.com/events/ \nBCS is committed to providing all customers with quality\, professional services as well as a safe and comfortable learning environment. The use of our resources (in person or virtual) implies acceptance of our Customer Code of Conduct (see attached Code of Conduct)\, which is based on the principle of respect for all customers and staff. https://www.ajcwheeling.com/wp-content/uploads/2020/08/Customer-Code-of-Conduct-handout.pdf \nOur agency is an equal opportunity employer/program. Auxiliary aids and services are available upon request to individuals with disabilities. Funding for this program is made possible through a grant provided by the Chicago Cook Workforce Partnership. This workforce product was funded by a grant awarded by the U.S. Department of Labor’s Employment and Training Administration. For more information please visit ChiCookWorks.org/DOL-Funding \nQuestions? Email: contact@bcsillinois.org
URL:https://www.ajcwheeling.com/event/job-search-strategy-101-in-person/
LOCATION:American Job Center in Wheeling\, 1400 South Wolf Road\, Building 200\, Suite 200\, Wheeling\, IL\, 60090\, United States
CATEGORIES:Job Search Workshop
ATTACH;FMTTYPE=image/png:https://www.ajcwheeling.com/wp-content/uploads/2025/01/Are-You-Ready-Graphic.png
ORGANIZER;CN="Business%20and%20Career%20Services%20Inc.":MAILTO:contact@bcsillinois.org
END:VEVENT
BEGIN:VEVENT
DTSTART;TZID=America/Chicago:20250205T130000
DTEND;TZID=America/Chicago:20250205T143000
DTSTAMP:20260422T160546
CREATED:20250111T232008Z
LAST-MODIFIED:20250111T232008Z
UID:10005879-1738760400-1738765800@www.ajcwheeling.com
SUMMARY:MS Word Basics (Virtual Workshop)
DESCRIPTION:Basic editing and formatting: fonts\, bulleted lists\, indentation\, and line spacing\nThis 90-minute webinar is designed to introduce key concepts crucial to building a working knowledge of MS Word. In this webinar we’ll talk about the Word environment\, and explore the essential editing/formatting tools necessary to create basic documents. \nPRE-REGISTRATION IS REQUIRED FOR ATTENDING THIS WORKSHOP! \n \nOnce you register\, you will receive the link to enter class shortly before class. Please watch for an email from North Cook Job Center <customercare@GoToWebinar.com>\nPLEASE NOTE: \n\nYou must register as there is limited space for this virtual workshop.\n\n\nCheck in 15 minutes prior to workshop. ABSOLUTELY NO ADMITTANCE after session starts. \n\n\nWorkshops are for individuals age 18+.\n\n\nIf you need to cancel\, please let us know a minimum of 48 hours prior to class so someone else on the waiting list can use your seat.\nPlease DO NOT REGISTER MORE THAN ONCE.\n\nThis American Job Center is committed to providing all customers with quality\, professional services as well as a safe and comfortable learning environment. The use of our resources implies acceptance of our Customer Code of Conduct\, which is based on the principle of respect for all customers and staff. READ: https://www.ajcwheeling.com/wp-content/uploads/2020/08/Customer-Code-of-Conduct-handout.pdf \nQUESTIONS? EMAIL contact@bcsillinois.org \nSubject to change without notice
URL:https://www.ajcwheeling.com/event/ms-word-basics-virtual-workshop-4/
CATEGORIES:Computer workshop
ATTACH;FMTTYPE=image/jpeg:https://www.ajcwheeling.com/wp-content/uploads/2024/08/ms-office-word-class.jpg
ORGANIZER;CN="Business%20and%20Career%20Services%20Inc.":MAILTO:contact@bcsillinois.org
END:VEVENT
BEGIN:VEVENT
DTSTART;TZID=America/Chicago:20250205T140000
DTEND;TZID=America/Chicago:20250205T150000
DTSTAMP:20260422T160546
CREATED:20250128T045807Z
LAST-MODIFIED:20250130T184045Z
UID:10005922-1738764000-1738767600@www.ajcwheeling.com
SUMMARY:Job Search Strategy 101  (In Person)
DESCRIPTION:Location: 1400 S Wolf Road\, Building 200\, Wheeling\, IL 60090 \nLearn from someone who understands the job search journey and the challenges you are facing. During this in-person and interactive session\, participants will learn how to organize their job search with guidance through a Peer Counselor. \nThis sessions will include: \n\nAn introduction to job search tools and platforms\, job boards or company websites\nTips on how to organize your job search\, track applications\, set goals and manage time to stay motivated and efficient\nInstructions on how to refine your job search approach\n\n\n\n\n \nWorkshop Location: 1400 S Wolf Road\, Building 200\, Wheeling\, IL 60090 (American Job Center in Wheeling). ONE block south of Palatine-Willow Road & Wolf Road. WEST side of Wolf Road. Ample free parking in front. \n  \nIMPORTANT: For additional job fairs\, free workshops and free computer classes\, visit northcookjobcenter.com/events/ \nBCS is committed to providing all customers with quality\, professional services as well as a safe and comfortable learning environment. The use of our resources (in person or virtual) implies acceptance of our Customer Code of Conduct (see attached Code of Conduct)\, which is based on the principle of respect for all customers and staff. https://www.ajcwheeling.com/wp-content/uploads/2020/08/Customer-Code-of-Conduct-handout.pdf \nOur agency is an equal opportunity employer/program. Auxiliary aids and services are available upon request to individuals with disabilities. Funding for this program is made possible through a grant provided by the Chicago Cook Workforce Partnership. This workforce product was funded by a grant awarded by the U.S. Department of Labor’s Employment and Training Administration. For more information please visit ChiCookWorks.org/DOL-Funding \nQuestions? Email: contact@bcsillinois.org
URL:https://www.ajcwheeling.com/event/job-search-strategy-101-in-person-3/
LOCATION:American Job Center in Wheeling\, 1400 South Wolf Road\, Building 200\, Suite 200\, Wheeling\, IL\, 60090\, United States
CATEGORIES:Job Search Workshop
ATTACH;FMTTYPE=image/png:https://www.ajcwheeling.com/wp-content/uploads/2025/01/Are-You-Ready-Graphic.png
ORGANIZER;CN="Business%20and%20Career%20Services%20Inc.":MAILTO:contact@bcsillinois.org
END:VEVENT
END:VCALENDAR