BEGIN:VCALENDAR
VERSION:2.0
PRODID:-//American Job Center in Wheeling - ECPv6.0.13.1//NONSGML v1.0//EN
CALSCALE:GREGORIAN
METHOD:PUBLISH
X-ORIGINAL-URL:https://www.ajcwheeling.com
X-WR-CALDESC:Events for American Job Center in Wheeling
REFRESH-INTERVAL;VALUE=DURATION:PT1H
X-Robots-Tag:noindex
X-PUBLISHED-TTL:PT1H
BEGIN:VTIMEZONE
TZID:America/Chicago
BEGIN:DAYLIGHT
TZOFFSETFROM:-0600
TZOFFSETTO:-0500
TZNAME:CDT
DTSTART:20250309T080000
END:DAYLIGHT
BEGIN:STANDARD
TZOFFSETFROM:-0500
TZOFFSETTO:-0600
TZNAME:CST
DTSTART:20251102T070000
END:STANDARD
END:VTIMEZONE
BEGIN:VEVENT
DTSTART;TZID=America/Chicago:20250212T100000
DTEND;TZID=America/Chicago:20250212T120000
DTSTAMP:20260422T160544
CREATED:20241002T163325Z
LAST-MODIFIED:20250128T050122Z
UID:10005774-1739354400-1739361600@www.ajcwheeling.com
SUMMARY:Hiring Event and Career MiniMart (In Person)
DESCRIPTION:Job Fair\, Hiring Event and Career Mini-mart\nWhat is a Career MiniMart? 10am – Noon\n \nArrive a little early: \n\nNeed help practicing your “elevator speech” or printing your resume?\nWant to research a hiring company?\n\nDrop into the Career Mini-Mart Resource Center. \n\nPrinters are available to print your resume.\nComputer resources are available to research companies.\nFriendly Coaches are available to practice your “elevator speech.”\n\nWe are here to help you shine. \n\nPlease bring 10 copies of your resume and your smile.\nBe ready to interview.\n\nAnd now: The Hiring Event*\nWed. Feb. 12th from\n10am – Noon\n \nJoin us for an On-the-Spot Interview – – there’s something for everyone on our team. Find out what’s best for you and your schedule. Employer list will be available on Feb. 5th. \nRegistration is strongly recommended. \nWalk-ins welcome! \nSchaumburg District Library \n130 Roselle Rd\, Schaumburg\, IL 60193 \nHiring for multiple departments and multiple locations! \nRegister today! \n \ncontact@bcsillinois.org \nIMPORTANT: For additional virtual job fairs\, free workshops and free computer classes\, visit northcookjobcenter.com/events/ \nThe American Job Center is committed to providing all customers with quality\, professional services as well as a safe and comfortable learning environment. The use of our resources implies acceptance of our Customer Code of Conduct\, which is based on the principle of respect for all customers and staff. READ: \nhttps://www.ajcwheeling.com/wp-content/uploads/2020/08/Customer-Code-of-Conduct-handout.pdf \nQUESTIONS? EMAIL: contact@bcsillinois.org \n*subject to change without notice
URL:https://www.ajcwheeling.com/event/hiring-event-and-career-minimart-2/
LOCATION:Schaumburg Township District Library\, 130 S Roselle Rd\, Schaumburg\, IL 60193\, 130 S Roselle Rd\, Schaumburg\, IL\, 60193\, United States
CATEGORIES:Hiring Event,Job Fair,Job Search Workshop
ATTACH;FMTTYPE=image/jpeg:https://www.ajcwheeling.com/wp-content/uploads/2024/10/now-hiring-jpg-copy.jpg
ORGANIZER;CN="Business%20and%20Career%20Services%20Inc.":MAILTO:contact@bcsillinois.org
END:VEVENT
BEGIN:VEVENT
DTSTART;TZID=America/Chicago:20250212T120000
DTEND;TZID=America/Chicago:20250212T160000
DTSTAMP:20260422T160544
CREATED:20250211T013330Z
LAST-MODIFIED:20250211T014607Z
UID:10005936-1739361600-1739376000@www.ajcwheeling.com
SUMMARY:Job Fair
DESCRIPTION:2025.02.12 -Job Fair at St Joseph Ukrainian Catholic Church 2025.02.12 -Job Fair at St Joseph Ukrainian Catholic Church
URL:https://www.ajcwheeling.com/event/job-fair-7/
LOCATION:St Joseph Ukrainian Catholic Church\, 5000 N Cumberland Ave\, Chicago\, IL\, 60656\, United States
CATEGORIES:Hiring Event,Job Fair
ATTACH;FMTTYPE=image/jpeg:https://www.ajcwheeling.com/wp-content/uploads/2025/02/2025.02.12-Ukraine-job-fair-graphic.jpg
END:VEVENT
END:VCALENDAR