BEGIN:VCALENDAR
VERSION:2.0
PRODID:-//American Job Center in Wheeling - ECPv6.0.13.1//NONSGML v1.0//EN
CALSCALE:GREGORIAN
METHOD:PUBLISH
X-ORIGINAL-URL:https://www.ajcwheeling.com
X-WR-CALDESC:Events for American Job Center in Wheeling
REFRESH-INTERVAL;VALUE=DURATION:PT1H
X-Robots-Tag:noindex
X-PUBLISHED-TTL:PT1H
BEGIN:VTIMEZONE
TZID:America/Chicago
BEGIN:DAYLIGHT
TZOFFSETFROM:-0600
TZOFFSETTO:-0500
TZNAME:CDT
DTSTART:20250309T080000
END:DAYLIGHT
BEGIN:STANDARD
TZOFFSETFROM:-0500
TZOFFSETTO:-0600
TZNAME:CST
DTSTART:20251102T070000
END:STANDARD
END:VTIMEZONE
BEGIN:VEVENT
DTSTART;TZID=America/Chicago:20250220T093000
DTEND;TZID=America/Chicago:20250220T120000
DTSTAMP:20260422T160546
CREATED:20250112T194557Z
LAST-MODIFIED:20250112T195026Z
UID:10005888-1740043800-1740052800@www.ajcwheeling.com
SUMMARY:EXCEL Shortcuts (In Person Class)
DESCRIPTION:EXCEL Shortcuts (In Person class)\nExcel Charts – Graphically visualize and communicate data using Excel’s robust chart tools\nStreamline your Excel process with popular Windows keyboard and mouse shortcuts.  Learn how to use Excel shortcut keys to quickly navigate worksheets and improve your productivity. \nPRE-REGISTRATION IS REQUIRED FOR ATTENDING THIS WORKSHOP! Walk-ins accepted on a space available basis. \n \nWorkshop Location: \nAmerican Job Center in Wheeling \n1400 S Wolf Road\, Building 200\, Suite 200\, Wheeling\, IL 60090 \nOne block south of Palatine-Willow Road & Wolf Road. West side of Wolf Road. \nPLEASE NOTE: \n\nYou must register as there is only space for 15 people per workshop.\n\n\nCheck in 15 minutes prior to workshop. ABSOLUTELY NO ADMITTANCE after session starts. Be sure to allow enough time for traffic\, construction & weather.\n\n\nWorkshops are for individuals age 18+.\n\n\nEach person has their own computer for learning.\n\n\nIf you need to cancel\, please let us know a minimum of 48 hours prior to class so someone else on the waiting list can use your seat.\nPlease do NOT register multiple times.\n\nThis American Job Center is committed to providing all customers with quality\, professional services as well as a safe and comfortable learning environment. The use of our resources implies acceptance of our Customer Code of Conduct\, which is based on the principle of respect for all customers and staff. READ: https://www.ajcwheeling.com/wp-content/uploads/2020/08/Customer-Code-of-Conduct-handout.pdf \nQUESTIONS? EMAIL contact@bcsillinois.org
URL:https://www.ajcwheeling.com/event/excel-shortcuts-in-person-class/
LOCATION:American Job Center in Wheeling\, 1400 South Wolf Road\, Building 200\, Suite 200\, Wheeling\, IL\, 60090\, United States
CATEGORIES:Computer workshop
ATTACH;FMTTYPE=image/jpeg:https://www.ajcwheeling.com/wp-content/uploads/2024/08/MS-Excel-Advanced.jpg
ORGANIZER;CN="Business%20and%20Career%20Services%20Inc.":MAILTO:contact@bcsillinois.org
END:VEVENT
BEGIN:VEVENT
DTSTART;TZID=America/Chicago:20250220T120000
DTEND;TZID=America/Chicago:20250220T160000
DTSTAMP:20260422T160546
CREATED:20250219T180655Z
LAST-MODIFIED:20250219T182506Z
UID:10005987-1740052800-1740067200@www.ajcwheeling.com
SUMMARY:Free Certified Tax Preparation
DESCRIPTION:FREE Certified Tax Preparation \nFebruary to April 2025 \nThursday afternoons in Prospect Heights \nBY APPOINTMENT ONLY\n \nOR CALL 847.385.6001 \nclick below to download flyer \nAARP 2025 Flyer (003) taxes weekly from Feb thru April
URL:https://www.ajcwheeling.com/event/free-certified-tax-preparation/2025-02-20/
LOCATION:Harper College Learning and Career Center\, 1375 South Wolf Road\, Prospect Heights\, IL\, 60070\, United States
CATEGORIES:AARP
ATTACH;FMTTYPE=image/jpeg:https://www.ajcwheeling.com/wp-content/uploads/2025/02/TAX-PREP-at-Harper.jpg
END:VEVENT
BEGIN:VEVENT
DTSTART;TZID=America/Chicago:20250220T130000
DTEND;TZID=America/Chicago:20250220T153000
DTSTAMP:20260422T160546
CREATED:20250115T173538Z
LAST-MODIFIED:20250115T184528Z
UID:10005915-1740056400-1740065400@www.ajcwheeling.com
SUMMARY:PowerPoint Beyond the Basics - In Person workshop
DESCRIPTION:PowerPoint Beyond the Basics: Intermediate level overview including animation\, Slide Masters\, Sound\, and Looped Presentations.\n\n\nThis in-person class is designed to introduce key concepts crucial to building a working knowledge of Microsoft PowerPoint. In this class we’ll talk about intermediate level concepts including animation\, Slide Masters\, sound\, and looped presentations. \nPRE-REGISTRATION IS REQUIRED FOR ATTENDING THIS WORKSHOP! Registration closes 24 hours prior to class. Walk-ins accepted on a space available basis.  \n \nLocation of Workshop – North Suburban Cook County American Job Center – 1400 S Wolf Road\, Building 200\, Suite 200\, Wheeling\, IL 60090 \nPLEASE NOTE:  \n\nYou must register as there is only space for 15 people per workshop.\nCheck in 10 minutes prior to workshop. No admittance after session starts. Be sure to allow enough time for traffic\, construction & weather.\nWorkshops are for individuals age 18+.\nEach person has their own computer for learning.\nIf you need to cancel\, please let us know so someone else can use your seat. \n\nThe  American Job Center in Wheeling is committed to providing all customers with quality\, professional services as well as a safe and comfortable learning environment. The use of our resources implies acceptance of our Customer Code of Conduct\, which is based on the principle of respect for all customers and staff. READ: \nhttps://www.ajcwheeling.com/wp-content/uploads/2020/08/Customer-Code-of-Conduct-handout.pdf \nQUESTIONS? EMAIL: contact@bcsillinois.org
URL:https://www.ajcwheeling.com/event/powerpoint-beyond-the-basics-in-person-workshop-2/
LOCATION:American Job Center in Wheeling\, 1400 South Wolf Road\, Building 200\, Suite 200\, Wheeling\, IL\, 60090\, United States
CATEGORIES:Computer workshop
ATTACH;FMTTYPE=image/jpeg:https://www.ajcwheeling.com/wp-content/uploads/2023/03/118c303d51ff3d7f01d44d11560c3692.jpg
END:VEVENT
END:VCALENDAR