BEGIN:VCALENDAR
VERSION:2.0
PRODID:-//American Job Center in Wheeling - ECPv6.0.13.1//NONSGML v1.0//EN
CALSCALE:GREGORIAN
METHOD:PUBLISH
X-WR-CALNAME:American Job Center in Wheeling
X-ORIGINAL-URL:https://www.ajcwheeling.com
X-WR-CALDESC:Events for American Job Center in Wheeling
REFRESH-INTERVAL;VALUE=DURATION:PT1H
X-Robots-Tag:noindex
X-PUBLISHED-TTL:PT1H
BEGIN:VTIMEZONE
TZID:America/Chicago
BEGIN:DAYLIGHT
TZOFFSETFROM:-0600
TZOFFSETTO:-0500
TZNAME:CDT
DTSTART:20250309T080000
END:DAYLIGHT
BEGIN:STANDARD
TZOFFSETFROM:-0500
TZOFFSETTO:-0600
TZNAME:CST
DTSTART:20251102T070000
END:STANDARD
END:VTIMEZONE
BEGIN:VEVENT
DTSTART;TZID=America/Chicago:20250225T093000
DTEND;TZID=America/Chicago:20250225T113000
DTSTAMP:20260422T121313
CREATED:20250211T032052Z
LAST-MODIFIED:20250211T032222Z
UID:10005938-1740475800-1740483000@www.ajcwheeling.com
SUMMARY:LinkedIn Beginners-FREE- In Person Tuesday February 25\, 2025
DESCRIPTION:Take the LinkedIn Beginners workshop to create your profile. You must have access to an email address to confirm account.\n\n\nLinkedIn Beginners-FREE- In Person \nCome join us on Tuesday\, February 25\, 2025 at the American Job Center in Wheeling for a hands-on workshop on how to kickstart your LinkedIn profile! This event is perfect for beginners. \n \nInstructor Dee Reinhardt leads this highly interactive session. Participants must have access to an email address to confrim their account as we set up the LinkedIn profile. \n“Get Started with LinkedIn” \nThe very basics of setting up a LinkedIn profile. In class\, we will create a profile and fill in the base items needed to have a profile. As time permits\, we will discuss the About section and adding contacts properly. \nWorkshop Location: 1400 S Wolf Road\, Building 200\, Wheeling\, IL 60090 (American Job Center in Wheeling). ONE block south of Palatine-Willow Road & Wolf Road. WEST side of Wolf Road. Ample free parking in front. \nPLEASE NOTE: \n\nYou must register as there is only space for 15 people per workshop.\nCheck in 15 minutes prior to workshop. ABSOLUTELY NO ADMITTANCE after session starts. \nBe sure to allow enough time for traffic\, construction & weather.\nWorkshops are for individuals age 18+.\nEach person has their own computer for learning.\nIf you need to cancel\, please let us know a minimum of 48 hours prior to class so someone else on the waiting list can use your seat.\nPlease DO NOT REGISTER MULTIPLE TIMES.\n\nIMPORTANT: For additional job fairs\, free workshops and free computer classes\, visit northcookjobcenter.com/events/ \nBCS is committed to providing all customers with quality\, professional services as well as a safe and comfortable learning environment. The use of our resources (in person or virtual) implies acceptance of our Customer Code of Conduct (see attached Code of Conduct)\, which is based on the principle of respect for all customers and staff. https://www.ajcwheeling.com/wp-content/uploads/2020/08/Customer-Code-of-Conduct-handout.pdf \nOur agency is an equal opportunity employer/program. Auxiliary aids and services are available upon request to individuals with disabilities. Funding for this program is made possible through a grant provided by the Chicago Cook Workforce Partnership. This workforce product was funded by a grant awarded by the U.S. Department of Labor’s Employment and Training Administration. For more information please visit ChiCookWorks.org/DOL-Funding \nQuestions? Email: contact@bcsillinois.org
URL:https://www.ajcwheeling.com/event/linkedin-beginners-free-in-person-tuesday-february-25-2025/
LOCATION:American Job Center in Wheeling\, 1400 South Wolf Road\, Building 200\, Suite 200\, Wheeling\, IL\, 60090\, United States
CATEGORIES:Job Search Workshop
ATTACH;FMTTYPE=image/jpeg:https://www.ajcwheeling.com/wp-content/uploads/2024/08/411c6aa405d3cb996f786a3981911788.jpg
END:VEVENT
BEGIN:VEVENT
DTSTART;TZID=America/Chicago:20250225T133000
DTEND;TZID=America/Chicago:20250225T150000
DTSTAMP:20260422T121313
CREATED:20250211T021008Z
LAST-MODIFIED:20250219T204633Z
UID:10006004-1740490200-1740495600@www.ajcwheeling.com
SUMMARY:Illinois State Treasurer I-Cash event
DESCRIPTION:  \n \n \nClick below to download flyer \nIll State Treasure at AJC flyer 2025 \n 
URL:https://www.ajcwheeling.com/event/illinois-state-treasurer-i-cash-event/2025-02-25/
LOCATION:American Job Center in Wheeling\, 1400 South Wolf Road\, Building 200\, Suite 200\, Wheeling\, IL\, 60090\, United States
CATEGORIES:Resource Fair
ATTACH;FMTTYPE=image/jpeg:https://www.ajcwheeling.com/wp-content/uploads/2025/02/ICash-flyer-component.jpg
ORGANIZER;CN="Business%20and%20Career%20Services%20Inc.":MAILTO:contact@bcsillinois.org
END:VEVENT
END:VCALENDAR