BEGIN:VCALENDAR
VERSION:2.0
PRODID:-//American Job Center in Wheeling - ECPv6.0.13.1//NONSGML v1.0//EN
CALSCALE:GREGORIAN
METHOD:PUBLISH
X-ORIGINAL-URL:https://www.ajcwheeling.com
X-WR-CALDESC:Events for American Job Center in Wheeling
REFRESH-INTERVAL;VALUE=DURATION:PT1H
X-Robots-Tag:noindex
X-PUBLISHED-TTL:PT1H
BEGIN:VTIMEZONE
TZID:America/Chicago
BEGIN:DAYLIGHT
TZOFFSETFROM:-0600
TZOFFSETTO:-0500
TZNAME:CDT
DTSTART:20250309T080000
END:DAYLIGHT
BEGIN:STANDARD
TZOFFSETFROM:-0500
TZOFFSETTO:-0600
TZNAME:CST
DTSTART:20251102T070000
END:STANDARD
END:VTIMEZONE
BEGIN:VEVENT
DTSTART;TZID=America/Chicago:20250304T100000
DTEND;TZID=America/Chicago:20250304T110000
DTSTAMP:20260422T121354
CREATED:20250218T185845Z
LAST-MODIFIED:20250218T185845Z
UID:10005968-1741082400-1741086000@www.ajcwheeling.com
SUMMARY:Target Your Resume (In Person)
DESCRIPTION:Location: American Job Center\, 1400 S Wolf Road\, Building 200\, Wheeling\, IL 60090 \nLearn from someone who understands the job search journey and the challenges you are facing. During this in-person session\, participants will learn methods to improve their resumes with guidance through a Peer Counselor. \nTopics will include: \n\nTips and tricks to target your resume\nTailoring content with keywords and formatting strategies\nLearning how to highlight skills\, experiences and success’s effectively\nGetting tips on how to make the resume stand out to employers or applicant tracking systems (ATS)\n\n\n\n\n \nWorkshop Location: 1400 S Wolf Road\, Building 200\, Wheeling\, IL 60090 (American Job Center in Wheeling). ONE block south of Palatine-Willow Road & Wolf Road. WEST side of Wolf Road. Ample free parking in front. \n  \nIMPORTANT: For additional job fairs\, free workshops and free computer classes\, visit northcookjobcenter.com/events/ \nBCS is committed to providing all customers with quality\, professional services as well as a safe and comfortable learning environment. The use of our resources (in person or virtual) implies acceptance of our Customer Code of Conduct (see attached Code of Conduct)\, which is based on the principle of respect for all customers and staff. https://www.ajcwheeling.com/wp-content/uploads/2020/08/Customer-Code-of-Conduct-handout.pdf \nOur agency is an equal opportunity employer/program. Auxiliary aids and services are available upon request to individuals with disabilities. Funding for this program is made possible through a grant provided by the Chicago Cook Workforce Partnership. This workforce product was funded by a grant awarded by the U.S. Department of Labor’s Employment and Training Administration. For more information please visit ChiCookWorks.org/DOL-Funding \nQuestions? Email contact@bcsillinois.org \n 
URL:https://www.ajcwheeling.com/event/target-your-resume-in-person-3/
LOCATION:American Job Center in Wheeling\, 1400 South Wolf Road\, Building 200\, Suite 200\, Wheeling\, IL\, 60090\, United States
CATEGORIES:Job Search Workshop
ATTACH;FMTTYPE=image/png:https://www.ajcwheeling.com/wp-content/uploads/2025/02/Are-You-Ready-Green-Graphic.png
END:VEVENT
BEGIN:VEVENT
DTSTART;TZID=America/Chicago:20250304T100000
DTEND;TZID=America/Chicago:20250304T120000
DTSTAMP:20260422T121354
CREATED:20250218T223553Z
LAST-MODIFIED:20250218T223635Z
UID:10005982-1741082400-1741089600@www.ajcwheeling.com
SUMMARY:Spring Job Fair
DESCRIPTION:
URL:https://www.ajcwheeling.com/event/spring-job-fair/
LOCATION:American Job Center North Riverside\, 7222 W Cermak Rd\, North Riverside\, IL\, 60546\, United States
CATEGORIES:Job Fair
ATTACH;FMTTYPE=image/jpeg:https://www.ajcwheeling.com/wp-content/uploads/2025/02/2025.03.04-Spring-Job-Fair-North-Riverside.jpg
END:VEVENT
BEGIN:VEVENT
DTSTART;TZID=America/Chicago:20250304T140000
DTEND;TZID=America/Chicago:20250304T150000
DTSTAMP:20260422T121354
CREATED:20250218T191022Z
LAST-MODIFIED:20250218T191022Z
UID:10005970-1741096800-1741100400@www.ajcwheeling.com
SUMMARY:Target Your Resume (Virtual workshop)
DESCRIPTION:Location: This is a virtual workshop. You will be emailed the link shortly before the workshop begins. Please watch for an email from peercounselor@bcsillinois.org . \nLearn from someone who understands the job search journey and the challenges you are facing. During this in-person session\, participants will learn methods to improve their resumes with guidance through a Peer Counselor. \nTopics will include: \n\nTips and tricks to target your resume\nTailoring content with keywords and formatting strategies\nLearning how to highlight skills\, experiences and success’s effectively\nGetting tips on how to make the resume stand out to employers or applicant tracking systems (ATS)\n\n\n\n\n \nWorkshop Location: This is a virtual workshop. You will be emailed the link shortly before the workshop begins. Please watch for an email from peercounselor@bcsillinois.org .  \n  \nIMPORTANT: For additional job fairs\, free workshops and free computer classes\, visit northcookjobcenter.com/events/ \nBCS is committed to providing all customers with quality\, professional services as well as a safe and comfortable learning environment. The use of our resources (in person or virtual) implies acceptance of our Customer Code of Conduct (see attached Code of Conduct)\, which is based on the principle of respect for all customers and staff. https://www.ajcwheeling.com/wp-content/uploads/2020/08/Customer-Code-of-Conduct-handout.pdf \nOur agency is an equal opportunity employer/program. Auxiliary aids and services are available upon request to individuals with disabilities. Funding for this program is made possible through a grant provided by the Chicago Cook Workforce Partnership. This workforce product was funded by a grant awarded by the U.S. Department of Labor’s Employment and Training Administration. For more information please visit ChiCookWorks.org/DOL-Funding \nQuestions? Email contact@bcsillinois.org \n 
URL:https://www.ajcwheeling.com/event/target-your-resume-virtual-workshop/
CATEGORIES:Job Search Workshop
ATTACH;FMTTYPE=image/png:https://www.ajcwheeling.com/wp-content/uploads/2025/02/Are-You-Ready-Green-Graphic.png
ORGANIZER;CN="Business%20and%20Career%20Services%20Inc.":MAILTO:contact@bcsillinois.org
END:VEVENT
BEGIN:VEVENT
DTSTART;TZID=America/Chicago:20250304T140000
DTEND;TZID=America/Chicago:20250304T150000
DTSTAMP:20260422T121354
CREATED:20250218T192358Z
LAST-MODIFIED:20250218T203757Z
UID:10005972-1741096800-1741100400@www.ajcwheeling.com
SUMMARY:Elevator Speech and Interview Secrets  (In Person)
DESCRIPTION:Location: 1400 S Wolf Road\, Building 200\, Wheeling\, IL 60090 \nLearn from someone who understands the job search journey and the challenges you are facing. During this in-person session\, participants will learn methods to prepare for interviews with guidance through a Peer Counselor. \nTopics will include: \n\nPreparation of an Elevator Speech\nKnowing your audience and researching techniques\nApplying the SARS interviewing method\nTop interview blunders\n\n\n\n\n \nWorkshop Location: 1400 S Wolf Road\, Building 200\, Wheeling\, IL 60090 (American Job Center in Wheeling). ONE block south of Palatine-Willow Road & Wolf Road. WEST side of Wolf Road. Ample free parking in front. \n  \nIMPORTANT: For additional job fairs\, free workshops and free computer classes\, visit northcookjobcenter.com/events/ \nBCS is committed to providing all customers with quality\, professional services as well as a safe and comfortable learning environment. The use of our resources (in person or virtual) implies acceptance of our Customer Code of Conduct (see attached Code of Conduct)\, which is based on the principle of respect for all customers and staff. https://www.ajcwheeling.com/wp-content/uploads/2020/08/Customer-Code-of-Conduct-handout.pdf \nOur agency is an equal opportunity employer/program. Auxiliary aids and services are available upon request to individuals with disabilities. Funding for this program is made possible through a grant provided by the Chicago Cook Workforce Partnership. This workforce product was funded by a grant awarded by the U.S. Department of Labor’s Employment and Training Administration. For more information please visit ChiCookWorks.org/DOL-Funding \nQuestions? Email: contact@bcsillinois.org
URL:https://www.ajcwheeling.com/event/elevator-speech-and-interview-secrets-in-person-3/
LOCATION:American Job Center in Wheeling\, 1400 South Wolf Road\, Building 200\, Suite 200\, Wheeling\, IL\, 60090\, United States
CATEGORIES:Job Search Workshop
ATTACH;FMTTYPE=image/png:https://www.ajcwheeling.com/wp-content/uploads/2025/02/Are-You-Ready-Green-Graphic.png
ORGANIZER;CN="Business%20and%20Career%20Services%20Inc.":MAILTO:contact@bcsillinois.org
END:VEVENT
END:VCALENDAR