BEGIN:VCALENDAR
VERSION:2.0
PRODID:-//American Job Center in Wheeling - ECPv6.0.13.1//NONSGML v1.0//EN
CALSCALE:GREGORIAN
METHOD:PUBLISH
X-WR-CALNAME:American Job Center in Wheeling
X-ORIGINAL-URL:https://www.ajcwheeling.com
X-WR-CALDESC:Events for American Job Center in Wheeling
REFRESH-INTERVAL;VALUE=DURATION:PT1H
X-Robots-Tag:noindex
X-PUBLISHED-TTL:PT1H
BEGIN:VTIMEZONE
TZID:America/Chicago
BEGIN:DAYLIGHT
TZOFFSETFROM:-0600
TZOFFSETTO:-0500
TZNAME:CDT
DTSTART:20250309T080000
END:DAYLIGHT
BEGIN:STANDARD
TZOFFSETFROM:-0500
TZOFFSETTO:-0600
TZNAME:CST
DTSTART:20251102T070000
END:STANDARD
END:VTIMEZONE
BEGIN:VEVENT
DTSTART;TZID=America/Chicago:20250306T120000
DTEND;TZID=America/Chicago:20250306T160000
DTSTAMP:20260422T132638
CREATED:20250219T180655Z
LAST-MODIFIED:20250219T182506Z
UID:10005989-1741262400-1741276800@www.ajcwheeling.com
SUMMARY:Free Certified Tax Preparation
DESCRIPTION:FREE Certified Tax Preparation \nFebruary to April 2025 \nThursday afternoons in Prospect Heights \nBY APPOINTMENT ONLY\n \nOR CALL 847.385.6001 \nclick below to download flyer \nAARP 2025 Flyer (003) taxes weekly from Feb thru April
URL:https://www.ajcwheeling.com/event/free-certified-tax-preparation/2025-03-06/
LOCATION:Harper College Learning and Career Center\, 1375 South Wolf Road\, Prospect Heights\, IL\, 60070\, United States
CATEGORIES:AARP
ATTACH;FMTTYPE=image/jpeg:https://www.ajcwheeling.com/wp-content/uploads/2025/02/TAX-PREP-at-Harper.jpg
END:VEVENT
BEGIN:VEVENT
DTSTART;TZID=America/Chicago:20250306T130000
DTEND;TZID=America/Chicago:20250306T153000
DTSTAMP:20260422T132638
CREATED:20250112T202131Z
LAST-MODIFIED:20250112T202314Z
UID:10005897-1741266000-1741275000@www.ajcwheeling.com
SUMMARY:Excel Function Overview (In Person Class)
DESCRIPTION:Excel Function Overview (In Person Class)\nExcel Functions Overview: Setup\, structure and syntax\, common problems with functions\, and troubleshooting tips \nNot as confident about Excel functions as you’d like to be? This in person class is designed for people who who have used Excel but don’t feel they know enough about functions. We’ll talk about function syntax\, how to recognize problems with functions\, how the function library is organized\, and some general troubleshooting for Excel spreadsheets. \nPRE-REGISTRATION IS REQUIRED FOR ATTENDING THIS WORKSHOP! \n \nRegistration closes 24 hours prior to class. Walk-ins accepted on a space available basis. \nWorkshop Location: \nAmerican Job Center in Wheeling \n1400 S Wolf Road\, Building 200\, Suite 200\, Wheeling\, IL 60090 \n(One block south of Palatine/Willow Road & Wolf Road – west side of Wolf Rd. Ample free parking in front.) \nPLEASE NOTE: \n\nYou must register as there is only space for 15 people per workshop.\nCheck in 15 minutes prior to workshop. ABSOLUTELY NO ADMITTANCE after session starts. Be sure to allow enough time for traffic\, construction & weather.\nWorkshops are for individuals age 18+.\nEach person has their own computer for learning.\nIf you need to cancel\, please let us know a minimum of 48 hours prior to class so someone else can use your seat. We will have an extensive waiting list – so if you cannot come – PLEASE CANCEL.\nPlease do NOT REGISTER MULTIPLE TIMES.\n\nThe American Job Center in Wheeling is committed to providing all customers with quality\, professional services as well as a safe and comfortable learning environment. The use of our resources implies acceptance of our Customer Code of Conduct\, which is based on the principle of respect for all customers and staff. READ: https://www.ajcwheeling.com/wp-content/uploads/2020/08/Customer-Code-of-Conduct-handout.pdf \nQUESTIONS? Email contact@bcsillinois.org
URL:https://www.ajcwheeling.com/event/excel-function-overview-in-person-class-3/
LOCATION:American Job Center in Wheeling\, 1400 South Wolf Road\, Building 200\, Suite 200\, Wheeling\, IL\, 60090\, United States
CATEGORIES:Computer workshop
ATTACH;FMTTYPE=image/jpeg:https://www.ajcwheeling.com/wp-content/uploads/2024/08/MS-Excel-Advanced.jpg
ORGANIZER;CN="Business%20and%20Career%20Services%20Inc.":MAILTO:contact@bcsillinois.org
END:VEVENT
END:VCALENDAR