BEGIN:VCALENDAR
VERSION:2.0
PRODID:-//American Job Center in Wheeling - ECPv6.0.13.1//NONSGML v1.0//EN
CALSCALE:GREGORIAN
METHOD:PUBLISH
X-WR-CALNAME:American Job Center in Wheeling
X-ORIGINAL-URL:https://www.ajcwheeling.com
X-WR-CALDESC:Events for American Job Center in Wheeling
REFRESH-INTERVAL;VALUE=DURATION:PT1H
X-Robots-Tag:noindex
X-PUBLISHED-TTL:PT1H
BEGIN:VTIMEZONE
TZID:America/Chicago
BEGIN:DAYLIGHT
TZOFFSETFROM:-0600
TZOFFSETTO:-0500
TZNAME:CDT
DTSTART:20250309T080000
END:DAYLIGHT
BEGIN:STANDARD
TZOFFSETFROM:-0500
TZOFFSETTO:-0600
TZNAME:CST
DTSTART:20251102T070000
END:STANDARD
END:VTIMEZONE
BEGIN:VEVENT
DTSTART;TZID=America/Chicago:20250313T093000
DTEND;TZID=America/Chicago:20250313T110000
DTSTAMP:20260422T133056
CREATED:20250112T203719Z
LAST-MODIFIED:20250116T221139Z
UID:10005903-1741858200-1741863600@www.ajcwheeling.com
SUMMARY:Excel Advanced Concepts - Get Started with Excel Tables (Virtual Class)
DESCRIPTION:You’ve heard of Excel tables but never had a chance to use them? Learn how to structure Excel tables\, understand the differences between normal ranges and tables\, and the advantages of using tables to create more complex pivot tables and use the Power Query Feature. \nPRE-REGISTRATION IS REQUIRED FOR ATTENDING THIS WORKSHOP! \n \nRegistration closes 24 hours prior to class. \nOnce you register\, you will receive the link to enter class shortly before class. Please watch for an email from North Cook Job Center <customercare@GoToWebinar.com>\n  \nPLEASE NOTE: \n\nYou must register as there is limited space for this virtual workshop.\n\n\nLog in 15 minutes prior to workshop. ABSOLUTELY NO ADMITTANCE after session starts. Be sure to allow enough time to log in.\n\n\nWorkshops are for individuals age 18+.\n\n\nIf you need to cancel\, please let us know a minimum of 48 hours prior to class so someone else on the waiting list can use your seat.\nPlease DO NOT REGISTER MORE THAN ONCE.\n\nThis American Job Center is committed to providing all customers with quality\, professional services as well as a safe and comfortable learning environment. The use of our resources implies acceptance of our Customer Code of Conduct\, which is based on the principle of respect for all customers and staff. READ: https://www.ajcwheeling.com/wp-content/uploads/2020/08/Customer-Code-of-Conduct-handout.pdf \nQUESTIONS? EMAIL contact@bcsillinois.org
URL:https://www.ajcwheeling.com/event/excel-advanced-concepts-get-started-with-excel-tables-virtual-class-8/
CATEGORIES:Computer workshop
ATTACH;FMTTYPE=image/jpeg:https://www.ajcwheeling.com/wp-content/uploads/2024/08/MS-Excel-Advanced.jpg
ORGANIZER;CN="Business%20and%20Career%20Services%20Inc.":MAILTO:contact@bcsillinois.org
END:VEVENT
BEGIN:VEVENT
DTSTART;TZID=America/Chicago:20250313T100000
DTEND;TZID=America/Chicago:20250313T130000
DTSTAMP:20260422T133056
CREATED:20250317T170006Z
LAST-MODIFIED:20250317T170617Z
UID:10006016-1741860000-1741870800@www.ajcwheeling.com
SUMMARY:CPS (Chicago Public School) Job Fair
DESCRIPTION:
URL:https://www.ajcwheeling.com/event/cps-chicago-public-school-job-fair/
LOCATION:Kennedy King College\, 740 W. 63rd Street\, Chicago\, IL\, 60621\, United States
CATEGORIES:Hiring Event,Job Fair
ATTACH;FMTTYPE=image/jpeg:https://www.ajcwheeling.com/wp-content/uploads/2025/03/2025.03.13-CPS-JOB-FAIR.jpg
END:VEVENT
BEGIN:VEVENT
DTSTART;TZID=America/Chicago:20250313T120000
DTEND;TZID=America/Chicago:20250313T160000
DTSTAMP:20260422T133056
CREATED:20250219T180655Z
LAST-MODIFIED:20250219T182506Z
UID:10005990-1741867200-1741881600@www.ajcwheeling.com
SUMMARY:Free Certified Tax Preparation
DESCRIPTION:FREE Certified Tax Preparation \nFebruary to April 2025 \nThursday afternoons in Prospect Heights \nBY APPOINTMENT ONLY\n \nOR CALL 847.385.6001 \nclick below to download flyer \nAARP 2025 Flyer (003) taxes weekly from Feb thru April
URL:https://www.ajcwheeling.com/event/free-certified-tax-preparation/2025-03-13/
LOCATION:Harper College Learning and Career Center\, 1375 South Wolf Road\, Prospect Heights\, IL\, 60070\, United States
CATEGORIES:AARP
ATTACH;FMTTYPE=image/jpeg:https://www.ajcwheeling.com/wp-content/uploads/2025/02/TAX-PREP-at-Harper.jpg
END:VEVENT
BEGIN:VEVENT
DTSTART;TZID=America/Chicago:20250313T130000
DTEND;TZID=America/Chicago:20250313T143000
DTSTAMP:20260422T133057
CREATED:20250112T203920Z
LAST-MODIFIED:20250112T203920Z
UID:10005904-1741870800-1741876200@www.ajcwheeling.com
SUMMARY:Word Level II - Efficient document design with Styles\, Style sets\, and built-in Quick Parts (virtual class)
DESCRIPTION:Discover the power of Styles – the efficient way to format and design Word documents. If you’re a regular user of Word creating reports\, proposals\, manuscripts\, etc. learning to use Styles is a game changer! Your productivity will SOAR if iInstead of using direct formatting\, you use styles to format your document so you can quickly and easily apply a set of formatting choices consistently. \nPRE-REGISTRATION IS REQUIRED FOR ATTENDING THIS WORKSHOP! Registration closes 24 hours prior to class. \n \nOnce you register\, you will receive the link to enter class shortly before class. Please watch for an email from North Cook Job Center <customercare@GoToWebinar.com> \nPLEASE NOTE: \n\nYou must register as there is limited space for this virtual workshop.\n\n\nLog in 15 minutes prior to workshop. ABSOLUTELY NO ADMITTANCE after session starts. Be sure to allow enough time to log in.\n\n\nWorkshops are for individuals age 18+.\n\n\nIf you need to cancel\, please let us know a minimum of 48 hours prior to class so someone else on the waiting list can use your seat.\nPlease DO NOT REGISTER MORE THAN ONCE.\n\nThis American Job Center is committed to providing all customers with quality\, professional services as well as a safe and comfortable learning environment. The use of our resources implies acceptance of our Customer Code of Conduct\, which is based on the principle of respect for all customers and staff. READ: https://www.ajcwheeling.com/wp-content/uploads/2020/08/Customer-Code-of-Conduct-handout.pdf \nQUESTIONS? EMAIL contact@bcsillinois.org
URL:https://www.ajcwheeling.com/event/word-level-ii-efficient-document-design-with-styles-style-sets-and-built-in-quick-parts-virtual-class-2/
CATEGORIES:Computer workshop
ATTACH;FMTTYPE=image/jpeg:https://www.ajcwheeling.com/wp-content/uploads/2024/08/ms-office-word-class.jpg
ORGANIZER;CN="Business%20and%20Career%20Services%20Inc.":MAILTO:contact@bcsillinois.org
END:VEVENT
END:VCALENDAR