BEGIN:VCALENDAR
VERSION:2.0
PRODID:-//American Job Center in Wheeling - ECPv6.0.13.1//NONSGML v1.0//EN
CALSCALE:GREGORIAN
METHOD:PUBLISH
X-WR-CALNAME:American Job Center in Wheeling
X-ORIGINAL-URL:https://www.ajcwheeling.com
X-WR-CALDESC:Events for American Job Center in Wheeling
REFRESH-INTERVAL;VALUE=DURATION:PT1H
X-Robots-Tag:noindex
X-PUBLISHED-TTL:PT1H
BEGIN:VTIMEZONE
TZID:America/Chicago
BEGIN:DAYLIGHT
TZOFFSETFROM:-0600
TZOFFSETTO:-0500
TZNAME:CDT
DTSTART:20250309T080000
END:DAYLIGHT
BEGIN:STANDARD
TZOFFSETFROM:-0500
TZOFFSETTO:-0600
TZNAME:CST
DTSTART:20251102T070000
END:STANDARD
END:VTIMEZONE
BEGIN:VEVENT
DTSTART;TZID=America/Chicago:20250319T093000
DTEND;TZID=America/Chicago:20250319T110000
DTSTAMP:20260422T132637
CREATED:20250112T205004Z
LAST-MODIFIED:20250112T205017Z
UID:10005905-1742376600-1742382000@www.ajcwheeling.com
SUMMARY:Excel Pivot Tables Level 1 (Virtual Class)
DESCRIPTION:Learn the basics of Pivot Table construction in Excel. We’ll discuss data organization\, define what a pivot table does\, and create several examples of this need-to-know Excel feature. Familiarity with the Sorting and Filtering tools in Excel is recommended. \nPRE-REGISTRATION IS REQUIRED FOR ATTENDING THIS WORKSHOP!  Registration closes 24 hours prior to class. \n \nOnce you register\, you will receive the link to enter class shortly before class. Please watch for an email from:\n                                North Cook Job Center <customercare@GoToWebinar.com>\n  \nPLEASE NOTE: \n\nYou must register as there is limited space for this virtual workshop.\nLog in 10 minutes prior to workshop. ABSOLUTELY NO ADMITTANCE after session starts. \nWorkshops are for individuals age 18+.\nIf you need to cancel\, please let us know a minimum of 48 hours prior to class so someone else on the waiting list can use your seat. \nPlease DO NOT REGISTER MORE THAN ONCE.\n\nThis American Job Center is committed to providing all customers with quality\, professional services as well as a safe and comfortable learning environment. The use of our resources implies acceptance of our Customer Code of Conduct\, which is based on the principle of respect for all customers and staff. READ: https://www.ajcwheeling.com/wp-content/uploads/2020/08/Customer-Code-of-Conduct-handout.pdf \nQUESTIONS? EMAIL contact@bcsillinois.org
URL:https://www.ajcwheeling.com/event/excel-pivot-tables-level-1-virtual-class-8/
CATEGORIES:Computer workshop
ATTACH;FMTTYPE=image/webp:https://www.ajcwheeling.com/wp-content/uploads/2024/10/EXCEL-pivot-table-18-20240830-4505698.webp
ORGANIZER;CN="Business%20and%20Career%20Services%20Inc.":MAILTO:contact@bcsillinois.org
END:VEVENT
BEGIN:VEVENT
DTSTART;TZID=America/Chicago:20250319T100000
DTEND;TZID=America/Chicago:20250319T110000
DTSTAMP:20260422T132637
CREATED:20250218T204848Z
LAST-MODIFIED:20250218T204848Z
UID:10005977-1742378400-1742382000@www.ajcwheeling.com
SUMMARY:Job Search Strategy 101  (Virtual workshop)
DESCRIPTION:Location: This is a virtual workshop. You will receive an email with the link to enter class shortly before class. Please watch for an email from the Peer Counselors at BCSIllinois.org. \nLearn from someone who understands the job search journey and the challenges you are facing. During this in-person and interactive session\, participants will learn how to organize their job search with guidance through a Peer Counselor. \nThis sessions will include: \n\nAn introduction to job search tools and platforms\, job boards or company websites\nTips on how to organize your job search\, track applications\, set goals and manage time to stay motivated and efficient\nInstructions on how to refine your job search approach\n\n\n\n\n \nWorkshop Location: This is a virtual workshop. You will receive an email with the link to enter class shortly before class. Please watch for an email from the Peer Counselors at BCSIllinois.org. \n  \nIMPORTANT: For additional job fairs\, free workshops and free computer classes\, visit northcookjobcenter.com/events/ \nBCS is committed to providing all customers with quality\, professional services as well as a safe and comfortable learning environment. The use of our resources (in person or virtual) implies acceptance of our Customer Code of Conduct (see attached Code of Conduct)\, which is based on the principle of respect for all customers and staff. https://www.ajcwheeling.com/wp-content/uploads/2020/08/Customer-Code-of-Conduct-handout.pdf \nOur agency is an equal opportunity employer/program. Auxiliary aids and services are available upon request to individuals with disabilities. Funding for this program is made possible through a grant provided by the Chicago Cook Workforce Partnership. This workforce product was funded by a grant awarded by the U.S. Department of Labor’s Employment and Training Administration. For more information please visit ChiCookWorks.org/DOL-Funding \nQuestions? Email: contact@bcsillinois.org
URL:https://www.ajcwheeling.com/event/job-search-strategy-101-virtual-workshop-2/
CATEGORIES:Job Search Workshop
ATTACH;FMTTYPE=image/png:https://www.ajcwheeling.com/wp-content/uploads/2025/02/Are-You-Ready-Green-Graphic.png
ORGANIZER;CN="Business%20and%20Career%20Services%20Inc.":MAILTO:contact@bcsillinois.org
END:VEVENT
BEGIN:VEVENT
DTSTART;TZID=America/Chicago:20250319T100000
DTEND;TZID=America/Chicago:20250319T130000
DTSTAMP:20260422T132637
CREATED:20250317T171248Z
LAST-MODIFIED:20250317T171248Z
UID:10006017-1742378400-1742389200@www.ajcwheeling.com
SUMMARY:2025 Manufacturing Job Fair
DESCRIPTION:
URL:https://www.ajcwheeling.com/event/2025-manufacturing-job-fair/
LOCATION:Symbol Training\, 8151 Ridgeway Avenue\, Skokie\, IL\, 60076\, United States
CATEGORIES:Job Fair
ATTACH;FMTTYPE=image/jpeg:https://www.ajcwheeling.com/wp-content/uploads/2025/03/2025.03.19-Manufacturing-Job-Fair.jpg
END:VEVENT
BEGIN:VEVENT
DTSTART;TZID=America/Chicago:20250319T100000
DTEND;TZID=America/Chicago:20250319T133000
DTSTAMP:20260422T132637
CREATED:20250219T214848Z
LAST-MODIFIED:20250219T215650Z
UID:10006005-1742378400-1742391000@www.ajcwheeling.com
SUMMARY:Job Fair
DESCRIPTION:
URL:https://www.ajcwheeling.com/event/job-fair-8/
LOCATION:Lincolnwood Chamber of Commerce\, 4433 W Touhy Avenue\, Lincolnwood\, Illinois\, 60712\, United States
CATEGORIES:Job Fair
ATTACH;FMTTYPE=image/png:https://www.ajcwheeling.com/wp-content/uploads/2025/02/Job-Fair-March-2.png
END:VEVENT
BEGIN:VEVENT
DTSTART;TZID=America/Chicago:20250319T110000
DTEND;TZID=America/Chicago:20250319T130000
DTSTAMP:20260422T132637
CREATED:20250303T172922Z
LAST-MODIFIED:20250303T172922Z
UID:10006012-1742382000-1742389200@www.ajcwheeling.com
SUMMARY:Job Search and Career Services Drop-in Assistance (In Person)
DESCRIPTION:Location: Mt. Prospect Public Library\, 10 S. Emerson St. Mt. Prospect\, IL 60056 \nJoin us on Wednesday\, March 19\, 2025 at 11am (Chicago time)\, for an in-person event that will transform your job search game! \nBusiness and Career Services employment specialists are available for in-person assistance with career counseling and job search support. Bring your questions about navigating the job search and a copy of your resume or cover letter if you have one. Employers with questions about staffing and recruitment are also welcome. Drop-in sessions: may be limited to 15 minutes when others are waiting. \nDon’t miss this chance to gain a competitive edge in your job search. Register now and unlock the potential of your resume! \n  \nWorkshop Location: Mt. Prospect Public Library\, 10 S. Emerson St. Mt. Prospect\, IL 60056 \nIMPORTANT: For additional job fairs\, free workshops and free computer classes\, visit northcookjobcenter.com/events/ \nBCS is committed to providing all customers with quality\, professional services as well as a safe and comfortable learning environment. The use of our resources (in person or virtual) implies acceptance of our Customer Code of Conduct (see attached Code of Conduct)\, which is based on the principle of respect for all customers and staff. https://www.ajcwheeling.com/wp-content/uploads/2020/08/Customer-Code-of-Conduct-handout.pdf \nOur agency is an equal opportunity employer/program. Auxiliary aids and services are available upon request to individuals with disabilities. Funding for this program is made possible through a grant provided by the Chicago Cook Workforce Partnership. This workforce product was funded by a grant awarded by the U.S. Department of Labor’s Employment and Training Administration. For more information please visit ChiCookWorks.org/DOL-Funding \nQUESTIONS? EMAIL contact@bcsillinois.org \nSubject to change without notice.
URL:https://www.ajcwheeling.com/event/job-search-and-career-services-drop-in-assistance-in-person-2/
LOCATION:Mt. Prospect Public Library\, 10 S Emerson St\, Mt Prospect\, 60056
CATEGORIES:Job Search Workshop
ATTACH;FMTTYPE=image/png:https://www.ajcwheeling.com/wp-content/uploads/2024/08/HELP-i-need-help-now.png
ORGANIZER;CN="Business%20and%20Career%20Services%20Inc.":MAILTO:contact@bcsillinois.org
END:VEVENT
BEGIN:VEVENT
DTSTART;TZID=America/Chicago:20250319T130000
DTEND;TZID=America/Chicago:20250319T143000
DTSTAMP:20260422T132637
CREATED:20250112T205524Z
LAST-MODIFIED:20250112T205524Z
UID:10005907-1742389200-1742394600@www.ajcwheeling.com
SUMMARY:Excel Conditional Tools: IF functions\, Data Validation (VIRTUAL CLASS)
DESCRIPTION:Learn how to use IF and other logical functions to add conditions to Excel tasks\n\n\nAdd power and complexity to your Excel spreadsheets! In this 90-minute webinar we’ll talk about about one of the most powerful functions in Excel – the IF function. We’ll also talk about other logical functions like AND/OR as well as functions like SUMIF and AVERAGEIF. Many tools in Excel are condition-based. So what is a condition??? We’ll look at several areas of Excel that serve different purposes\, but use the same underlying concept of condition. Understanding how conditions are used in Excel not only extends your knowledge of different tools in Excel\, but adds to your overall understanding of Excel. \nImproving your EXCEL skills can give you that competitive edge in today’s job market – whether for a promotion or a new job. \nPre-registration is required to attend. \n \nRegistration ends by 24 hours the day prior to the Webinar. \nOnce you register\, you will receive the link to enter class shortly before class. Please watch for an email from  North Cook Job Center <customercare@GoToWebinar.com>\nFOR OPTIMAL USER EXPERIENCE: \n\nIt is recommended that you register with an email address from GMAIL or OUTLOOK.\nJoin the webinar using the GOOGLE CHROME browser.\nYou will receive an email from North Cook Job Center with your access link.\n\n\nIf you need to cancel\, please cancel 48 hours prior so someone else on the waiting list can use your seat.\n\n\nPLEASE do not register and then no show.\n\nThe American Job Center is committed to providing all customers with quality\, professional services as well as a safe and comfortable learning environment. The use of our resources implies acceptance of our Customer Code of Conduct\, which is based on the principle of respect for all customers and staff. READ: \nhttps://www.ajcwheeling.com/wp-content/uploads/2020/08/Customer-Code-of-Conduct-handout.pdf \nQUESTIONS? EMAIL: contact@bcsillinois.org
URL:https://www.ajcwheeling.com/event/excel-conditional-tools-if-functions-data-validation-virtual-class-5/
CATEGORIES:Computer workshop
ATTACH;FMTTYPE=image/jpeg:https://www.ajcwheeling.com/wp-content/uploads/2023/02/baaac6e35e8233dc874f834e12158ef7.jpg
ORGANIZER;CN="Business%20and%20Career%20Services%20Inc.":MAILTO:contact@bcsillinois.org
END:VEVENT
BEGIN:VEVENT
DTSTART;TZID=America/Chicago:20250319T140000
DTEND;TZID=America/Chicago:20250319T150000
DTSTAMP:20260422T132637
CREATED:20250218T204415Z
LAST-MODIFIED:20250218T204415Z
UID:10005975-1742392800-1742396400@www.ajcwheeling.com
SUMMARY:Job Search Strategy 101  (In Person)
DESCRIPTION:Location: 1400 S Wolf Road\, Building 200\, Wheeling\, IL 60090 \nLearn from someone who understands the job search journey and the challenges you are facing. During this in-person and interactive session\, participants will learn how to organize their job search with guidance through a Peer Counselor. \nThis sessions will include: \n\nAn introduction to job search tools and platforms\, job boards or company websites\nTips on how to organize your job search\, track applications\, set goals and manage time to stay motivated and efficient\nInstructions on how to refine your job search approach\n\n\n\n\n \nWorkshop Location: 1400 S Wolf Road\, Building 200\, Wheeling\, IL 60090 (American Job Center in Wheeling). ONE block south of Palatine-Willow Road & Wolf Road. WEST side of Wolf Road. Ample free parking in front. \n  \nIMPORTANT: For additional job fairs\, free workshops and free computer classes\, visit northcookjobcenter.com/events/ \nBCS is committed to providing all customers with quality\, professional services as well as a safe and comfortable learning environment. The use of our resources (in person or virtual) implies acceptance of our Customer Code of Conduct (see attached Code of Conduct)\, which is based on the principle of respect for all customers and staff. https://www.ajcwheeling.com/wp-content/uploads/2020/08/Customer-Code-of-Conduct-handout.pdf \nOur agency is an equal opportunity employer/program. Auxiliary aids and services are available upon request to individuals with disabilities. Funding for this program is made possible through a grant provided by the Chicago Cook Workforce Partnership. This workforce product was funded by a grant awarded by the U.S. Department of Labor’s Employment and Training Administration. For more information please visit ChiCookWorks.org/DOL-Funding \nQuestions? Email: contact@bcsillinois.org
URL:https://www.ajcwheeling.com/event/job-search-strategy-101-in-person-6/
LOCATION:American Job Center in Wheeling\, 1400 South Wolf Road\, Building 200\, Suite 200\, Wheeling\, IL\, 60090\, United States
CATEGORIES:Job Search Workshop
ATTACH;FMTTYPE=image/png:https://www.ajcwheeling.com/wp-content/uploads/2025/02/Are-You-Ready-Green-Graphic.png
ORGANIZER;CN="Business%20and%20Career%20Services%20Inc.":MAILTO:contact@bcsillinois.org
END:VEVENT
END:VCALENDAR